PDS_VERSION_ID = PDS3
/* FILE DATA ELEMENTS */
RECORD_TYPE = UNDEFINED
/* POINTERS TO DATA OBJECTS */
^IMAGE = ("HQ240_0000_P14.TIF")
/* IDENTIFICATION DATA ELEMENTS */
DATA_SET_ID = "MEX-M-HRSC-4-REFDR-MAPPROJECT-EXT9-V4.0"
DATA_SET_NAME = "MARS EXPRESS HRSC MAP PROJECTED REFDR EXTENSION9 V4.0"
DETECTOR_ID = MEX_HRSC_P1
EVENT_TYPE = "MARS-REGIONAL-MAPPING-Im-Fl-Eo"
INSTRUMENT_HOST_ID = MEX
INSTRUMENT_HOST_NAME = "MARS EXPRESS"
INSTRUMENT_ID = HRSC
INSTRUMENT_NAME = "HIGH RESOLUTION STEREO CAMERA"
MISSION_NAME = "MARS EXPRESS"
MISSION_PHASE_NAME = ME_Phase_50
PROCESSING_LEVEL_ID = 4
PRODUCT_CREATION_TIME = 2025-01-29T08:28:47.000Z
PRODUCT_ID = "HQ240_0000_P14.TIF"
RELEASE_ID = 0020
REVISION_ID = 0000
/* QUALITY DATA ELEMENTS */
DATA_QUALITY_ID = 1
DATA_QUALITY_DESC = "Data calculated based on original SPICE kernels"
/* TIME DATA ELEMENTS */
SPACECRAFT_CLOCK_START_COUNT = "1/0677015329.00358"
SPACECRAFT_CLOCK_STOP_COUNT = "1/0677015581.25448"
START_TIME = 2024-10-14T19:49:54.578Z
STOP_TIME = 2024-10-14T19:52:16.278Z
/* ORBITAL DATA ELEMENTS */
ASCENDING_NODE_LONGITUDE = 88.37
MAXIMUM_RESOLUTION = 0.0373
FOOTPRINT_POINT_LATITUDE = (14.3748,14.3771,14.3778,14.378,14.3776 ,14.376,14.3759,14.3622,14.0304,13.6924 ,13.3571,13.0301,12.6935,12.3526, 12.1816,11.9253,11.6694,11.4984,11.327, 11.0649,10.89,10.7159,10.5417,10.3673, 10.1931,10.0159,9.83816,9.6607,9.4836, 9.3057,9.03945,8.76726,8.58616,8.40532, 8.22408,8.04318,7.86021,7.67627,7.49179 ,7.30779,7.03207,6.75097,6.56276, 6.37477,6.18776,6.00103,5.80755,5.61299 ,5.51598,5.4913,5.49063,5.48816,5.49138 ,5.48662,5.48165,5.48139,5.48199, 5.67316,5.86485,6.05418,6.24168,6.42973 ,6.61903,6.80763,6.99551,7.17978, 7.36438,7.54892,7.8246,8.00881,8.18992, 8.37132,8.55279,8.73439,8.91626,9.18618 ,9.36436,9.54194,9.72,9.98677,10.1639, 10.338,10.5994,10.8618,11.0367,11.2114, 11.3854,11.5567,11.813,12.1551,12.3263, 12.4982,12.6694,13.0046,13.4239,13.7591 ,14.0106,14.2567,14.3388,14.3748)
FOOTPRINT_POINT_LONGITUDE = (351.544,351.121,350.853,350.601, 350.348,349.935,349.919,349.905,349.895 ,349.886,349.879,349.877,349.868,349.86 ,349.856,349.85,349.844,349.84,349.836, 349.829,349.824,349.82,349.815,349.811, 349.806,349.801,349.796,349.791,349.787 ,349.782,349.774,349.766,349.761, 349.755,349.75,349.744,349.739,349.733, 349.728,349.722,349.714,349.704,349.698 ,349.691,349.685,349.68,349.672,349.663 ,349.659,349.658,349.895,350.296, 350.642,351.093,351.507,351.525,351.531 ,351.531,351.532,351.532,351.532, 351.533,351.533,351.533,351.533,351.533 ,351.533,351.534,351.535,351.535, 351.535,351.536,351.536,351.536,351.536 ,351.537,351.537,351.537,351.538, 351.538,351.539,351.539,351.54,351.54, 351.541,351.541,351.542,351.542,351.543 ,351.544,351.544,351.544,351.544, 351.545,351.546,351.547,351.548,351.549 ,351.549,351.544)
ORBIT_NUMBER = 26240
ORBITAL_ECCENTRICITY = 0.57
ORBITAL_INCLINATION = 87.1
ORBITAL_SEMIMAJOR_AXIS = 8819.47
PERIAPSIS_ALTITUDE = 398.07
PERIAPSIS_ARGUMENT_ANGLE = 147.34
PERIAPSIS_TIME = 2024-10-14T19:45:31.000Z
SPACECRAFT_ORIENTATION = (0.0,-1.0,0.0)
^MEX_ORIENTATION_DESC = "MEX_ORIENTATION_DESC.TXT"
SPACECRAFT_POINTING_MODE = ACROSSTRACK
^MEX_POINTING_DESC = "MEX_POINTING_DESC.TXT"
RIGHT_ASCENSION = -1e+32
DECLINATION = -1e+32
OFFSET_ANGLE = -0.269
SPACECRAFT_SOLAR_DISTANCE = 2.27517e+08
TARGET_NAME = MARS
/* CAMERA DATA ELEMENTS */
DETECTOR_TEMPERATURE = 16.9432
FOCAL_PLANE_TEMPERATURE = 8.5833
INST_CMPRS_NAME = "DISCRETE COSINE TRANSFORMATION (DCT)"
INST_CMPRS_RATIO = 7.70711
INST_CMPRS_QUALITY = 0
INST_CMPRS_QUANTZ_TBL_ID = 0
INSTRUMENT_TEMPERATURE = 11.234
LENS_TEMPERATURE = 8.5833
MACROPIXEL_SIZE = 2
MISSING_FRAMES = 0
PIXEL_SUBSAMPLING_FLAG = N
SIGNAL_CHAIN_ID = 3
/* RADIOMETRIC DATA ELEMENTS */
BANDWIDTH = 174.0
CENTER_FILTER_WAVELENGTH = 675.0
RADIANCE_OFFSET = 3.95544
RADIANCE_SCALING_FACTOR = 0.0169478
REFLECTANCE_SCALING_FACTOR = 0.000471875
MEX:REFLECTANCE_OFFSET = 0.110131
/* IMAGE OBJECT DEFINITIONS */
OBJECT = IMAGE
  INTERCHANGE_FORMAT = BINARY
  LINES = 21107
  LINE_SAMPLES = 4714
  SAMPLE_TYPE = UNSIGNED_INTEGER
  SAMPLE_BITS = 8
  BANDS = 1
  BAND_STORAGE_TYPE = BAND_SEQUENTIAL
  MAXIMUM = 255
  MEAN = 104.127
  MINIMUM = 1
  STANDARD_DEVIATION = 34.6664
END_OBJECT = IMAGE
/* MAP OBJECT DEFINITIONS */
OBJECT = IMAGE_MAP_PROJECTION
  ^DATA_SET_MAP_PROJECTION_CATALOG= "DSMAP.CAT"
  A_AXIS_RADIUS = 3396.0
  B_AXIS_RADIUS = 3396.0
  C_AXIS_RADIUS = 3396.0
  CENTER_LATITUDE = 0.0
  CENTER_LONGITUDE = 351.0
  COORDINATE_SYSTEM_NAME = PLANETOGRAPHIC
  COORDINATE_SYSTEM_TYPE = "BODY-FIXED ROTATING"
  EASTERNMOST_LONGITUDE = 351.549
  FIRST_STANDARD_PARALLEL = "N/A"
  LINE_FIRST_PIXEL = 1
  LINE_LAST_PIXEL = 21107
  LINE_PROJECTION_OFFSET = 34113.25
  MAP_PROJECTION_ROTATION = 0.0
  MAP_PROJECTION_TYPE = SINUSOIDAL
  MAP_RESOLUTION = 2370.85521546667
  MAP_SCALE = 0.025
  MAXIMUM_LATITUDE = 14.378
  MINIMUM_LATITUDE = 5.48139
  POSITIVE_LONGITUDE_DIRECTION = EAST
  REFERENCE_LATITUDE = "N/A"
  REFERENCE_LONGITUDE = "N/A"
  SAMPLE_FIRST_PIXEL = 1
  SAMPLE_LAST_PIXEL = 4714
  SAMPLE_PROJECTION_OFFSET = 3329.25
  SECOND_STANDARD_PARALLEL = "N/A"
  WESTERNMOST_LONGITUDE = 349.658
END_OBJECT = IMAGE_MAP_PROJECTION
END
