PDS_VERSION_ID = PDS3
/* FILE DATA ELEMENTS */
RECORD_TYPE = UNDEFINED
/* POINTERS TO DATA OBJECTS */
^IMAGE = ("HQ239_0000_IR4.TIF")
/* IDENTIFICATION DATA ELEMENTS */
DATA_SET_ID = "MEX-M-HRSC-4-REFDR-MAPPROJECT-EXT9-V4.0"
DATA_SET_NAME = "MARS EXPRESS HRSC MAP PROJECTED REFDR EXTENSION9 V4.0"
DETECTOR_ID = MEX_HRSC_IR
EVENT_TYPE = "MARS-REGIONAL-MAPPING-Vo-Im-Eo"
INSTRUMENT_HOST_ID = MEX
INSTRUMENT_HOST_NAME = "MARS EXPRESS"
INSTRUMENT_ID = HRSC
INSTRUMENT_NAME = "HIGH RESOLUTION STEREO CAMERA"
MISSION_NAME = "MARS EXPRESS"
MISSION_PHASE_NAME = ME_Phase_50
PROCESSING_LEVEL_ID = 4
PRODUCT_CREATION_TIME = 2025-01-29T08:28:47.000Z
PRODUCT_ID = "HQ239_0000_IR4.TIF"
RELEASE_ID = 0020
REVISION_ID = 0000
/* QUALITY DATA ELEMENTS */
DATA_QUALITY_ID = 1
DATA_QUALITY_DESC = "Data calculated based on original SPICE kernels"
/* TIME DATA ELEMENTS */
SPACECRAFT_CLOCK_START_COUNT = "1/0676989819.64152"
SPACECRAFT_CLOCK_STOP_COUNT = "1/0676990087.56782"
START_TIME = 2024-10-14T12:44:37.975Z
STOP_TIME = 2024-10-14T12:47:48.669Z
/* ORBITAL DATA ELEMENTS */
ASCENDING_NODE_LONGITUDE = 88.38
MAXIMUM_RESOLUTION = 0.0668
FOOTPRINT_POINT_LATITUDE = (37.514,37.5107,37.5032,37.4939,37.4935 ,37.437,36.9652,36.3743,35.7823,35.5453 ,35.1889,34.9514,34.7137,34.3565, 34.1182,33.7604,33.5218,33.2832,32.9247 ,32.6854,32.4463,32.0867,31.8469, 31.6069,31.2468,31.0067,30.7666,30.5261 ,30.2852,29.9241,29.6834,29.4421, 29.2007,28.9596,28.7183,28.4771,28.2355 ,27.9938,27.6311,27.3892,27.0265, 26.7843,26.5421,26.1789,25.9366,25.5735 ,25.4526,25.3738,25.3758,25.3765,25.375 ,25.372,25.3719,25.3729,25.6157,25.8583 ,26.101,26.3436,26.7075,26.9501,27.3137 ,27.5561,27.7977,28.0398,28.4027, 28.6447,29.0072,29.2489,29.4903,29.7318 ,30.0939,30.335,30.5761,30.8167,31.0575 ,31.298,31.5379,31.7784,32.019,32.259, 32.4988,32.7386,32.9781,33.2178,33.4572 ,33.6964,34.0547,34.2935,34.5321, 34.7704,35.1279,35.3659,35.6038,35.8414 ,36.0791,36.5534,36.9087,37.2635, 37.3817,37.514)
FOOTPRINT_POINT_LONGITUDE = (94.06,93.4169,92.8071,92.3122,92.2957, 92.2679,92.284,92.303,92.3209,92.3278, 92.3375,92.3439,92.3501,92.3589,92.3646 ,92.3728,92.378,92.3832,92.3905,92.3951 ,92.3997,92.406,92.41,92.4139,92.4194, 92.4229,92.4263,92.4295,92.4324,92.4367 ,92.4394,92.4417,92.444,92.4462,92.4483 ,92.4502,92.4519,92.4535,92.4556, 92.4568,92.4585,92.4593,92.4601,92.461, 92.4614,92.462,92.4622,92.4622,92.7674, 93.0732,93.5688,94.0062,94.0208,94.0257 ,94.027,94.0284,94.0297,94.031,94.033, 94.0343,94.0362,94.0375,94.039,94.0403, 94.0423,94.0435,94.0455,94.0468,94.0481 ,94.0494,94.0512,94.0525,94.0537,94.055 ,94.0563,94.0576,94.0591,94.0602, 94.0613,94.0626,94.0638,94.065,94.0663, 94.0674,94.0685,94.0697,94.0715,94.0726 ,94.0738,94.0749,94.0765,94.0776, 94.0786,94.0797,94.0806,94.0827,94.0842 ,94.0857,94.0861,94.06)
ORBIT_NUMBER = 26239
ORBITAL_ECCENTRICITY = 0.571
ORBITAL_INCLINATION = 87.11
ORBITAL_SEMIMAJOR_AXIS = 8827.73
PERIAPSIS_ALTITUDE = 397.02
PERIAPSIS_ARGUMENT_ANGLE = 147.52
PERIAPSIS_TIME = 2024-10-14T12:46:27.000Z
SPACECRAFT_ORIENTATION = (0.0,-1.0,0.0)
^MEX_ORIENTATION_DESC = "MEX_ORIENTATION_DESC.TXT"
SPACECRAFT_POINTING_MODE = NADIR
^MEX_POINTING_DESC = "MEX_POINTING_DESC.TXT"
RIGHT_ASCENSION = -1e+32
DECLINATION = -1e+32
OFFSET_ANGLE = -1e+32
SPACECRAFT_SOLAR_DISTANCE = 2.2746e+08
TARGET_NAME = MARS
/* CAMERA DATA ELEMENTS */
DETECTOR_TEMPERATURE = 17.351
FOCAL_PLANE_TEMPERATURE = 8.5833
INST_CMPRS_NAME = "DISCRETE COSINE TRANSFORMATION (DCT)"
INST_CMPRS_RATIO = 10.2467
INST_CMPRS_QUALITY = 0
INST_CMPRS_QUANTZ_TBL_ID = 0
INSTRUMENT_TEMPERATURE = 10.4184
LENS_TEMPERATURE = 8.5833
MACROPIXEL_SIZE = 4
MISSING_FRAMES = 0
PIXEL_SUBSAMPLING_FLAG = N
SIGNAL_CHAIN_ID = 2
/* RADIOMETRIC DATA ELEMENTS */
BANDWIDTH = 81.0
CENTER_FILTER_WAVELENGTH = 955.5
RADIANCE_OFFSET = 0.720967
RADIANCE_SCALING_FACTOR = 0.00376976
REFLECTANCE_SCALING_FACTOR = 0.000420776
MEX:REFLECTANCE_OFFSET = 0.0804733
/* IMAGE OBJECT DEFINITIONS */
OBJECT = IMAGE
  INTERCHANGE_FORMAT = BINARY
  LINES = 14324
  LINE_SAMPLES = 1831
  SAMPLE_TYPE = UNSIGNED_INTEGER
  SAMPLE_BITS = 8
  BANDS = 1
  BAND_STORAGE_TYPE = BAND_SEQUENTIAL
  MAXIMUM = 255
  MEAN = 123.498
  MINIMUM = 1
  STANDARD_DEVIATION = 54.5366
END_OBJECT = IMAGE
/* MAP OBJECT DEFINITIONS */
OBJECT = IMAGE_MAP_PROJECTION
  ^DATA_SET_MAP_PROJECTION_CATALOG= "DSMAP.CAT"
  A_AXIS_RADIUS = 3396.0
  B_AXIS_RADIUS = 3396.0
  C_AXIS_RADIUS = 3396.0
  CENTER_LATITUDE = 0.0
  CENTER_LONGITUDE = 93.0
  COORDINATE_SYSTEM_NAME = PLANETOGRAPHIC
  COORDINATE_SYSTEM_TYPE = "BODY-FIXED ROTATING"
  EASTERNMOST_LONGITUDE = 94.0861
  FIRST_STANDARD_PARALLEL = "N/A"
  LINE_FIRST_PIXEL = 1
  LINE_LAST_PIXEL = 14324
  LINE_PROJECTION_OFFSET = 44423.125
  MAP_PROJECTION_ROTATION = 0.0
  MAP_PROJECTION_TYPE = SINUSOIDAL
  MAP_RESOLUTION = 1185.42760773333
  MAP_SCALE = 0.05
  MAXIMUM_LATITUDE = 37.514
  MINIMUM_LATITUDE = 25.3719
  POSITIVE_LONGITUDE_DIRECTION = EAST
  REFERENCE_LATITUDE = "N/A"
  REFERENCE_LONGITUDE = "N/A"
  SAMPLE_FIRST_PIXEL = 1
  SAMPLE_LAST_PIXEL = 1831
  SAMPLE_PROJECTION_OFFSET = 702.875
  SECOND_STANDARD_PARALLEL = "N/A"
  WESTERNMOST_LONGITUDE = 92.2679
END_OBJECT = IMAGE_MAP_PROJECTION
END
