PDS_VERSION_ID = PDS3
/* FILE DATA ELEMENTS */
RECORD_TYPE = UNDEFINED
/* POINTERS TO DATA OBJECTS */
^IMAGE = ("HQ239_0000_GR4.TIF")
/* IDENTIFICATION DATA ELEMENTS */
DATA_SET_ID = "MEX-M-HRSC-4-REFDR-MAPPROJECT-EXT9-V4.0"
DATA_SET_NAME = "MARS EXPRESS HRSC MAP PROJECTED REFDR EXTENSION9 V4.0"
DETECTOR_ID = MEX_HRSC_GREEN
EVENT_TYPE = "MARS-REGIONAL-MAPPING-Vo-Im-Eo"
INSTRUMENT_HOST_ID = MEX
INSTRUMENT_HOST_NAME = "MARS EXPRESS"
INSTRUMENT_ID = HRSC
INSTRUMENT_NAME = "HIGH RESOLUTION STEREO CAMERA"
MISSION_NAME = "MARS EXPRESS"
MISSION_PHASE_NAME = ME_Phase_50
PROCESSING_LEVEL_ID = 4
PRODUCT_CREATION_TIME = 2025-01-29T08:28:47.000Z
PRODUCT_ID = "HQ239_0000_GR4.TIF"
RELEASE_ID = 0020
REVISION_ID = 0000
/* QUALITY DATA ELEMENTS */
DATA_QUALITY_ID = 1
DATA_QUALITY_DESC = "Data calculated based on original SPICE kernels"
/* TIME DATA ELEMENTS */
SPACECRAFT_CLOCK_START_COUNT = "1/0676989819.64152"
SPACECRAFT_CLOCK_STOP_COUNT = "1/0676990087.56782"
START_TIME = 2024-10-14T12:45:02.856Z
STOP_TIME = 2024-10-14T12:48:12.919Z
/* ORBITAL DATA ELEMENTS */
ASCENDING_NODE_LONGITUDE = 88.38
MAXIMUM_RESOLUTION = 0.064
FOOTPRINT_POINT_LATITUDE = (37.4829,37.4812,37.4789,37.4728, 37.4666,37.4663,37.4547,36.9756,36.4961 ,36.0163,35.5363,35.0559,34.5752, 34.3348,34.0943,33.8538,33.4928,33.2522 ,33.0116,32.7708,32.4097,32.1688,31.928 ,31.5666,31.3257,31.0848,30.7234, 30.4825,30.2415,29.88,29.5186,29.2776, 29.0366,28.7957,28.4344,28.1935,27.9526 ,27.7118,27.4709,27.2302,26.9895, 26.7487,26.5081,26.2675,26.0269,25.5461 ,25.4259,25.3878,25.3885,25.3876, 25.3862,25.3837,25.3836,25.3845,25.6253 ,25.8661,26.107,26.348,26.589,26.83, 27.0711,27.3123,27.5534,27.7945,28.0357 ,28.277,28.6389,28.8802,29.1216,29.3629 ,29.6042,29.8456,30.2077,30.449,30.811, 31.0524,31.4143,31.7763,32.0176,32.2589 ,32.5001,32.7413,32.9824,33.2236, 33.4647,33.7058,33.9468,34.1877,34.4286 ,34.6695,34.9103,35.1511,35.3918, 35.6324,35.873,36.3539,36.8344,37.3147, 37.4347,37.4829)
FOOTPRINT_POINT_LONGITUDE = (94.045,93.6067,93.282,92.7307,92.3247, 92.3084,92.2795,92.2951,92.3098,92.3238 ,92.3371,92.3494,92.3612,92.3667,92.372 ,92.3772,92.3846,92.3895,92.3941, 92.3985,92.4049,92.4088,92.4126,92.4179 ,92.4213,92.4245,92.4292,92.4321, 92.4347,92.4384,92.4418,92.4438,92.4457 ,92.4475,92.45,92.4514,92.4526,92.4537, 92.4547,92.4556,92.4564,92.4569,92.4573 ,92.4577,92.4579,92.4581,92.4581,92.458 ,92.7792,93.3349,93.6426,94.0087, 94.0233,94.0282,94.0293,94.0303,94.0313 ,94.0323,94.0333,94.0343,94.0352, 94.0362,94.0372,94.0384,94.0394,94.0404 ,94.0418,94.0428,94.0438,94.0447, 94.0457,94.0466,94.048,94.0489,94.0504, 94.0512,94.0528,94.0542,94.0549,94.0558 ,94.0567,94.0575,94.0584,94.0591, 94.0599,94.0607,94.0616,94.0623,94.0631 ,94.0639,94.0645,94.0652,94.0659, 94.0665,94.0671,94.0683,94.0695,94.0704 ,94.0706,94.045)
ORBIT_NUMBER = 26239
ORBITAL_ECCENTRICITY = 0.571
ORBITAL_INCLINATION = 87.11
ORBITAL_SEMIMAJOR_AXIS = 8827.73
PERIAPSIS_ALTITUDE = 397.02
PERIAPSIS_ARGUMENT_ANGLE = 147.52
PERIAPSIS_TIME = 2024-10-14T12:46:27.000Z
SPACECRAFT_ORIENTATION = (0.0,-1.0,0.0)
^MEX_ORIENTATION_DESC = "MEX_ORIENTATION_DESC.TXT"
SPACECRAFT_POINTING_MODE = NADIR
^MEX_POINTING_DESC = "MEX_POINTING_DESC.TXT"
RIGHT_ASCENSION = -1e+32
DECLINATION = -1e+32
OFFSET_ANGLE = -1e+32
SPACECRAFT_SOLAR_DISTANCE = 2.2746e+08
TARGET_NAME = MARS
/* CAMERA DATA ELEMENTS */
DETECTOR_TEMPERATURE = 17.351
FOCAL_PLANE_TEMPERATURE = 8.5833
INST_CMPRS_NAME = "DISCRETE COSINE TRANSFORMATION (DCT)"
INST_CMPRS_RATIO = 19.3642
INST_CMPRS_QUALITY = 0
INST_CMPRS_QUANTZ_TBL_ID = 0
INSTRUMENT_TEMPERATURE = 10.4184
LENS_TEMPERATURE = 8.5833
MACROPIXEL_SIZE = 4
MISSING_FRAMES = 0
PIXEL_SUBSAMPLING_FLAG = N
SIGNAL_CHAIN_ID = 2
/* RADIOMETRIC DATA ELEMENTS */
BANDWIDTH = 88.0
CENTER_FILTER_WAVELENGTH = 538.0
RADIANCE_OFFSET = 1.18563
RADIANCE_SCALING_FACTOR = 0.00307691
REFLECTANCE_SCALING_FACTOR = 0.000137062
MEX:REFLECTANCE_OFFSET = 0.0528144
/* IMAGE OBJECT DEFINITIONS */
OBJECT = IMAGE
  INTERCHANGE_FORMAT = BINARY
  LINES = 14324
  LINE_SAMPLES = 1831
  SAMPLE_TYPE = UNSIGNED_INTEGER
  SAMPLE_BITS = 8
  BANDS = 1
  BAND_STORAGE_TYPE = BAND_SEQUENTIAL
  MAXIMUM = 255
  MEAN = 126.99
  MINIMUM = 1
  STANDARD_DEVIATION = 45.1127
END_OBJECT = IMAGE
/* MAP OBJECT DEFINITIONS */
OBJECT = IMAGE_MAP_PROJECTION
  ^DATA_SET_MAP_PROJECTION_CATALOG= "DSMAP.CAT"
  A_AXIS_RADIUS = 3396.0
  B_AXIS_RADIUS = 3396.0
  C_AXIS_RADIUS = 3396.0
  CENTER_LATITUDE = 0.0
  CENTER_LONGITUDE = 93.0
  COORDINATE_SYSTEM_NAME = PLANETOGRAPHIC
  COORDINATE_SYSTEM_TYPE = "BODY-FIXED ROTATING"
  EASTERNMOST_LONGITUDE = 94.0706
  FIRST_STANDARD_PARALLEL = "N/A"
  LINE_FIRST_PIXEL = 1
  LINE_LAST_PIXEL = 14324
  LINE_PROJECTION_OFFSET = 44423.125
  MAP_PROJECTION_ROTATION = 0.0
  MAP_PROJECTION_TYPE = SINUSOIDAL
  MAP_RESOLUTION = 1185.42760773333
  MAP_SCALE = 0.05
  MAXIMUM_LATITUDE = 37.4829
  MINIMUM_LATITUDE = 25.3836
  POSITIVE_LONGITUDE_DIRECTION = EAST
  REFERENCE_LATITUDE = "N/A"
  REFERENCE_LONGITUDE = "N/A"
  SAMPLE_FIRST_PIXEL = 1
  SAMPLE_LAST_PIXEL = 1831
  SAMPLE_PROJECTION_OFFSET = 702.875
  SECOND_STANDARD_PARALLEL = "N/A"
  WESTERNMOST_LONGITUDE = 92.2795
END_OBJECT = IMAGE_MAP_PROJECTION
END
