PDS_VERSION_ID = PDS3
/* FILE DATA ELEMENTS */
RECORD_TYPE = UNDEFINED
/* POINTERS TO DATA OBJECTS */
^IMAGE = ("HQ237_0000_S14.TIF")
/* IDENTIFICATION DATA ELEMENTS */
DATA_SET_ID = "MEX-M-HRSC-4-REFDR-MAPPROJECT-EXT9-V4.0"
DATA_SET_NAME = "MARS EXPRESS HRSC MAP PROJECTED REFDR EXTENSION9 V4.0"
DETECTOR_ID = MEX_HRSC_S1
EVENT_TYPE = "MARS-REGIONAL-STEREO-Vo-Fl-Gl"
INSTRUMENT_HOST_ID = MEX
INSTRUMENT_HOST_NAME = "MARS EXPRESS"
INSTRUMENT_ID = HRSC
INSTRUMENT_NAME = "HIGH RESOLUTION STEREO CAMERA"
MISSION_NAME = "MARS EXPRESS"
MISSION_PHASE_NAME = ME_Phase_50
PROCESSING_LEVEL_ID = 4
PRODUCT_CREATION_TIME = 2025-01-29T08:28:47.000Z
PRODUCT_ID = "HQ237_0000_S14.TIF"
RELEASE_ID = 0020
REVISION_ID = 0000
/* QUALITY DATA ELEMENTS */
DATA_QUALITY_ID = 1
DATA_QUALITY_DESC = "Data calculated based on original SPICE kernels"
/* TIME DATA ELEMENTS */
SPACECRAFT_CLOCK_START_COUNT = "1/0676939589.00367"
SPACECRAFT_CLOCK_STOP_COUNT = "1/0676939861.57483"
START_TIME = 2024-10-13T22:47:20.435Z
STOP_TIME = 2024-10-13T22:50:33.320Z
/* ORBITAL DATA ELEMENTS */
ASCENDING_NODE_LONGITUDE = 88.42
MAXIMUM_RESOLUTION = 0.017
FOOTPRINT_POINT_LATITUDE = (33.5968,33.5967,33.5937,33.5885, 33.5838,33.5835,33.5395,33.1776,32.9358 ,32.5725,32.2088,31.8445,31.4812, 31.1157,30.8705,30.6222,30.376,30.0097, 29.7654,29.5208,29.2765,29.0315,28.7864 ,28.5412,28.2965,28.0457,27.6828, 27.4375,27.1907,26.9453,26.5739,26.3248 ,25.9551,25.5892,25.1075,24.8517, 24.6042,24.231,23.7478,23.4951,23.2403, 22.9917,22.6258,22.3802,22.141,21.8933, 21.6456,21.3976,21.2735,21.2557,21.2568 ,21.2537,21.2493,21.2491,21.2493, 21.6214,21.8701,22.2417,22.4897,22.7374 ,22.9771,23.2224,23.5889,23.9652, 24.2182,24.4567,24.7008,24.9486,25.1991 ,25.4472,25.6935,25.9388,26.1844, 26.4317,26.7997,27.0485,27.2951,27.5439 ,27.9123,28.1581,28.5269,28.7724, 29.1405,29.3857,29.6311,29.998,30.2429, 30.4871,30.8533,31.0974,31.3415,31.5854 ,31.8331,32.2012,32.4448,32.688,32.9304 ,33.4145,33.5356,33.5968)
FOOTPRINT_POINT_LONGITUDE = (298.338,297.993,297.435,296.991, 296.696,296.679,296.656,296.665,296.67, 296.677,296.684,296.691,296.697,296.703 ,296.706,296.708,296.71,296.715,296.718 ,296.721,296.723,296.726,296.728,296.73 ,296.732,296.732,296.737,296.738, 296.739,296.741,296.741,296.741,296.742 ,296.744,296.748,296.745,296.745, 296.743,296.746,296.744,296.74,296.739, 296.739,296.738,296.74,296.738,296.736, 296.734,296.733,296.733,297.206,297.74, 298.259,298.274,298.281,298.283,298.285 ,298.287,298.288,298.29,298.294,298.296 ,298.3,298.301,298.3,298.305,298.307, 298.308,298.309,298.31,298.312,298.314, 298.315,298.317,298.32,298.32,298.322, 298.322,298.325,298.326,298.328,298.33, 298.332,298.333,298.334,298.337,298.338 ,298.339,298.342,298.343,298.344, 298.346,298.346,298.347,298.348,298.349 ,298.35,298.353,298.354,298.338)
ORBIT_NUMBER = 26237
ORBITAL_ECCENTRICITY = 0.571
ORBITAL_INCLINATION = 87.1
ORBITAL_SEMIMAJOR_AXIS = 8823.26
PERIAPSIS_ALTITUDE = 397.5
PERIAPSIS_ARGUMENT_ANGLE = 147.89
PERIAPSIS_TIME = 2024-10-13T22:48:20.000Z
SPACECRAFT_ORIENTATION = (0.0,-1.0,0.0)
^MEX_ORIENTATION_DESC = "MEX_ORIENTATION_DESC.TXT"
SPACECRAFT_POINTING_MODE = NADIR
^MEX_POINTING_DESC = "MEX_POINTING_DESC.TXT"
RIGHT_ASCENSION = -1e+32
DECLINATION = -1e+32
OFFSET_ANGLE = -1e+32
SPACECRAFT_SOLAR_DISTANCE = 2.27347e+08
TARGET_NAME = MARS
/* CAMERA DATA ELEMENTS */
DETECTOR_TEMPERATURE = 16.9432
FOCAL_PLANE_TEMPERATURE = 8.7872
INST_CMPRS_NAME = "DISCRETE COSINE TRANSFORMATION (DCT)"
INST_CMPRS_RATIO = 8.23044
INST_CMPRS_QUALITY = 0
INST_CMPRS_QUANTZ_TBL_ID = 0
INSTRUMENT_TEMPERATURE = 10.6223
LENS_TEMPERATURE = 8.7872
MACROPIXEL_SIZE = 1
MISSING_FRAMES = 0
PIXEL_SUBSAMPLING_FLAG = N
SIGNAL_CHAIN_ID = 2
/* RADIOMETRIC DATA ELEMENTS */
BANDWIDTH = 180.0
CENTER_FILTER_WAVELENGTH = 677.0
RADIANCE_OFFSET = 2.60257
RADIANCE_SCALING_FACTOR = 0.0247864
REFLECTANCE_SCALING_FACTOR = 0.000668393
MEX:REFLECTANCE_OFFSET = 0.0701813
/* IMAGE OBJECT DEFINITIONS */
OBJECT = IMAGE
  INTERCHANGE_FORMAT = BINARY
  LINES = 58345
  LINE_SAMPLES = 7258
  SAMPLE_TYPE = UNSIGNED_INTEGER
  SAMPLE_BITS = 8
  BANDS = 1
  BAND_STORAGE_TYPE = BAND_SEQUENTIAL
  MAXIMUM = 255
  MEAN = 68.7175
  MINIMUM = 1
  STANDARD_DEVIATION = 35.5558
END_OBJECT = IMAGE
/* MAP OBJECT DEFINITIONS */
OBJECT = IMAGE_MAP_PROJECTION
  ^DATA_SET_MAP_PROJECTION_CATALOG= "DSMAP.CAT"
  A_AXIS_RADIUS = 3396.0
  B_AXIS_RADIUS = 3396.0
  C_AXIS_RADIUS = 3396.0
  CENTER_LATITUDE = 0.0
  CENTER_LONGITUDE = 298.0
  COORDINATE_SYSTEM_NAME = PLANETOGRAPHIC
  COORDINATE_SYSTEM_TYPE = "BODY-FIXED ROTATING"
  EASTERNMOST_LONGITUDE = 298.354
  FIRST_STANDARD_PARALLEL = "N/A"
  LINE_FIRST_PIXEL = 1
  LINE_LAST_PIXEL = 58345
  LINE_PROJECTION_OFFSET = 159161.0
  MAP_PROJECTION_ROTATION = 0.0
  MAP_PROJECTION_TYPE = SINUSOIDAL
  MAP_RESOLUTION = 4741.71043093333
  MAP_SCALE = 0.0125
  MAXIMUM_LATITUDE = 33.5968
  MINIMUM_LATITUDE = 21.2491
  POSITIVE_LONGITUDE_DIRECTION = EAST
  REFERENCE_LATITUDE = "N/A"
  REFERENCE_LONGITUDE = "N/A"
  SAMPLE_FIRST_PIXEL = 1
  SAMPLE_LAST_PIXEL = 7258
  SAMPLE_PROJECTION_OFFSET = 5795.0
  SECOND_STANDARD_PARALLEL = "N/A"
  WESTERNMOST_LONGITUDE = 296.656
END_OBJECT = IMAGE_MAP_PROJECTION
END
