PDS_VERSION_ID = PDS3
/* FILE DATA ELEMENTS */
RECORD_TYPE = UNDEFINED
/* POINTERS TO DATA OBJECTS */
^IMAGE = ("HQ236_0000_IR4.TIF")
/* IDENTIFICATION DATA ELEMENTS */
DATA_SET_ID = "MEX-M-HRSC-4-REFDR-MAPPROJECT-EXT9-V4.0"
DATA_SET_NAME = "MARS EXPRESS HRSC MAP PROJECTED REFDR EXTENSION9 V4.0"
DETECTOR_ID = MEX_HRSC_IR
EVENT_TYPE = "MARS-REGIONAL-MAPPING-Im-Fl-Gl"
INSTRUMENT_HOST_ID = MEX
INSTRUMENT_HOST_NAME = "MARS EXPRESS"
INSTRUMENT_ID = HRSC
INSTRUMENT_NAME = "HIGH RESOLUTION STEREO CAMERA"
MISSION_NAME = "MARS EXPRESS"
MISSION_PHASE_NAME = ME_Phase_50
PROCESSING_LEVEL_ID = 4
PRODUCT_CREATION_TIME = 2025-01-29T08:28:47.000Z
PRODUCT_ID = "HQ236_0000_IR4.TIF"
RELEASE_ID = 0020
REVISION_ID = 0000
/* QUALITY DATA ELEMENTS */
DATA_QUALITY_ID = 1
DATA_QUALITY_DESC = "Data calculated based on original SPICE kernels"
/* TIME DATA ELEMENTS */
SPACECRAFT_CLOCK_START_COUNT = "1/0676914371.64177"
SPACECRAFT_CLOCK_STOP_COUNT = "1/0676914629.37619"
START_TIME = 2024-10-13T15:47:09.960Z
STOP_TIME = 2024-10-13T15:50:11.055Z
/* ORBITAL DATA ELEMENTS */
ASCENDING_NODE_LONGITUDE = 88.43
MAXIMUM_RESOLUTION = 0.0663
FOOTPRINT_POINT_LATITUDE = (37.6726,37.6692,37.6614,37.6518, 37.6515,37.6112,36.9436,36.7189,36.4944 ,36.2693,36.0446,35.8199,35.3725, 35.1475,34.9215,34.6965,34.4712,34.2449 ,34.0189,33.7926,33.567,33.3404,33.1125 ,32.7715,32.5437,32.3175,32.0886, 31.8613,31.6345,31.4062,31.1782,30.8367 ,30.4936,30.1492,29.9233,29.6947, 29.4663,29.2374,29.0082,28.7794,28.5493 ,28.3193,28.0896,27.8593,27.6295, 27.2857,27.0567,26.827,26.5979,26.3632, 26.2449,26.1744,26.1782,26.1866,26.1854 ,26.1839,26.1838,26.1848,26.6451,26.875 ,27.2191,27.4491,27.794,28.0235,28.2538 ,28.4827,28.7131,28.9424,29.2866, 29.5163,29.857,30.0892,30.4324,30.6615, 30.8893,31.1181,31.4602,31.6886,32.0294 ,32.2598,32.602,32.83,33.0571,33.5036, 33.7312,33.9584,34.2967,34.5232,34.8628 ,35.0938,35.4364,35.6614,35.9976, 36.2226,36.4473,36.6719,37.1205,37.4569 ,37.5691,37.6726)
FOOTPRINT_POINT_LONGITUDE = (40.5128,39.8638,39.2485,38.7491, 38.7325,38.7115,38.7363,38.7435,38.7507 ,38.7574,38.7643,38.7711,38.7852, 38.7915,38.7973,38.8035,38.8095,38.8149 ,38.8203,38.8256,38.831,38.8359,38.8402 ,38.8468,38.8509,38.8556,38.859,38.8631 ,38.8672,38.8706,38.8741,38.8793, 38.8837,38.8873,38.8911,38.8937,38.8964 ,38.8987,38.9007,38.9029,38.9045,38.906 ,38.9075,38.9087,38.91,38.9121,38.9135, 38.9145,38.9157,38.9145,38.9135,38.9137 ,39.2045,39.5251,39.9166,40.4528, 40.4673,40.4721,40.4748,40.4762,40.4785 ,40.4798,40.4817,40.4831,40.4841, 40.4856,40.4865,40.4879,40.4896,40.4906 ,40.4937,40.4936,40.4954,40.4964, 40.4979,40.499,40.5009,40.502,40.5043, 40.5043,40.5057,40.5066,40.5078,40.5135 ,40.5143,40.5152,40.5176,40.5186,40.52, 40.5188,40.5186,40.5198,40.5222,40.5232 ,40.5243,40.5253,40.5275,40.5288, 40.5291,40.5128)
ORBIT_NUMBER = 26236
ORBITAL_ECCENTRICITY = 0.571
ORBITAL_INCLINATION = 87.1
ORBITAL_SEMIMAJOR_AXIS = 8826.85
PERIAPSIS_ALTITUDE = 397.4
PERIAPSIS_ARGUMENT_ANGLE = 148.06
PERIAPSIS_TIME = 2024-10-13T15:49:11.000Z
SPACECRAFT_ORIENTATION = (0.0,-1.0,0.0)
^MEX_ORIENTATION_DESC = "MEX_ORIENTATION_DESC.TXT"
SPACECRAFT_POINTING_MODE = NADIR
^MEX_POINTING_DESC = "MEX_POINTING_DESC.TXT"
RIGHT_ASCENSION = -1e+32
DECLINATION = -1e+32
OFFSET_ANGLE = -1e+32
SPACECRAFT_SOLAR_DISTANCE = 2.2729e+08
TARGET_NAME = MARS
/* CAMERA DATA ELEMENTS */
DETECTOR_TEMPERATURE = 17.1471
FOCAL_PLANE_TEMPERATURE = 8.3794
INST_CMPRS_NAME = "DISCRETE COSINE TRANSFORMATION (DCT)"
INST_CMPRS_RATIO = 10.7189
INST_CMPRS_QUALITY = 0
INST_CMPRS_QUANTZ_TBL_ID = 0
INSTRUMENT_TEMPERATURE = 10.4184
LENS_TEMPERATURE = 10.2145
MACROPIXEL_SIZE = 4
MISSING_FRAMES = 0
PIXEL_SUBSAMPLING_FLAG = N
SIGNAL_CHAIN_ID = 2
/* RADIOMETRIC DATA ELEMENTS */
BANDWIDTH = 81.0
CENTER_FILTER_WAVELENGTH = 955.5
RADIANCE_OFFSET = 0.683565
RADIANCE_SCALING_FACTOR = 0.00541957
REFLECTANCE_SCALING_FACTOR = 0.000604022
MEX:REFLECTANCE_OFFSET = 0.0761847
/* IMAGE OBJECT DEFINITIONS */
OBJECT = IMAGE
  INTERCHANGE_FORMAT = BINARY
  LINES = 13570
  LINE_SAMPLES = 1766
  SAMPLE_TYPE = UNSIGNED_INTEGER
  SAMPLE_BITS = 8
  BANDS = 1
  BAND_STORAGE_TYPE = BAND_SEQUENTIAL
  MAXIMUM = 255
  MEAN = 130.04
  MINIMUM = 1
  STANDARD_DEVIATION = 22.0536
END_OBJECT = IMAGE
/* MAP OBJECT DEFINITIONS */
OBJECT = IMAGE_MAP_PROJECTION
  ^DATA_SET_MAP_PROJECTION_CATALOG= "DSMAP.CAT"
  A_AXIS_RADIUS = 3396.0
  B_AXIS_RADIUS = 3396.0
  C_AXIS_RADIUS = 3396.0
  CENTER_LATITUDE = 0.0
  CENTER_LONGITUDE = 40.0
  COORDINATE_SYSTEM_NAME = PLANETOGRAPHIC
  COORDINATE_SYSTEM_TYPE = "BODY-FIXED ROTATING"
  EASTERNMOST_LONGITUDE = 40.5291
  FIRST_STANDARD_PARALLEL = "N/A"
  LINE_FIRST_PIXEL = 1
  LINE_LAST_PIXEL = 13570
  LINE_PROJECTION_OFFSET = 44611.125
  MAP_PROJECTION_ROTATION = 0.0
  MAP_PROJECTION_TYPE = SINUSOIDAL
  MAP_RESOLUTION = 1185.42760773333
  MAP_SCALE = 0.05
  MAXIMUM_LATITUDE = 37.6726
  MINIMUM_LATITUDE = 26.1744
  POSITIVE_LONGITUDE_DIRECTION = EAST
  REFERENCE_LATITUDE = "N/A"
  REFERENCE_LONGITUDE = "N/A"
  SAMPLE_FIRST_PIXEL = 1
  SAMPLE_LAST_PIXEL = 1766
  SAMPLE_PROJECTION_OFFSET = 1230.125
  SECOND_STANDARD_PARALLEL = "N/A"
  WESTERNMOST_LONGITUDE = 38.7115
END_OBJECT = IMAGE_MAP_PROJECTION
END
