PDS_VERSION_ID = PDS3
/* FILE DATA ELEMENTS */
RECORD_TYPE = UNDEFINED
/* POINTERS TO DATA OBJECTS */
^IMAGE = ("HQ235_0000_S14.TIF")
/* IDENTIFICATION DATA ELEMENTS */
DATA_SET_ID = "MEX-M-HRSC-4-REFDR-MAPPROJECT-EXT9-V4.0"
DATA_SET_NAME = "MARS EXPRESS HRSC MAP PROJECTED REFDR EXTENSION9 V4.0"
DETECTOR_ID = MEX_HRSC_S1
EVENT_TYPE = "MARS-REGIONAL-MAPPING-Vo-Im-Fl"
INSTRUMENT_HOST_ID = MEX
INSTRUMENT_HOST_NAME = "MARS EXPRESS"
INSTRUMENT_ID = HRSC
INSTRUMENT_NAME = "HIGH RESOLUTION STEREO CAMERA"
MISSION_NAME = "MARS EXPRESS"
MISSION_PHASE_NAME = ME_Phase_50
PROCESSING_LEVEL_ID = 4
PRODUCT_CREATION_TIME = 2025-01-29T08:28:47.000Z
PRODUCT_ID = "HQ235_0000_S14.TIF"
RELEASE_ID = 0020
REVISION_ID = 0000
/* QUALITY DATA ELEMENTS */
DATA_QUALITY_ID = 1
DATA_QUALITY_DESC = "Data calculated based on original SPICE kernels"
/* TIME DATA ELEMENTS */
SPACECRAFT_CLOCK_START_COUNT = "1/0676889258.65108"
SPACECRAFT_CLOCK_STOP_COUNT = "1/0676889515.05417"
START_TIME = 2024-10-13T08:48:30.428Z
STOP_TIME = 2024-10-13T08:51:27.882Z
/* ORBITAL DATA ELEMENTS */
ASCENDING_NODE_LONGITUDE = 88.45
MAXIMUM_RESOLUTION = 0.0338
FOOTPRINT_POINT_LATITUDE = (35.416,35.4438,35.4625,35.48,35.4963, 35.5255,35.5263,35.4604,35.0143,34.6833 ,34.4618,34.2405,33.9085,33.6872, 33.4654,33.2434,32.9106,32.5783,32.3563 ,32.1354,31.8028,31.4697,31.2477, 31.0225,30.6919,30.4696,30.1352,29.9122 ,29.6883,29.4654,29.1297,28.9055, 28.6806,28.4562,28.1191,27.7825,27.5583 ,27.3284,27.1011,26.7693,26.4307, 26.2049,25.8658,25.6396,25.4129,25.073, 24.8463,24.6196,24.3925,24.2791,24.2436 ,24.206,24.1878,24.1672,24.1247,24.1234 ,24.1234,24.4653,24.6923,24.9194, 25.1468,25.4869,25.7135,26.0533,26.2793 ,26.5057,26.7313,27.0697,27.295,27.6324 ,27.858,28.0827,28.3072,28.5322,28.7567 ,29.0928,29.316,29.5392,29.8747,30.0973 ,30.3206,30.6551,30.9889,31.3216, 31.5434,31.8762,32.2084,32.5399,32.871, 33.092,33.314,33.5359,33.7584,34.1999, 34.4236,34.6445,34.8652,35.1974,35.3108 ,35.416)
FOOTPRINT_POINT_LONGITUDE = (144.288,143.891,143.607,143.327, 143.052,142.511,142.495,142.51,142.513, 142.515,142.517,142.518,142.519,142.52, 142.521,142.521,142.522,142.522,142.522 ,142.522,142.521,142.52,142.519,142.52, 142.517,142.516,142.515,142.513,142.512 ,142.511,142.509,142.507,142.506, 142.504,142.502,142.499,142.496,142.496 ,142.494,142.489,142.486,142.483,142.48 ,142.477,142.475,142.471,142.468, 142.465,142.463,142.461,142.461,143.003 ,143.249,143.515,144.042,144.058, 144.064,144.069,144.073,144.078,144.081 ,144.088,144.093,144.099,144.104, 144.109,144.114,144.122,144.127,144.136 ,144.14,144.146,144.152,144.157,144.163 ,144.172,144.179,144.186,144.195, 144.202,144.208,144.218,144.228,144.239 ,144.246,144.257,144.268,144.279,144.29 ,144.298,144.304,144.31,144.315,144.329 ,144.333,144.339,144.346,144.355, 144.358,144.288)
ORBIT_NUMBER = 26235
ORBITAL_ECCENTRICITY = 0.571
ORBITAL_INCLINATION = 87.1
ORBITAL_SEMIMAJOR_AXIS = 8824.17
PERIAPSIS_ALTITUDE = 397.65
PERIAPSIS_ARGUMENT_ANGLE = 148.23
PERIAPSIS_TIME = 2024-10-13T08:50:06.000Z
SPACECRAFT_ORIENTATION = (0.0,-1.0,0.0)
^MEX_ORIENTATION_DESC = "MEX_ORIENTATION_DESC.TXT"
SPACECRAFT_POINTING_MODE = ACROSSTRACK
^MEX_POINTING_DESC = "MEX_POINTING_DESC.TXT"
RIGHT_ASCENSION = -1e+32
DECLINATION = -1e+32
OFFSET_ANGLE = 1.269
SPACECRAFT_SOLAR_DISTANCE = 2.27233e+08
TARGET_NAME = MARS
/* CAMERA DATA ELEMENTS */
DETECTOR_TEMPERATURE = 16.9432
FOCAL_PLANE_TEMPERATURE = 8.5833
INST_CMPRS_NAME = "DISCRETE COSINE TRANSFORMATION (DCT)"
INST_CMPRS_RATIO = 8.71292
INST_CMPRS_QUALITY = 0
INST_CMPRS_QUANTZ_TBL_ID = 0
INSTRUMENT_TEMPERATURE = 11.0301
LENS_TEMPERATURE = 8.7872
MACROPIXEL_SIZE = 2
MISSING_FRAMES = 0
PIXEL_SUBSAMPLING_FLAG = N
SIGNAL_CHAIN_ID = 1
/* RADIOMETRIC DATA ELEMENTS */
BANDWIDTH = 180.0
CENTER_FILTER_WAVELENGTH = 677.0
RADIANCE_OFFSET = 3.21102
RADIANCE_SCALING_FACTOR = 0.0226234
REFLECTANCE_SCALING_FACTOR = 0.000609454
MEX:REFLECTANCE_OFFSET = 0.0865023
/* IMAGE OBJECT DEFINITIONS */
OBJECT = IMAGE
  INTERCHANGE_FORMAT = BINARY
  LINES = 26713
  LINE_SAMPLES = 3892
  SAMPLE_TYPE = UNSIGNED_INTEGER
  SAMPLE_BITS = 8
  BANDS = 1
  BAND_STORAGE_TYPE = BAND_SEQUENTIAL
  MAXIMUM = 255
  MEAN = 102.841
  MINIMUM = 1
  STANDARD_DEVIATION = 22.5476
END_OBJECT = IMAGE
/* MAP OBJECT DEFINITIONS */
OBJECT = IMAGE_MAP_PROJECTION
  ^DATA_SET_MAP_PROJECTION_CATALOG= "DSMAP.CAT"
  A_AXIS_RADIUS = 3396.0
  B_AXIS_RADIUS = 3396.0
  C_AXIS_RADIUS = 3396.0
  CENTER_LATITUDE = 0.0
  CENTER_LONGITUDE = 143.0
  COORDINATE_SYSTEM_NAME = PLANETOGRAPHIC
  COORDINATE_SYSTEM_TYPE = "BODY-FIXED ROTATING"
  EASTERNMOST_LONGITUDE = 144.358
  FIRST_STANDARD_PARALLEL = "N/A"
  LINE_FIRST_PIXEL = 1
  LINE_LAST_PIXEL = 26713
  LINE_PROJECTION_OFFSET = 84039.25
  MAP_PROJECTION_ROTATION = 0.0
  MAP_PROJECTION_TYPE = SINUSOIDAL
  MAP_RESOLUTION = 2370.85521546667
  MAP_SCALE = 0.025
  MAXIMUM_LATITUDE = 35.5263
  MINIMUM_LATITUDE = 24.1234
  POSITIVE_LONGITUDE_DIRECTION = EAST
  REFERENCE_LATITUDE = "N/A"
  REFERENCE_LONGITUDE = "N/A"
  SAMPLE_FIRST_PIXEL = 1
  SAMPLE_LAST_PIXEL = 3892
  SAMPLE_PROJECTION_OFFSET = 1220.75
  SECOND_STANDARD_PARALLEL = "N/A"
  WESTERNMOST_LONGITUDE = 142.461
END_OBJECT = IMAGE_MAP_PROJECTION
END
