PDS_VERSION_ID = PDS3
/* FILE DATA ELEMENTS */
RECORD_TYPE = UNDEFINED
/* POINTERS TO DATA OBJECTS */
^IMAGE = ("HQ233_0010_GR4.TIF")
/* IDENTIFICATION DATA ELEMENTS */
DATA_SET_ID = "MEX-M-HRSC-4-REFDR-MAPPROJECT-EXT9-V4.0"
DATA_SET_NAME = "MARS EXPRESS HRSC MAP PROJECTED REFDR EXTENSION9 V4.0"
DETECTOR_ID = MEX_HRSC_GREEN
EVENT_TYPE = "MARS-REGIONAL-MAPPING-Im-Fl-Eo"
INSTRUMENT_HOST_ID = MEX
INSTRUMENT_HOST_NAME = "MARS EXPRESS"
INSTRUMENT_ID = HRSC
INSTRUMENT_NAME = "HIGH RESOLUTION STEREO CAMERA"
MISSION_NAME = "MARS EXPRESS"
MISSION_PHASE_NAME = ME_Phase_50
PROCESSING_LEVEL_ID = 4
PRODUCT_CREATION_TIME = 2025-01-29T08:28:47.000Z
PRODUCT_ID = "HQ233_0010_GR4.TIF"
RELEASE_ID = 0020
REVISION_ID = 0000
/* QUALITY DATA ELEMENTS */
DATA_QUALITY_ID = 1
DATA_QUALITY_DESC = "Data calculated based on original SPICE kernels"
/* TIME DATA ELEMENTS */
SPACECRAFT_CLOCK_START_COUNT = "1/0676839242.65161"
SPACECRAFT_CLOCK_STOP_COUNT = "1/0676839501.57565"
START_TIME = 2024-10-12T18:55:26.800Z
STOP_TIME = 2024-10-12T18:58:08.213Z
/* ORBITAL DATA ELEMENTS */
ASCENDING_NODE_LONGITUDE = 88.49
MAXIMUM_RESOLUTION = 0.0697
FOOTPRINT_POINT_LATITUDE = (17.3615,17.3667,17.3699,17.372,17.3743 ,17.3766,17.3767,17.3721,16.9084, 16.3445,15.9697,15.5961,15.2166,15.0248 ,14.8333,14.642,14.4496,14.0684,13.8747 ,13.6792,13.3859,13.0937,12.8987, 12.7039,12.5061,12.307,12.1081,11.9093, 11.6118,11.4134,11.2107,11.0079,10.8056 ,10.603,10.401,10.0941,9.88763,9.68146, 9.4755,9.27004,8.95692,8.74711,8.53758, 8.22324,8.01133,7.79786,7.58454,7.47796 ,7.43196,7.42877,7.42563,7.4193,7.41369 ,7.40877,7.40137,7.40104,7.40214, 7.61557,7.82928,8.14939,8.35911,8.67385 ,8.88413,9.1985,9.40445,9.61073,9.81716 ,10.0242,10.2313,10.5348,10.7374, 11.0416,11.2446,11.4466,11.6452,11.8442 ,12.0431,12.2422,12.4415,12.6406, 12.8356,13.0308,13.2262,13.4219,13.6176 ,13.8132,14.0076,14.198,14.3889,14.5803 ,14.772,15.0591,15.2509,15.6305,16.0996 ,16.3811,16.7571,17.2269,17.3183, 17.3615)
FOOTPRINT_POINT_LONGITUDE = (346.899,346.504,346.211,345.991, 345.713,345.346,345.332,345.321,345.312 ,345.301,345.294,345.289,345.284, 345.279,345.276,345.272,345.265,345.259 ,345.255,345.25,345.242,345.236,345.232 ,345.227,345.222,345.217,345.212, 345.207,345.2,345.195,345.19,345.185, 345.18,345.174,345.168,345.159,345.153, 345.147,345.141,345.136,345.126,345.12, 345.114,345.104,345.097,345.09,345.083, 345.08,345.078,345.296,345.497,345.883, 346.202,346.471,346.857,346.874,346.879 ,346.879,346.88,346.88,346.881,346.881, 346.882,346.882,346.883,346.883,346.884 ,346.883,346.883,346.884,346.885, 346.886,346.886,346.886,346.887,346.888 ,346.889,346.889,346.89,346.89,346.891, 346.891,346.892,346.892,346.892,346.893 ,346.894,346.897,346.898,346.899,346.9, 346.902,346.903,346.904,346.906,346.907 ,346.909,346.905,346.906,346.899)
ORBIT_NUMBER = 26233
ORBITAL_ECCENTRICITY = 0.571
ORBITAL_INCLINATION = 87.11
ORBITAL_SEMIMAJOR_AXIS = 8820.54
PERIAPSIS_ALTITUDE = 397.17
PERIAPSIS_ARGUMENT_ANGLE = 148.54
PERIAPSIS_TIME = 2024-10-12T18:51:50.000Z
SPACECRAFT_ORIENTATION = (0.0,-1.0,0.0)
^MEX_ORIENTATION_DESC = "MEX_ORIENTATION_DESC.TXT"
SPACECRAFT_POINTING_MODE = NADIR
^MEX_POINTING_DESC = "MEX_POINTING_DESC.TXT"
RIGHT_ASCENSION = -1e+32
DECLINATION = -1e+32
OFFSET_ANGLE = -1e+32
SPACECRAFT_SOLAR_DISTANCE = 2.2712e+08
TARGET_NAME = MARS
/* CAMERA DATA ELEMENTS */
DETECTOR_TEMPERATURE = 18.3705
FOCAL_PLANE_TEMPERATURE = 10.0106
INST_CMPRS_NAME = "DISCRETE COSINE TRANSFORMATION (DCT)"
INST_CMPRS_RATIO = 11.3373
INST_CMPRS_QUALITY = 0
INST_CMPRS_QUANTZ_TBL_ID = 0
INSTRUMENT_TEMPERATURE = 12.0496
LENS_TEMPERATURE = 10.6223
MACROPIXEL_SIZE = 4
MISSING_FRAMES = 0
PIXEL_SUBSAMPLING_FLAG = N
SIGNAL_CHAIN_ID = 2
/* RADIOMETRIC DATA ELEMENTS */
BANDWIDTH = 88.0
CENTER_FILTER_WAVELENGTH = 538.0
RADIANCE_OFFSET = 1.48833
RADIANCE_SCALING_FACTOR = 0.00276055
REFLECTANCE_SCALING_FACTOR = 0.000122602
MEX:REFLECTANCE_OFFSET = 0.0660999
/* IMAGE OBJECT DEFINITIONS */
OBJECT = IMAGE
  INTERCHANGE_FORMAT = BINARY
  LINES = 11820
  LINE_SAMPLES = 2209
  SAMPLE_TYPE = UNSIGNED_INTEGER
  SAMPLE_BITS = 8
  BANDS = 1
  BAND_STORAGE_TYPE = BAND_SEQUENTIAL
  MAXIMUM = 255
  MEAN = 99.7473
  MINIMUM = 1
  STANDARD_DEVIATION = 28.0462
END_OBJECT = IMAGE
/* MAP OBJECT DEFINITIONS */
OBJECT = IMAGE_MAP_PROJECTION
  ^DATA_SET_MAP_PROJECTION_CATALOG= "DSMAP.CAT"
  A_AXIS_RADIUS = 3396.0
  B_AXIS_RADIUS = 3396.0
  C_AXIS_RADIUS = 3396.0
  CENTER_LATITUDE = 0.0
  CENTER_LONGITUDE = 346.0
  COORDINATE_SYSTEM_NAME = PLANETOGRAPHIC
  COORDINATE_SYSTEM_TYPE = "BODY-FIXED ROTATING"
  EASTERNMOST_LONGITUDE = 346.909
  FIRST_STANDARD_PARALLEL = "N/A"
  LINE_FIRST_PIXEL = 1
  LINE_LAST_PIXEL = 11820
  LINE_PROJECTION_OFFSET = 20596.875
  MAP_PROJECTION_ROTATION = 0.0
  MAP_PROJECTION_TYPE = SINUSOIDAL
  MAP_RESOLUTION = 1185.42760773333
  MAP_SCALE = 0.05
  MAXIMUM_LATITUDE = 17.3767
  MINIMUM_LATITUDE = 7.40104
  POSITIVE_LONGITUDE_DIRECTION = EAST
  REFERENCE_LATITUDE = "N/A"
  REFERENCE_LONGITUDE = "N/A"
  SAMPLE_FIRST_PIXEL = 1
  SAMPLE_LAST_PIXEL = 2209
  SAMPLE_PROJECTION_OFFSET = 1134.375
  SECOND_STANDARD_PARALLEL = "N/A"
  WESTERNMOST_LONGITUDE = 345.078
END_OBJECT = IMAGE_MAP_PROJECTION
END
