PDS_VERSION_ID = PDS3
/* FILE DATA ELEMENTS */
RECORD_TYPE = UNDEFINED
/* POINTERS TO DATA OBJECTS */
^IMAGE = ("HQ231_0000_RE4.TIF")
/* IDENTIFICATION DATA ELEMENTS */
DATA_SET_ID = "MEX-M-HRSC-4-REFDR-MAPPROJECT-EXT9-V4.0"
DATA_SET_NAME = "MARS EXPRESS HRSC MAP PROJECTED REFDR EXTENSION9 V4.0"
DETECTOR_ID = MEX_HRSC_RED
EVENT_TYPE = "MARS-REGIONAL-MAPPING-Vo-Im-Eo"
INSTRUMENT_HOST_ID = MEX
INSTRUMENT_HOST_NAME = "MARS EXPRESS"
INSTRUMENT_ID = HRSC
INSTRUMENT_NAME = "HIGH RESOLUTION STEREO CAMERA"
MISSION_NAME = "MARS EXPRESS"
MISSION_PHASE_NAME = ME_Phase_50
PROCESSING_LEVEL_ID = 4
PRODUCT_CREATION_TIME = 2025-01-29T08:28:47.000Z
PRODUCT_ID = "HQ231_0000_RE4.TIF"
RELEASE_ID = 0020
REVISION_ID = 0000
/* QUALITY DATA ELEMENTS */
DATA_QUALITY_ID = 1
DATA_QUALITY_DESC = "Data calculated based on original SPICE kernels"
/* TIME DATA ELEMENTS */
SPACECRAFT_CLOCK_START_COUNT = "1/0676788757.00356"
SPACECRAFT_CLOCK_STOP_COUNT = "1/0676788997.33405"
START_TIME = 2024-10-12T04:54:35.415Z
STOP_TIME = 2024-10-12T04:57:19.743Z
/* ORBITAL DATA ELEMENTS */
ASCENDING_NODE_LONGITUDE = 88.52
MAXIMUM_RESOLUTION = 0.0676
FOOTPRINT_POINT_LATITUDE = (29.6845,29.674,29.6674,29.6607,29.6538 ,29.6469,29.6398,29.6393,29.6877, 29.3823,29.179,28.8741,28.6711,28.3667, 28.164,27.9612,27.7587,27.5563,27.3542, 27.1521,26.8496,26.6479,26.2444,25.8419 ,25.4401,25.039,24.5384,24.1387,23.9354 ,23.7307,23.5261,23.3216,23.1174, 22.9133,22.7095,22.5058,22.2007,21.8954 ,21.6919,21.3818,21.0705,20.863,20.6558 ,20.3453,20.1386,19.9322,19.6207,19.515 ,19.4922,19.4976,19.5026,19.5076, 19.5123,19.5199,19.5263,19.5266,19.5278 ,19.7391,20.049,20.2554,20.4635,20.6707 ,20.8782,21.0859,21.2937,21.5017, 21.7091,21.9128,22.1164,22.4218,22.6255 ,22.8289,23.0336,23.3402,23.5448, 23.7496,23.9546,24.2586,24.7591,25.1602 ,25.5618,25.9641,26.3671,26.5688, 26.7707,26.9728,27.1749,27.3772,27.5796 ,27.8835,28.0863,28.3907,28.5937, 28.7969,29.0003,29.2038,29.4074,29.6111 ,29.713,29.6845)
FOOTPRINT_POINT_LONGITUDE = (192.208,191.806,191.562,191.32,191.081 ,190.844,190.608,190.593,190.593, 190.593,190.592,190.591,190.59,190.589, 190.588,190.587,190.586,190.585,190.583 ,190.582,190.58,190.578,190.575,190.571 ,190.568,190.563,190.558,190.553,190.55 ,190.548,190.545,190.542,190.54,190.537 ,190.534,190.531,190.526,190.521, 190.518,190.513,190.507,190.504,190.5, 190.494,190.49,190.486,190.48,190.478, 190.478,190.719,190.962,191.207,191.423 ,191.798,192.114,192.129,192.135, 192.137,192.14,192.141,192.144,192.146, 192.148,192.15,192.152,192.154,192.156, 192.159,192.161,192.164,192.166,192.168 ,192.171,192.174,192.176,192.178, 192.181,192.184,192.19,192.195,192.199, 192.204,192.209,192.212,192.214,192.217 ,192.22,192.222,192.225,192.229,192.231 ,192.236,192.238,192.241,192.244, 192.246,192.249,192.252,192.253, 192.208)
ORBIT_NUMBER = 26231
ORBITAL_ECCENTRICITY = 0.571
ORBITAL_INCLINATION = 87.11
ORBITAL_SEMIMAJOR_AXIS = 8819.32
PERIAPSIS_ALTITUDE = 396.87
PERIAPSIS_ARGUMENT_ANGLE = 148.89
PERIAPSIS_TIME = 2024-10-12T04:53:42.000Z
SPACECRAFT_ORIENTATION = (0.0,-1.0,0.0)
^MEX_ORIENTATION_DESC = "MEX_ORIENTATION_DESC.TXT"
SPACECRAFT_POINTING_MODE = ACROSSTRACK
^MEX_POINTING_DESC = "MEX_POINTING_DESC.TXT"
RIGHT_ASCENSION = -1e+32
DECLINATION = -1e+32
OFFSET_ANGLE = 0.808
SPACECRAFT_SOLAR_DISTANCE = 2.27006e+08
TARGET_NAME = MARS
/* CAMERA DATA ELEMENTS */
DETECTOR_TEMPERATURE = 17.9627
FOCAL_PLANE_TEMPERATURE = 8.7872
INST_CMPRS_NAME = "DISCRETE COSINE TRANSFORMATION (DCT)"
INST_CMPRS_RATIO = 20.045
INST_CMPRS_QUALITY = 0
INST_CMPRS_QUANTZ_TBL_ID = 0
INSTRUMENT_TEMPERATURE = 10.6223
LENS_TEMPERATURE = 9.195
MACROPIXEL_SIZE = 4
MISSING_FRAMES = 0
PIXEL_SUBSAMPLING_FLAG = N
SIGNAL_CHAIN_ID = 2
/* RADIOMETRIC DATA ELEMENTS */
BANDWIDTH = 48.0
CENTER_FILTER_WAVELENGTH = 748.0
RADIANCE_OFFSET = 1.09399
RADIANCE_SCALING_FACTOR = 0.00363012
REFLECTANCE_SCALING_FACTOR = 0.000426897
MEX:REFLECTANCE_OFFSET = 0.128651
/* IMAGE OBJECT DEFINITIONS */
OBJECT = IMAGE
  INTERCHANGE_FORMAT = BINARY
  LINES = 12100
  LINE_SAMPLES = 1889
  SAMPLE_TYPE = UNSIGNED_INTEGER
  SAMPLE_BITS = 8
  BANDS = 1
  BAND_STORAGE_TYPE = BAND_SEQUENTIAL
  MAXIMUM = 255
  MEAN = 99.3622
  MINIMUM = 1
  STANDARD_DEVIATION = 23.7948
END_OBJECT = IMAGE
/* MAP OBJECT DEFINITIONS */
OBJECT = IMAGE_MAP_PROJECTION
  ^DATA_SET_MAP_PROJECTION_CATALOG= "DSMAP.CAT"
  A_AXIS_RADIUS = 3396.0
  B_AXIS_RADIUS = 3396.0
  C_AXIS_RADIUS = 3396.0
  CENTER_LATITUDE = 0.0
  CENTER_LONGITUDE = 191.0
  COORDINATE_SYSTEM_NAME = PLANETOGRAPHIC
  COORDINATE_SYSTEM_TYPE = "BODY-FIXED ROTATING"
  EASTERNMOST_LONGITUDE = 192.253
  FIRST_STANDARD_PARALLEL = "N/A"
  LINE_FIRST_PIXEL = 1
  LINE_LAST_PIXEL = 12100
  LINE_PROJECTION_OFFSET = 35180.125
  MAP_PROJECTION_ROTATION = 0.0
  MAP_PROJECTION_TYPE = SINUSOIDAL
  MAP_RESOLUTION = 1185.42760773333
  MAP_SCALE = 0.05
  MAXIMUM_LATITUDE = 29.713
  MINIMUM_LATITUDE = 19.4922
  POSITIVE_LONGITUDE_DIRECTION = EAST
  REFERENCE_LATITUDE = "N/A"
  REFERENCE_LONGITUDE = "N/A"
  SAMPLE_FIRST_PIXEL = 1
  SAMPLE_LAST_PIXEL = 1889
  SAMPLE_PROJECTION_OFFSET = 565.625
  SECOND_STANDARD_PARALLEL = "N/A"
  WESTERNMOST_LONGITUDE = 190.478
END_OBJECT = IMAGE_MAP_PROJECTION
END
