PDS_VERSION_ID = PDS3
/* FILE DATA ELEMENTS */
RECORD_TYPE = UNDEFINED
/* POINTERS TO DATA OBJECTS */
^IMAGE = ("HQ229_0000_S14.TIF")
/* IDENTIFICATION DATA ELEMENTS */
DATA_SET_ID = "MEX-M-HRSC-4-REFDR-MAPPROJECT-EXT9-V4.0"
DATA_SET_NAME = "MARS EXPRESS HRSC MAP PROJECTED REFDR EXTENSION9 V4.0"
DETECTOR_ID = MEX_HRSC_S1
EVENT_TYPE = "MARS-REGIONAL-MAPPING-Im-Fl-Gl"
INSTRUMENT_HOST_ID = MEX
INSTRUMENT_HOST_NAME = "MARS EXPRESS"
INSTRUMENT_ID = HRSC
INSTRUMENT_NAME = "HIGH RESOLUTION STEREO CAMERA"
MISSION_NAME = "MARS EXPRESS"
MISSION_PHASE_NAME = ME_Phase_50
PROCESSING_LEVEL_ID = 4
PRODUCT_CREATION_TIME = 2025-01-29T08:28:47.000Z
PRODUCT_ID = "HQ229_0000_S14.TIF"
RELEASE_ID = 0020
REVISION_ID = 0000
/* QUALITY DATA ELEMENTS */
DATA_QUALITY_ID = 1
DATA_QUALITY_DESC = "Data calculated based on original SPICE kernels"
/* TIME DATA ELEMENTS */
SPACECRAFT_CLOCK_START_COUNT = "1/0676738355.64187"
SPACECRAFT_CLOCK_STOP_COUNT = "1/0676738621.30472"
START_TIME = 2024-10-11T14:53:27.348Z
STOP_TIME = 2024-10-11T14:56:36.723Z
/* ORBITAL DATA ELEMENTS */
ASCENDING_NODE_LONGITUDE = 88.56
MAXIMUM_RESOLUTION = 0.0337
FOOTPRINT_POINT_LATITUDE = (36.3292,36.3268,36.3195,36.3105, 36.3101,36.2602,35.6812,35.2142,34.9803 ,34.7459,34.511,34.1588,33.9236,33.6887 ,33.4541,33.2182,32.9817,32.7453, 32.5077,32.2706,31.9155,31.6785,31.439, 31.2047,30.8486,30.492,30.2538,29.8965, 29.6582,29.4179,29.1786,28.9406,28.7002 ,28.4613,28.1029,27.8629,27.6234, 27.3837,27.1452,26.9021,26.538,26.2954, 26.0537,25.8118,25.4488,25.0865,24.7246 ,24.4834,24.3628,24.3172,24.3192, 24.3197,24.3213,24.3212,24.3216,24.5673 ,24.8094,25.0526,25.2941,25.5351, 25.7747,26.0155,26.2561,26.492,26.8523, 27.213,27.4534,27.695,28.0575,28.2972, 28.5373,28.7769,29.0175,29.2571,29.4969 ,29.7374,29.9762,30.2148,30.4489, 30.6868,31.0503,31.4067,31.7623,31.9998 ,32.3554,32.7116,32.949,33.1852,33.4225 ,33.8877,34.1242,34.4743,34.7093, 34.9438,35.1789,35.5337,35.7745,36.1238 ,36.2402,36.3292)
FOOTPRINT_POINT_LONGITUDE = (35.5738,34.9596,34.3287,33.8338, 33.8167,33.7941,33.8143,33.8286,33.8355 ,33.8421,33.8484,33.8577,33.8637, 33.8697,33.8757,33.8811,33.8863,33.8913 ,33.8959,33.9005,33.9075,33.9119, 33.9154,33.9205,33.9265,33.9321,33.9356 ,33.9406,33.9437,33.9462,33.9488, 33.9518,33.9539,33.9564,33.96,33.9619, 33.9639,33.9657,33.9678,33.9683,33.9691 ,33.9695,33.9702,33.9707,33.9712, 33.9717,33.9721,33.9723,33.9724,33.9724 ,34.5682,35.1195,35.4907,35.5055, 35.5109,35.5113,35.5128,35.5139,35.5155 ,35.5173,35.5195,35.5213,35.5232, 35.5265,35.5293,35.5319,35.5336,35.5348 ,35.5365,35.5383,35.5399,35.5415, 35.5428,35.5444,35.5459,35.5471,35.5488 ,35.5505,35.5537,35.5556,35.5558, 35.5585,35.5612,35.5629,35.5654,35.5675 ,35.5688,35.5706,35.5718,35.5775, 35.5788,35.5823,35.5839,35.5856,35.587, 35.5881,35.5871,35.59,35.5909,35.5738)
ORBIT_NUMBER = 26229
ORBITAL_ECCENTRICITY = 0.571
ORBITAL_INCLINATION = 87.1
ORBITAL_SEMIMAJOR_AXIS = 8828.1
PERIAPSIS_ALTITUDE = 396.56
PERIAPSIS_ARGUMENT_ANGLE = 149.25
PERIAPSIS_TIME = 2024-10-11T14:55:32.000Z
SPACECRAFT_ORIENTATION = (0.0,-1.0,0.0)
^MEX_ORIENTATION_DESC = "MEX_ORIENTATION_DESC.TXT"
SPACECRAFT_POINTING_MODE = NADIR
^MEX_POINTING_DESC = "MEX_POINTING_DESC.TXT"
RIGHT_ASCENSION = -1e+32
DECLINATION = -1e+32
OFFSET_ANGLE = -1e+32
SPACECRAFT_SOLAR_DISTANCE = 2.26892e+08
TARGET_NAME = MARS
/* CAMERA DATA ELEMENTS */
DETECTOR_TEMPERATURE = 17.351
FOCAL_PLANE_TEMPERATURE = 9.195
INST_CMPRS_NAME = "DISCRETE COSINE TRANSFORMATION (DCT)"
INST_CMPRS_RATIO = 10.5036
INST_CMPRS_QUALITY = 0
INST_CMPRS_QUANTZ_TBL_ID = 0
INSTRUMENT_TEMPERATURE = 10.8262
LENS_TEMPERATURE = 9.6028
MACROPIXEL_SIZE = 2
MISSING_FRAMES = 0
PIXEL_SUBSAMPLING_FLAG = N
SIGNAL_CHAIN_ID = 1
/* RADIOMETRIC DATA ELEMENTS */
BANDWIDTH = 180.0
CENTER_FILTER_WAVELENGTH = 677.0
RADIANCE_OFFSET = 2.85064
RADIANCE_SCALING_FACTOR = 0.0181932
REFLECTANCE_SCALING_FACTOR = 0.000488642
MEX:REFLECTANCE_OFFSET = 0.0765637
/* IMAGE OBJECT DEFINITIONS */
OBJECT = IMAGE
  INTERCHANGE_FORMAT = BINARY
  LINES = 28352
  LINE_SAMPLES = 3502
  SAMPLE_TYPE = UNSIGNED_INTEGER
  SAMPLE_BITS = 8
  BANDS = 1
  BAND_STORAGE_TYPE = BAND_SEQUENTIAL
  MAXIMUM = 255
  MEAN = 147.162
  MINIMUM = 1
  STANDARD_DEVIATION = 27.6378
END_OBJECT = IMAGE
/* MAP OBJECT DEFINITIONS */
OBJECT = IMAGE_MAP_PROJECTION
  ^DATA_SET_MAP_PROJECTION_CATALOG= "DSMAP.CAT"
  A_AXIS_RADIUS = 3396.0
  B_AXIS_RADIUS = 3396.0
  C_AXIS_RADIUS = 3396.0
  CENTER_LATITUDE = 0.0
  CENTER_LONGITUDE = 35.0
  COORDINATE_SYSTEM_NAME = PLANETOGRAPHIC
  COORDINATE_SYSTEM_TYPE = "BODY-FIXED ROTATING"
  EASTERNMOST_LONGITUDE = 35.5909
  FIRST_STANDARD_PARALLEL = "N/A"
  LINE_FIRST_PIXEL = 1
  LINE_LAST_PIXEL = 28352
  LINE_PROJECTION_OFFSET = 86044.75
  MAP_PROJECTION_ROTATION = 0.0
  MAP_PROJECTION_TYPE = SINUSOIDAL
  MAP_RESOLUTION = 2370.85521546667
  MAP_SCALE = 0.025
  MAXIMUM_LATITUDE = 36.3292
  MINIMUM_LATITUDE = 24.3172
  POSITIVE_LONGITUDE_DIRECTION = EAST
  REFERENCE_LATITUDE = "N/A"
  REFERENCE_LONGITUDE = "N/A"
  SAMPLE_FIRST_PIXEL = 1
  SAMPLE_LAST_PIXEL = 3502
  SAMPLE_PROJECTION_OFFSET = 2330.25
  SECOND_STANDARD_PARALLEL = "N/A"
  WESTERNMOST_LONGITUDE = 33.7941
END_OBJECT = IMAGE_MAP_PROJECTION
END
