PDS_VERSION_ID = PDS3
/* FILE DATA ELEMENTS */
RECORD_TYPE = UNDEFINED
/* POINTERS TO DATA OBJECTS */
^IMAGE = ("HQ229_0000_P24.TIF")
/* IDENTIFICATION DATA ELEMENTS */
DATA_SET_ID = "MEX-M-HRSC-4-REFDR-MAPPROJECT-EXT9-V4.0"
DATA_SET_NAME = "MARS EXPRESS HRSC MAP PROJECTED REFDR EXTENSION9 V4.0"
DETECTOR_ID = MEX_HRSC_P2
EVENT_TYPE = "MARS-REGIONAL-MAPPING-Im-Fl-Gl"
INSTRUMENT_HOST_ID = MEX
INSTRUMENT_HOST_NAME = "MARS EXPRESS"
INSTRUMENT_ID = HRSC
INSTRUMENT_NAME = "HIGH RESOLUTION STEREO CAMERA"
MISSION_NAME = "MARS EXPRESS"
MISSION_PHASE_NAME = ME_Phase_50
PROCESSING_LEVEL_ID = 4
PRODUCT_CREATION_TIME = 2025-01-29T08:28:47.000Z
PRODUCT_ID = "HQ229_0000_P24.TIF"
RELEASE_ID = 0020
REVISION_ID = 0000
/* QUALITY DATA ELEMENTS */
DATA_QUALITY_ID = 1
DATA_QUALITY_DESC = "Data calculated based on original SPICE kernels"
/* TIME DATA ELEMENTS */
SPACECRAFT_CLOCK_START_COUNT = "1/0676738355.64187"
SPACECRAFT_CLOCK_STOP_COUNT = "1/0676738621.30472"
START_TIME = 2024-10-11T14:54:29.486Z
STOP_TIME = 2024-10-11T14:57:37.852Z
/* ORBITAL DATA ELEMENTS */
ASCENDING_NODE_LONGITUDE = 88.56
MAXIMUM_RESOLUTION = 0.0327
FOOTPRINT_POINT_LATITUDE = (36.2593,36.2572,36.2519,36.2467, 36.2465,36.2791,36.0388,35.6756,35.3154 ,35.0748,34.8345,34.5948,34.3547,33.995 ,33.755,33.5148,33.2748,33.0356,32.7964 ,32.438,32.199,31.9599,31.7206,31.483, 31.2415,30.8836,30.6445,30.287,30.0484, 29.81,29.5719,29.3349,29.0972,28.7408, 28.5032,28.2649,28.0277,27.7908,27.4353 ,27.0791,26.7268,26.1401,25.7873, 25.5512,24.9652,24.4955,24.378,24.3475, 24.3467,24.3452,24.3426,24.3371,24.337, 24.3375,24.8052,25.2752,25.5113,25.7476 ,26.1028,26.4607,26.698,27.0535,27.2903 ,27.5272,27.7626,27.9998,28.2375, 28.4751,28.7132,28.9502,29.1883,29.4262 ,29.6637,29.9022,30.1408,30.382,30.7415 ,30.9774,31.216,31.4555,31.6954,31.9349 ,32.1746,32.5339,32.8929,33.1331, 33.3724,33.7352,33.9776,34.2168,34.4597 ,34.6999,34.9409,35.1812,35.4204, 35.6559,35.8968,36.1381,36.2588, 36.2593)
FOOTPRINT_POINT_LONGITUDE = (35.5478,35.0488,34.3342,33.8517, 33.8351,33.8105,33.8174,33.8291,33.8386 ,33.845,33.8511,33.8567,33.8623,33.8702 ,33.8754,33.8806,33.8856,33.8899, 33.8942,33.9001,33.904,33.9077,33.9115, 33.9142,33.919,33.9236,33.9268,33.9307, 33.9334,33.9359,33.9382,33.9398,33.9417 ,33.9443,33.9459,33.9479,33.9492, 33.9503,33.9519,33.9538,33.9535,33.9526 ,33.9523,33.9526,33.9509,33.9499, 33.9496,33.9495,34.3924,34.7131,35.1713 ,35.5057,35.521,35.5265,35.527,35.5283, 35.5294,35.5305,35.5323,35.5353,35.5366 ,35.538,35.5388,35.5396,35.5395,35.5402 ,35.5412,35.542,35.5429,35.5433,35.5442 ,35.5448,35.5452,35.546,35.5468,35.5489 ,35.5507,35.5499,35.5504,35.5513, 35.5524,35.5531,35.5539,35.555,35.5557, 35.5566,35.5569,35.5593,35.5612,35.5613 ,35.5633,35.5638,35.5647,35.5652,35.565 ,35.5628,35.5634,35.5643,35.5647, 35.5478)
ORBIT_NUMBER = 26229
ORBITAL_ECCENTRICITY = 0.571
ORBITAL_INCLINATION = 87.1
ORBITAL_SEMIMAJOR_AXIS = 8828.1
PERIAPSIS_ALTITUDE = 396.56
PERIAPSIS_ARGUMENT_ANGLE = 149.25
PERIAPSIS_TIME = 2024-10-11T14:55:32.000Z
SPACECRAFT_ORIENTATION = (0.0,-1.0,0.0)
^MEX_ORIENTATION_DESC = "MEX_ORIENTATION_DESC.TXT"
SPACECRAFT_POINTING_MODE = NADIR
^MEX_POINTING_DESC = "MEX_POINTING_DESC.TXT"
RIGHT_ASCENSION = -1e+32
DECLINATION = -1e+32
OFFSET_ANGLE = -1e+32
SPACECRAFT_SOLAR_DISTANCE = 2.26892e+08
TARGET_NAME = MARS
/* CAMERA DATA ELEMENTS */
DETECTOR_TEMPERATURE = 18.3705
FOCAL_PLANE_TEMPERATURE = 9.195
INST_CMPRS_NAME = "DISCRETE COSINE TRANSFORMATION (DCT)"
INST_CMPRS_RATIO = 6.40199
INST_CMPRS_QUALITY = 0
INST_CMPRS_QUANTZ_TBL_ID = 0
INSTRUMENT_TEMPERATURE = 10.8262
LENS_TEMPERATURE = 9.6028
MACROPIXEL_SIZE = 2
MISSING_FRAMES = 0
PIXEL_SUBSAMPLING_FLAG = N
SIGNAL_CHAIN_ID = 3
/* RADIOMETRIC DATA ELEMENTS */
BANDWIDTH = 177.0
CENTER_FILTER_WAVELENGTH = 676.5
RADIANCE_OFFSET = 2.52187
RADIANCE_SCALING_FACTOR = 0.0167938
REFLECTANCE_SCALING_FACTOR = 0.0004584
MEX:REFLECTANCE_OFFSET = 0.0688364
/* IMAGE OBJECT DEFINITIONS */
OBJECT = IMAGE
  INTERCHANGE_FORMAT = BINARY
  LINES = 28352
  LINE_SAMPLES = 3502
  SAMPLE_TYPE = UNSIGNED_INTEGER
  SAMPLE_BITS = 8
  BANDS = 1
  BAND_STORAGE_TYPE = BAND_SEQUENTIAL
  MAXIMUM = 255
  MEAN = 148.558
  MINIMUM = 1
  STANDARD_DEVIATION = 25.9853
END_OBJECT = IMAGE
/* MAP OBJECT DEFINITIONS */
OBJECT = IMAGE_MAP_PROJECTION
  ^DATA_SET_MAP_PROJECTION_CATALOG= "DSMAP.CAT"
  A_AXIS_RADIUS = 3396.0
  B_AXIS_RADIUS = 3396.0
  C_AXIS_RADIUS = 3396.0
  CENTER_LATITUDE = 0.0
  CENTER_LONGITUDE = 35.0
  COORDINATE_SYSTEM_NAME = PLANETOGRAPHIC
  COORDINATE_SYSTEM_TYPE = "BODY-FIXED ROTATING"
  EASTERNMOST_LONGITUDE = 35.5652
  FIRST_STANDARD_PARALLEL = "N/A"
  LINE_FIRST_PIXEL = 1
  LINE_LAST_PIXEL = 28352
  LINE_PROJECTION_OFFSET = 86044.75
  MAP_PROJECTION_ROTATION = 0.0
  MAP_PROJECTION_TYPE = SINUSOIDAL
  MAP_RESOLUTION = 2370.85521546667
  MAP_SCALE = 0.025
  MAXIMUM_LATITUDE = 36.2791
  MINIMUM_LATITUDE = 24.337
  POSITIVE_LONGITUDE_DIRECTION = EAST
  REFERENCE_LATITUDE = "N/A"
  REFERENCE_LONGITUDE = "N/A"
  SAMPLE_FIRST_PIXEL = 1
  SAMPLE_LAST_PIXEL = 3502
  SAMPLE_PROJECTION_OFFSET = 2330.25
  SECOND_STANDARD_PARALLEL = "N/A"
  WESTERNMOST_LONGITUDE = 33.8105
END_OBJECT = IMAGE_MAP_PROJECTION
END
