PDS_VERSION_ID = PDS3
/* FILE DATA ELEMENTS */
RECORD_TYPE = UNDEFINED
/* POINTERS TO DATA OBJECTS */
^IMAGE = ("HQ229_0000_IR4.TIF")
/* IDENTIFICATION DATA ELEMENTS */
DATA_SET_ID = "MEX-M-HRSC-4-REFDR-MAPPROJECT-EXT9-V4.0"
DATA_SET_NAME = "MARS EXPRESS HRSC MAP PROJECTED REFDR EXTENSION9 V4.0"
DETECTOR_ID = MEX_HRSC_IR
EVENT_TYPE = "MARS-REGIONAL-MAPPING-Im-Fl-Gl"
INSTRUMENT_HOST_ID = MEX
INSTRUMENT_HOST_NAME = "MARS EXPRESS"
INSTRUMENT_ID = HRSC
INSTRUMENT_NAME = "HIGH RESOLUTION STEREO CAMERA"
MISSION_NAME = "MARS EXPRESS"
MISSION_PHASE_NAME = ME_Phase_50
PROCESSING_LEVEL_ID = 4
PRODUCT_CREATION_TIME = 2025-01-29T08:28:47.000Z
PRODUCT_ID = "HQ229_0000_IR4.TIF"
RELEASE_ID = 0020
REVISION_ID = 0000
/* QUALITY DATA ELEMENTS */
DATA_QUALITY_ID = 1
DATA_QUALITY_DESC = "Data calculated based on original SPICE kernels"
/* TIME DATA ELEMENTS */
SPACECRAFT_CLOCK_START_COUNT = "1/0676738355.64187"
SPACECRAFT_CLOCK_STOP_COUNT = "1/0676738621.30472"
START_TIME = 2024-10-11T14:53:33.793Z
STOP_TIME = 2024-10-11T14:56:42.845Z
/* ORBITAL DATA ELEMENTS */
ASCENDING_NODE_LONGITUDE = 88.56
MAXIMUM_RESOLUTION = 0.0662
FOOTPRINT_POINT_LATITUDE = (36.3296,36.327,36.3203,36.3117,36.3114 ,36.2697,35.9196,35.4551,34.988,34.7533 ,34.5183,34.2835,34.0484,33.6956, 33.4607,33.1073,32.8709,32.516,32.2791, 32.0423,31.8058,31.5685,31.33,30.9771, 30.7396,30.5027,30.2647,29.9083,29.6706 ,29.4315,29.1926,28.9546,28.7154, 28.4768,28.2392,28.0003,27.6418,27.4025 ,27.1651,26.9235,26.562,26.3213,26.0795 ,25.8396,25.5997,25.3583,25.1173, 24.8772,24.517,24.3969,24.3223,24.3239, 24.3261,24.3241,24.3264,24.3274,24.6899 ,24.9312,25.1725,25.4127,25.7716, 26.0108,26.2504,26.4867,26.7256,26.9649 ,27.2049,27.4446,27.6865,27.9265, 28.1655,28.5242,28.7633,29.0031,29.2418 ,29.4813,29.7205,29.9588,30.197,30.669, 30.9108,31.268,31.6234,31.8607,32.0975, 32.4531,32.6903,33.0452,33.2823,33.519, 33.9846,34.2215,34.5719,35.0412,35.2772 ,35.5138,35.7537,36.103,36.2197, 36.3296)
FOOTPRINT_POINT_LONGITUDE = (35.568,34.9318,34.3286,33.8391,33.8228 ,33.8015,33.8127,33.8283,33.8423, 33.8488,33.8549,33.8611,33.8671,33.8757 ,33.8815,33.8896,33.8946,33.9016, 33.9061,33.9105,33.915,33.9191,33.9225, 33.9295,33.9332,33.937,33.9402,33.9451, 33.9482,33.9507,33.9532,33.9559,33.9581 ,33.9603,33.9629,33.9649,33.9676, 33.9692,33.9715,33.9719,33.9728,33.9734 ,33.9735,33.9742,33.9748,33.9748, 33.9748,33.975,33.9752,33.9752,33.9752, 34.3755,34.9625,35.4914,35.5047,35.5095 ,35.5111,35.5123,35.5135,35.5152, 35.5181,35.52,35.5218,35.5248,35.5268, 35.5286,35.53,35.5316,35.5322,35.5334, 35.5351,35.5375,35.539,35.5402,35.5418, 35.543,35.5443,35.5459,35.5474,35.5523, 35.5521,35.5541,35.5567,35.5582,35.5599 ,35.562,35.5633,35.5655,35.5666,35.5679 ,35.5735,35.5744,35.5778,35.581,35.5819 ,35.5823,35.5812,35.5841,35.5849, 35.568)
ORBIT_NUMBER = 26229
ORBITAL_ECCENTRICITY = 0.571
ORBITAL_INCLINATION = 87.1
ORBITAL_SEMIMAJOR_AXIS = 8828.1
PERIAPSIS_ALTITUDE = 396.56
PERIAPSIS_ARGUMENT_ANGLE = 149.25
PERIAPSIS_TIME = 2024-10-11T14:55:32.000Z
SPACECRAFT_ORIENTATION = (0.0,-1.0,0.0)
^MEX_ORIENTATION_DESC = "MEX_ORIENTATION_DESC.TXT"
SPACECRAFT_POINTING_MODE = NADIR
^MEX_POINTING_DESC = "MEX_POINTING_DESC.TXT"
RIGHT_ASCENSION = -1e+32
DECLINATION = -1e+32
OFFSET_ANGLE = -1e+32
SPACECRAFT_SOLAR_DISTANCE = 2.26892e+08
TARGET_NAME = MARS
/* CAMERA DATA ELEMENTS */
DETECTOR_TEMPERATURE = 17.351
FOCAL_PLANE_TEMPERATURE = 9.195
INST_CMPRS_NAME = "DISCRETE COSINE TRANSFORMATION (DCT)"
INST_CMPRS_RATIO = 12.32
INST_CMPRS_QUALITY = 0
INST_CMPRS_QUANTZ_TBL_ID = 0
INSTRUMENT_TEMPERATURE = 10.8262
LENS_TEMPERATURE = 9.6028
MACROPIXEL_SIZE = 4
MISSING_FRAMES = 0
PIXEL_SUBSAMPLING_FLAG = N
SIGNAL_CHAIN_ID = 2
/* RADIOMETRIC DATA ELEMENTS */
BANDWIDTH = 81.0
CENTER_FILTER_WAVELENGTH = 955.5
RADIANCE_OFFSET = 0.683565
RADIANCE_SCALING_FACTOR = 0.00483682
REFLECTANCE_SCALING_FACTOR = 0.000537189
MEX:REFLECTANCE_OFFSET = 0.0759184
/* IMAGE OBJECT DEFINITIONS */
OBJECT = IMAGE
  INTERCHANGE_FORMAT = BINARY
  LINES = 14176
  LINE_SAMPLES = 1751
  SAMPLE_TYPE = UNSIGNED_INTEGER
  SAMPLE_BITS = 8
  BANDS = 1
  BAND_STORAGE_TYPE = BAND_SEQUENTIAL
  MAXIMUM = 255
  MEAN = 141.335
  MINIMUM = 1
  STANDARD_DEVIATION = 27.5242
END_OBJECT = IMAGE
/* MAP OBJECT DEFINITIONS */
OBJECT = IMAGE_MAP_PROJECTION
  ^DATA_SET_MAP_PROJECTION_CATALOG= "DSMAP.CAT"
  A_AXIS_RADIUS = 3396.0
  B_AXIS_RADIUS = 3396.0
  C_AXIS_RADIUS = 3396.0
  CENTER_LATITUDE = 0.0
  CENTER_LONGITUDE = 35.0
  COORDINATE_SYSTEM_NAME = PLANETOGRAPHIC
  COORDINATE_SYSTEM_TYPE = "BODY-FIXED ROTATING"
  EASTERNMOST_LONGITUDE = 35.5849
  FIRST_STANDARD_PARALLEL = "N/A"
  LINE_FIRST_PIXEL = 1
  LINE_LAST_PIXEL = 14176
  LINE_PROJECTION_OFFSET = 43022.125
  MAP_PROJECTION_ROTATION = 0.0
  MAP_PROJECTION_TYPE = SINUSOIDAL
  MAP_RESOLUTION = 1185.42760773333
  MAP_SCALE = 0.05
  MAXIMUM_LATITUDE = 36.3296
  MINIMUM_LATITUDE = 24.3223
  POSITIVE_LONGITUDE_DIRECTION = EAST
  REFERENCE_LATITUDE = "N/A"
  REFERENCE_LONGITUDE = "N/A"
  SAMPLE_FIRST_PIXEL = 1
  SAMPLE_LAST_PIXEL = 1751
  SAMPLE_PROJECTION_OFFSET = 1164.875
  SECOND_STANDARD_PARALLEL = "N/A"
  WESTERNMOST_LONGITUDE = 33.8015
END_OBJECT = IMAGE_MAP_PROJECTION
END
