PDS_VERSION_ID = PDS3
/* FILE DATA ELEMENTS */
RECORD_TYPE = UNDEFINED
/* POINTERS TO DATA OBJECTS */
^IMAGE = ("HQ228_0000_P24.TIF")
/* IDENTIFICATION DATA ELEMENTS */
DATA_SET_ID = "MEX-M-HRSC-4-REFDR-MAPPROJECT-EXT9-V4.0"
DATA_SET_NAME = "MARS EXPRESS HRSC MAP PROJECTED REFDR EXTENSION9 V4.0"
DETECTOR_ID = MEX_HRSC_P2
EVENT_TYPE = "MARS-REGIONAL-MAPPING-Vo-Te-Fl"
INSTRUMENT_HOST_ID = MEX
INSTRUMENT_HOST_NAME = "MARS EXPRESS"
INSTRUMENT_ID = HRSC
INSTRUMENT_NAME = "HIGH RESOLUTION STEREO CAMERA"
MISSION_NAME = "MARS EXPRESS"
MISSION_PHASE_NAME = ME_Phase_50
PROCESSING_LEVEL_ID = 4
PRODUCT_CREATION_TIME = 2025-01-29T08:28:47.000Z
PRODUCT_ID = "HQ228_0000_P24.TIF"
RELEASE_ID = 0020
REVISION_ID = 0000
/* QUALITY DATA ELEMENTS */
DATA_QUALITY_ID = 1
DATA_QUALITY_DESC = "Data calculated based on original SPICE kernels"
/* TIME DATA ELEMENTS */
SPACECRAFT_CLOCK_START_COUNT = "1/0676713181.65275"
SPACECRAFT_CLOCK_STOP_COUNT = "1/0676713415.30214"
START_TIME = 2024-10-11T07:54:56.756Z
STOP_TIME = 2024-10-11T07:57:32.095Z
/* ORBITAL DATA ELEMENTS */
ASCENDING_NODE_LONGITUDE = 88.57
MAXIMUM_RESOLUTION = 0.033
FOOTPRINT_POINT_LATITUDE = (37.9089,37.9033,37.8988,37.8939, 37.8886,37.883,37.8769,37.8765,37.9245, 37.7264,37.5283,37.33,37.132,36.9339, 36.7356,36.5376,36.2406,35.9434,35.7455 ,35.5473,35.3494,35.0524,34.8545, 34.6568,34.4589,34.2614,34.0637,33.8657 ,33.6682,33.4708,33.2732,33.0758, 32.8784,32.6809,32.385,32.1877,31.8919, 31.5963,31.3991,31.0055,30.71,30.4154, 30.2188,29.8258,29.3351,28.9433,28.6497 ,28.1607,28.0631,28.0242,28.0298, 28.0314,28.035,28.0365,28.0366,28.0372, 28.3322,28.7242,29.0186,29.4121,29.6092 ,29.8062,30.0032,30.2989,30.4962, 30.6935,30.9895,31.1867,31.3839,31.5811 ,31.8767,32.1728,32.3701,32.5688, 32.8646,33.0624,33.2603,33.4581,33.6559 ,33.8537,34.0517,34.3488,34.547,34.745, 35.0422,35.2404,35.4386,35.6373,35.9342 ,36.1325,36.3306,36.5291,36.7278, 36.9264,37.1248,37.3234,37.5219,37.8195 ,37.9189,37.9089)
FOOTPRINT_POINT_LONGITUDE = (138.278,137.894,137.616,137.339, 137.065,136.791,136.519,136.502,136.486 ,136.491,136.496,136.501,136.506, 136.511,136.515,136.52,136.526,136.533, 136.537,136.54,136.544,136.55,136.553, 136.556,136.56,136.563,136.566,136.569, 136.572,136.574,136.577,136.579,136.582 ,136.584,136.587,136.589,136.592, 136.595,136.597,136.599,136.602,136.603 ,136.604,136.606,136.608,136.609, 136.609,136.61,136.61,136.61,136.996, 137.275,137.805,138.198,138.214,138.22, 138.224,138.227,138.23,138.235,138.237, 138.24,138.242,138.245,138.248,138.25, 138.253,138.255,138.257,138.259,138.262 ,138.265,138.267,138.27,138.272,138.274 ,138.277,138.278,138.28,138.282,138.285 ,138.288,138.29,138.292,138.295,138.297 ,138.299,138.301,138.304,138.306, 138.308,138.31,138.312,138.314,138.316, 138.318,138.32,138.323,138.324,138.278)
ORBIT_NUMBER = 26228
ORBITAL_ECCENTRICITY = 0.571
ORBITAL_INCLINATION = 87.1
ORBITAL_SEMIMAJOR_AXIS = 8826.57
PERIAPSIS_ALTITUDE = 396.63
PERIAPSIS_ARGUMENT_ANGLE = 149.43
PERIAPSIS_TIME = 2024-10-11T07:56:28.000Z
SPACECRAFT_ORIENTATION = (0.0,-1.0,0.0)
^MEX_ORIENTATION_DESC = "MEX_ORIENTATION_DESC.TXT"
SPACECRAFT_POINTING_MODE = ACROSSTRACK
^MEX_POINTING_DESC = "MEX_POINTING_DESC.TXT"
RIGHT_ASCENSION = -1e+32
DECLINATION = -1e+32
OFFSET_ANGLE = 0.45
SPACECRAFT_SOLAR_DISTANCE = 2.26836e+08
TARGET_NAME = MARS
/* CAMERA DATA ELEMENTS */
DETECTOR_TEMPERATURE = 17.9627
FOCAL_PLANE_TEMPERATURE = 8.3794
INST_CMPRS_NAME = "DISCRETE COSINE TRANSFORMATION (DCT)"
INST_CMPRS_RATIO = 6.58416
INST_CMPRS_QUALITY = 0
INST_CMPRS_QUANTZ_TBL_ID = 0
INSTRUMENT_TEMPERATURE = 10.4184
LENS_TEMPERATURE = 8.5833
MACROPIXEL_SIZE = 2
MISSING_FRAMES = 0
PIXEL_SUBSAMPLING_FLAG = N
SIGNAL_CHAIN_ID = 3
/* RADIOMETRIC DATA ELEMENTS */
BANDWIDTH = 177.0
CENTER_FILTER_WAVELENGTH = 676.5
RADIANCE_OFFSET = 3.01899
RADIANCE_SCALING_FACTOR = 0.0144701
REFLECTANCE_SCALING_FACTOR = 0.000394774
MEX:REFLECTANCE_OFFSET = 0.0823643
/* IMAGE OBJECT DEFINITIONS */
OBJECT = IMAGE
  INTERCHANGE_FORMAT = BINARY
  LINES = 23534
  LINE_SAMPLES = 3606
  SAMPLE_TYPE = UNSIGNED_INTEGER
  SAMPLE_BITS = 8
  BANDS = 1
  BAND_STORAGE_TYPE = BAND_SEQUENTIAL
  MAXIMUM = 255
  MEAN = 100.786
  MINIMUM = 1
  STANDARD_DEVIATION = 20.5422
END_OBJECT = IMAGE
/* MAP OBJECT DEFINITIONS */
OBJECT = IMAGE_MAP_PROJECTION
  ^DATA_SET_MAP_PROJECTION_CATALOG= "DSMAP.CAT"
  A_AXIS_RADIUS = 3396.0
  B_AXIS_RADIUS = 3396.0
  C_AXIS_RADIUS = 3396.0
  CENTER_LATITUDE = 0.0
  CENTER_LONGITUDE = 137.0
  COORDINATE_SYSTEM_NAME = PLANETOGRAPHIC
  COORDINATE_SYSTEM_TYPE = "BODY-FIXED ROTATING"
  EASTERNMOST_LONGITUDE = 138.324
  FIRST_STANDARD_PARALLEL = "N/A"
  LINE_FIRST_PIXEL = 1
  LINE_LAST_PIXEL = 23534
  LINE_PROJECTION_OFFSET = 89919.25
  MAP_PROJECTION_ROTATION = 0.0
  MAP_PROJECTION_TYPE = SINUSOIDAL
  MAP_RESOLUTION = 2370.85521546667
  MAP_SCALE = 0.025
  MAXIMUM_LATITUDE = 37.9245
  MINIMUM_LATITUDE = 28.0242
  POSITIVE_LONGITUDE_DIRECTION = EAST
  REFERENCE_LATITUDE = "N/A"
  REFERENCE_LONGITUDE = "N/A"
  SAMPLE_FIRST_PIXEL = 1
  SAMPLE_LAST_PIXEL = 3606
  SAMPLE_PROJECTION_OFFSET = 989.75
  SECOND_STANDARD_PARALLEL = "N/A"
  WESTERNMOST_LONGITUDE = 136.486
END_OBJECT = IMAGE_MAP_PROJECTION
END
