PDS_VERSION_ID = PDS3
/* FILE DATA ELEMENTS */
RECORD_TYPE = UNDEFINED
/* POINTERS TO DATA OBJECTS */
^IMAGE = ("HQ227_0000_P24.TIF")
/* IDENTIFICATION DATA ELEMENTS */
DATA_SET_ID = "MEX-M-HRSC-4-REFDR-MAPPROJECT-EXT9-V4.0"
DATA_SET_NAME = "MARS EXPRESS HRSC MAP PROJECTED REFDR EXTENSION9 V4.0"
DETECTOR_ID = MEX_HRSC_P2
EVENT_TYPE = "MARS-REGIONAL-STEREO-Vo-Te"
INSTRUMENT_HOST_ID = MEX
INSTRUMENT_HOST_NAME = "MARS EXPRESS"
INSTRUMENT_ID = HRSC
INSTRUMENT_NAME = "HIGH RESOLUTION STEREO CAMERA"
MISSION_NAME = "MARS EXPRESS"
MISSION_PHASE_NAME = ME_Phase_50
PROCESSING_LEVEL_ID = 4
PRODUCT_CREATION_TIME = 2025-01-29T08:28:47.000Z
PRODUCT_ID = "HQ227_0000_P24.TIF"
RELEASE_ID = 0020
REVISION_ID = 0000
/* QUALITY DATA ELEMENTS */
DATA_QUALITY_ID = 1
DATA_QUALITY_DESC = "Data calculated based on original SPICE kernels"
/* TIME DATA ELEMENTS */
SPACECRAFT_CLOCK_START_COUNT = "1/0676688154.65118"
SPACECRAFT_CLOCK_STOP_COUNT = "1/0676688446.40178"
START_TIME = 2024-10-11T00:57:46.725Z
STOP_TIME = 2024-10-11T01:01:21.127Z
/* ORBITAL DATA ELEMENTS */
ASCENDING_NODE_LONGITUDE = 88.6
MAXIMUM_RESOLUTION = 0.0325
FOOTPRINT_POINT_LATITUDE = (30.1028,30.11,30.1163,30.1226,30.1227, 30.1339,29.7347,29.4683,29.2025,28.9368 ,28.6712,28.4058,28.1406,27.7431, 27.4784,27.2139,26.9496,26.6855,26.4216 ,26.158,25.8944,25.631,25.3675,25.1046, 24.5795,24.0552,23.5319,23.0098,22.4887 ,21.9596,21.6926,21.4258,21.1595, 20.8935,20.6278,20.3622,20.0971,19.8278 ,19.5565,19.2854,19.0145,18.7439, 18.4738,18.2041,17.7907,17.5149,17.2395 ,16.9645,16.8272,16.8115,16.7977, 16.7889,16.7766,16.7669,16.7664,16.767, 17.0424,17.3181,17.5943,17.871,18.1474, 18.4178,18.6884,18.9594,19.3664,19.638, 20.0441,20.3096,20.5752,20.8417,21.1082 ,21.3748,21.6417,21.9087,22.3084, 22.6998,23.2224,23.8767,24.4017,24.6647 ,24.9277,25.191,25.4545,25.8502,26.1142 ,26.3784,26.7753,27.04,27.3048,27.7023, 27.9678,28.2334,28.4992,28.7648,29.0312 ,29.2977,29.6973,29.9639,30.0972, 30.1028)
FOOTPRINT_POINT_LONGITUDE = (239.225,238.736,238.241,237.644, 237.628,237.612,237.619,237.624,237.628 ,237.631,237.635,237.638,237.642, 237.646,237.649,237.651,237.654,237.656 ,237.658,237.659,237.661,237.662, 237.664,237.665,237.666,237.667,237.668 ,237.667,237.666,237.665,237.664, 237.663,237.661,237.66,237.659,237.657, 237.655,237.653,237.651,237.648,237.646 ,237.643,237.64,237.638,237.633,237.629 ,237.626,237.622,237.62,237.62,238.052, 238.352,238.805,239.223,239.239,239.244 ,239.244,239.244,239.244,239.244, 239.244,239.244,239.243,239.243,239.243 ,239.243,239.243,239.242,239.242, 239.242,239.242,239.242,239.241,239.241 ,239.241,239.24,239.24,239.239,239.238, 239.238,239.237,239.237,239.237,239.236 ,239.235,239.235,239.234,239.234, 239.233,239.232,239.232,239.231,239.23, 239.229,239.229,239.228,239.227,239.226 ,239.226,239.225)
ORBIT_NUMBER = 26227
ORBITAL_ECCENTRICITY = 0.571
ORBITAL_INCLINATION = 87.11
ORBITAL_SEMIMAJOR_AXIS = 8833.77
PERIAPSIS_ALTITUDE = 395.73
PERIAPSIS_ARGUMENT_ANGLE = 149.56
PERIAPSIS_TIME = 2024-10-11T00:57:18.000Z
SPACECRAFT_ORIENTATION = (0.0,-1.0,0.0)
^MEX_ORIENTATION_DESC = "MEX_ORIENTATION_DESC.TXT"
SPACECRAFT_POINTING_MODE = ACROSSTRACK
^MEX_POINTING_DESC = "MEX_POINTING_DESC.TXT"
RIGHT_ASCENSION = -1e+32
DECLINATION = -1e+32
OFFSET_ANGLE = -0.539
SPACECRAFT_SOLAR_DISTANCE = 2.26779e+08
TARGET_NAME = MARS
/* CAMERA DATA ELEMENTS */
DETECTOR_TEMPERATURE = 16.9432
FOCAL_PLANE_TEMPERATURE = 9.195
INST_CMPRS_NAME = "DISCRETE COSINE TRANSFORMATION (DCT)"
INST_CMPRS_RATIO = 6.47176
INST_CMPRS_QUALITY = 0
INST_CMPRS_QUANTZ_TBL_ID = 0
INSTRUMENT_TEMPERATURE = 10.8262
LENS_TEMPERATURE = 8.7872
MACROPIXEL_SIZE = 2
MISSING_FRAMES = 0
PIXEL_SUBSAMPLING_FLAG = N
SIGNAL_CHAIN_ID = 3
/* RADIOMETRIC DATA ELEMENTS */
BANDWIDTH = 177.0
CENTER_FILTER_WAVELENGTH = 676.5
RADIANCE_OFFSET = 3.21303
RADIANCE_SCALING_FACTOR = 0.0205399
REFLECTANCE_SCALING_FACTOR = 0.000560093
MEX:REFLECTANCE_OFFSET = 0.0876146
/* IMAGE OBJECT DEFINITIONS */
OBJECT = IMAGE
  INTERCHANGE_FORMAT = BINARY
  LINES = 31635
  LINE_SAMPLES = 3715
  SAMPLE_TYPE = UNSIGNED_INTEGER
  SAMPLE_BITS = 8
  BANDS = 1
  BAND_STORAGE_TYPE = BAND_SEQUENTIAL
  MAXIMUM = 255
  MEAN = 134.465
  MINIMUM = 1
  STANDARD_DEVIATION = 20.9493
END_OBJECT = IMAGE
/* MAP OBJECT DEFINITIONS */
OBJECT = IMAGE_MAP_PROJECTION
  ^DATA_SET_MAP_PROJECTION_CATALOG= "DSMAP.CAT"
  A_AXIS_RADIUS = 3396.0
  B_AXIS_RADIUS = 3396.0
  C_AXIS_RADIUS = 3396.0
  CENTER_LATITUDE = 0.0
  CENTER_LONGITUDE = 238.0
  COORDINATE_SYSTEM_NAME = PLANETOGRAPHIC
  COORDINATE_SYSTEM_TYPE = "BODY-FIXED ROTATING"
  EASTERNMOST_LONGITUDE = 239.244
  FIRST_STANDARD_PARALLEL = "N/A"
  LINE_FIRST_PIXEL = 1
  LINE_LAST_PIXEL = 31635
  LINE_PROJECTION_OFFSET = 71445.75
  MAP_PROJECTION_ROTATION = 0.0
  MAP_PROJECTION_TYPE = SINUSOIDAL
  MAP_RESOLUTION = 2370.85521546667
  MAP_SCALE = 0.025
  MAXIMUM_LATITUDE = 30.1339
  MINIMUM_LATITUDE = 16.7664
  POSITIVE_LONGITUDE_DIRECTION = EAST
  REFERENCE_LATITUDE = "N/A"
  REFERENCE_LONGITUDE = "N/A"
  SAMPLE_FIRST_PIXEL = 1
  SAMPLE_LAST_PIXEL = 3715
  SAMPLE_PROJECTION_OFFSET = 917.25
  SECOND_STANDARD_PARALLEL = "N/A"
  WESTERNMOST_LONGITUDE = 237.612
END_OBJECT = IMAGE_MAP_PROJECTION
END
