PDS_VERSION_ID = PDS3
/* FILE DATA ELEMENTS */
RECORD_TYPE = UNDEFINED
/* POINTERS TO DATA OBJECTS */
^IMAGE = ("HQ226_0001_RE4.TIF")
/* IDENTIFICATION DATA ELEMENTS */
DATA_SET_ID = "MEX-M-HRSC-4-REFDR-MAPPROJECT-EXT9-V4.0"
DATA_SET_NAME = "MARS EXPRESS HRSC MAP PROJECTED REFDR EXTENSION9 V4.0"
DETECTOR_ID = MEX_HRSC_RED
EVENT_TYPE = "MARS-LOCAL-COLOR-Eb-La-Ts"
INSTRUMENT_HOST_ID = MEX
INSTRUMENT_HOST_NAME = "MARS EXPRESS"
INSTRUMENT_ID = HRSC
INSTRUMENT_NAME = "HIGH RESOLUTION STEREO CAMERA"
MISSION_NAME = "MARS EXPRESS"
MISSION_PHASE_NAME = ME_Phase_50
PROCESSING_LEVEL_ID = 4
PRODUCT_CREATION_TIME = 2025-01-29T08:28:47.000Z
PRODUCT_ID = "HQ226_0001_RE4.TIF"
RELEASE_ID = 0020
REVISION_ID = 0000
/* QUALITY DATA ELEMENTS */
DATA_QUALITY_ID = 1
DATA_QUALITY_DESC = "Data calculated based on original SPICE kernels"
/* TIME DATA ELEMENTS */
SPACECRAFT_CLOCK_START_COUNT = "1/0676663043.64189"
SPACECRAFT_CLOCK_STOP_COUNT = "1/0676663247.56428"
START_TIME = 2024-10-10T17:59:21.694Z
STOP_TIME = 2024-10-10T18:01:30.184Z
/* ORBITAL DATA ELEMENTS */
ASCENDING_NODE_LONGITUDE = 88.61
MAXIMUM_RESOLUTION = 0.0338
FOOTPRINT_POINT_LATITUDE = (27.8762,27.8771,27.878,27.8785,27.8786 ,27.8786,27.8785,27.9233,27.7633, 27.6034,27.3636,27.2029,27.0423,26.804, 26.6449,26.4852,26.3259,26.1664,26.0074 ,25.7693,25.6096,25.3697,25.131,24.9722 ,24.8142,24.6555,24.4159,24.1026, 23.8684,23.4753,23.1605,23.0026,22.8367 ,22.6784,22.4485,22.2038,22.0426, 21.7272,21.4843,21.3214,21.162,21.0032, 20.843,20.6829,20.5228,20.3632,20.2035, 20.0409,19.9591,19.9418,19.9391,19.9365 ,19.9343,19.9308,19.9295,19.9261,19.926 ,19.9263,20.1696,20.329,20.4897,20.6509 ,20.8108,20.9706,21.2105,21.4514, 21.6131,21.775,21.9364,22.0972,22.2596, 22.6575,22.9686,23.2844,23.4422,23.6004 ,23.8376,24.0752,24.2351,24.394,24.5528 ,24.7109,24.8694,25.1088,25.346,25.5047 ,25.7433,25.9025,26.061,26.3038,26.4654 ,26.7802,27.0187,27.1797,27.3395, 27.5007,27.6609,27.8219,27.9027, 27.8762)
FOOTPRINT_POINT_LONGITUDE = (341.996,341.722,341.341,340.931, 340.688,340.444,340.428,340.405,340.406 ,340.406,340.407,340.408,340.409, 340.409,340.409,340.41,340.41,340.41, 340.41,340.41,340.41,340.411,340.41, 340.41,340.41,340.409,340.41,340.407, 340.405,340.403,340.401,340.401,340.403 ,340.402,340.398,340.399,340.398, 340.393,340.391,340.391,340.389,340.387 ,340.385,340.383,340.382,340.38,340.378 ,340.376,340.375,340.375,340.717, 340.935,341.152,341.479,341.681,341.96, 341.976,341.981,341.981,341.982,341.983 ,341.984,341.984,341.985,341.985, 341.986,341.987,341.988,341.989,341.989 ,341.99,341.993,341.992,341.994,341.994 ,341.995,341.996,341.997,341.998, 341.999,342.0,342.0,342.001,342.002, 342.003,342.003,342.004,342.005,342.005 ,342.008,342.009,342.008,342.009,342.01 ,342.01,342.011,342.012,342.013,342.014 ,341.996)
ORBIT_NUMBER = 26226
ORBITAL_ECCENTRICITY = 0.571
ORBITAL_INCLINATION = 87.11
ORBITAL_SEMIMAJOR_AXIS = 8821.66
PERIAPSIS_ALTITUDE = 396.29
PERIAPSIS_ARGUMENT_ANGLE = 149.74
PERIAPSIS_TIME = 2024-10-10T17:58:14.000Z
SPACECRAFT_ORIENTATION = (0.0,-1.0,0.0)
^MEX_ORIENTATION_DESC = "MEX_ORIENTATION_DESC.TXT"
SPACECRAFT_POINTING_MODE = NADIR
^MEX_POINTING_DESC = "MEX_POINTING_DESC.TXT"
RIGHT_ASCENSION = -1e+32
DECLINATION = -1e+32
OFFSET_ANGLE = -1e+32
SPACECRAFT_SOLAR_DISTANCE = 2.26722e+08
TARGET_NAME = MARS
/* CAMERA DATA ELEMENTS */
DETECTOR_TEMPERATURE = 19.5939
FOCAL_PLANE_TEMPERATURE = 10.4184
INST_CMPRS_NAME = "DISCRETE COSINE TRANSFORMATION (DCT)"
INST_CMPRS_RATIO = 7.0002
INST_CMPRS_QUALITY = 0
INST_CMPRS_QUANTZ_TBL_ID = 0
INSTRUMENT_TEMPERATURE = 13.0691
LENS_TEMPERATURE = 10.6223
MACROPIXEL_SIZE = 2
MISSING_FRAMES = 0
PIXEL_SUBSAMPLING_FLAG = N
SIGNAL_CHAIN_ID = 3
/* RADIOMETRIC DATA ELEMENTS */
BANDWIDTH = 48.0
CENTER_FILTER_WAVELENGTH = 748.0
RADIANCE_OFFSET = 0.66785
RADIANCE_SCALING_FACTOR = 0.00304901
REFLECTANCE_SCALING_FACTOR = 0.000357662
MEX:REFLECTANCE_OFFSET = 0.0783418
/* IMAGE OBJECT DEFINITIONS */
OBJECT = IMAGE
  INTERCHANGE_FORMAT = BINARY
  LINES = 18930
  LINE_SAMPLES = 3591
  SAMPLE_TYPE = UNSIGNED_INTEGER
  SAMPLE_BITS = 8
  BANDS = 1
  BAND_STORAGE_TYPE = BAND_SEQUENTIAL
  MAXIMUM = 255
  MEAN = 109.239
  MINIMUM = 1
  STANDARD_DEVIATION = 38.743
END_OBJECT = IMAGE
/* MAP OBJECT DEFINITIONS */
OBJECT = IMAGE_MAP_PROJECTION
  ^DATA_SET_MAP_PROJECTION_CATALOG= "DSMAP.CAT"
  A_AXIS_RADIUS = 3396.0
  B_AXIS_RADIUS = 3396.0
  C_AXIS_RADIUS = 3396.0
  CENTER_LATITUDE = 0.0
  CENTER_LONGITUDE = 341.0
  COORDINATE_SYSTEM_NAME = PLANETOGRAPHIC
  COORDINATE_SYSTEM_TYPE = "BODY-FIXED ROTATING"
  EASTERNMOST_LONGITUDE = 342.014
  FIRST_STANDARD_PARALLEL = "N/A"
  LINE_FIRST_PIXEL = 1
  LINE_LAST_PIXEL = 18930
  LINE_PROJECTION_OFFSET = 66117.25
  MAP_PROJECTION_ROTATION = 0.0
  MAP_PROJECTION_TYPE = SINUSOIDAL
  MAP_RESOLUTION = 2370.85521546667
  MAP_SCALE = 0.025
  MAXIMUM_LATITUDE = 27.9233
  MINIMUM_LATITUDE = 19.926
  POSITIVE_LONGITUDE_DIRECTION = EAST
  REFERENCE_LATITUDE = "N/A"
  REFERENCE_LONGITUDE = "N/A"
  SAMPLE_FIRST_PIXEL = 1
  SAMPLE_LAST_PIXEL = 3591
  SAMPLE_PROJECTION_OFFSET = 1395.75
  SECOND_STANDARD_PARALLEL = "N/A"
  WESTERNMOST_LONGITUDE = 340.375
END_OBJECT = IMAGE_MAP_PROJECTION
END
