PDS_VERSION_ID = PDS3
/* FILE DATA ELEMENTS */
RECORD_TYPE = UNDEFINED
/* POINTERS TO DATA OBJECTS */
^IMAGE = ("HQ226_0001_IR4.TIF")
/* IDENTIFICATION DATA ELEMENTS */
DATA_SET_ID = "MEX-M-HRSC-4-REFDR-MAPPROJECT-EXT9-V4.0"
DATA_SET_NAME = "MARS EXPRESS HRSC MAP PROJECTED REFDR EXTENSION9 V4.0"
DETECTOR_ID = MEX_HRSC_IR
EVENT_TYPE = "MARS-LOCAL-COLOR-Eb-La-Ts"
INSTRUMENT_HOST_ID = MEX
INSTRUMENT_HOST_NAME = "MARS EXPRESS"
INSTRUMENT_ID = HRSC
INSTRUMENT_NAME = "HIGH RESOLUTION STEREO CAMERA"
MISSION_NAME = "MARS EXPRESS"
MISSION_PHASE_NAME = ME_Phase_50
PROCESSING_LEVEL_ID = 4
PRODUCT_CREATION_TIME = 2025-01-29T08:28:47.000Z
PRODUCT_ID = "HQ226_0001_IR4.TIF"
RELEASE_ID = 0020
REVISION_ID = 0000
/* QUALITY DATA ELEMENTS */
DATA_QUALITY_ID = 1
DATA_QUALITY_DESC = "Data calculated based on original SPICE kernels"
/* TIME DATA ELEMENTS */
SPACECRAFT_CLOCK_START_COUNT = "1/0676663043.64189"
SPACECRAFT_CLOCK_STOP_COUNT = "1/0676663247.56428"
START_TIME = 2024-10-10T17:58:21.450Z
STOP_TIME = 2024-10-10T18:00:26.225Z
/* ORBITAL DATA ELEMENTS */
ASCENDING_NODE_LONGITUDE = 88.61
MAXIMUM_RESOLUTION = 0.0334
FOOTPRINT_POINT_LATITUDE = (27.9071,27.9087,27.9092,27.9089, 27.9079,27.9062,27.9045,27.9044,27.8602 ,27.6246,27.3882,27.2308,27.0736, 26.9151,26.6778,26.4409,26.2823,26.1246 ,25.8875,25.7292,25.5719,25.4146, 25.1785,24.9412,24.7824,24.6243,24.4667 ,24.302,24.1446,23.9817,23.8209,23.6614 ,23.5028,23.2651,23.1062,22.948,22.6398 ,22.4799,22.1636,21.9239,21.7615, 21.6022,21.2887,21.0495,20.8902,20.7314 ,20.5727,20.4141,20.2551,20.017,19.9375 ,19.8919,19.892,19.8925,19.8923,19.891, 19.8888,19.8859,19.8857,19.8862,20.1265 ,20.286,20.6014,20.7608,20.9204,21.0807 ,21.3197,21.5565,21.7145,21.9527,22.112 ,22.426,22.5846,22.7461,22.9064,23.0652 ,23.3025,23.4609,23.6197,23.7785, 24.0159,24.3393,24.5772,24.736,24.8934, 25.0525,25.2124,25.4497,25.6082,25.8461 ,26.0848,26.3948,26.6354,26.8749, 27.0338,27.3489,27.5849,27.7425,27.821, 27.9071)
FOOTPRINT_POINT_LONGITUDE = (341.989,341.658,341.418,341.117, 340.892,340.636,340.456,340.441,340.418 ,340.42,340.422,340.423,340.424,340.425 ,340.426,340.427,340.428,340.428, 340.429,340.43,340.43,340.431,340.432, 340.432,340.432,340.433,340.433,340.434 ,340.434,340.432,340.431,340.43,340.43, 340.43,340.429,340.429,340.431,340.43, 340.429,340.428,340.425,340.424,340.424 ,340.422,340.421,340.42,340.419,340.417 ,340.416,340.414,340.413,340.413, 340.665,340.933,341.126,341.408,341.601 ,341.928,341.943,341.948,341.949,341.95 ,341.953,341.954,341.955,341.955, 341.957,341.959,341.961,341.962,341.963 ,341.967,341.968,341.968,341.969,341.97 ,341.972,341.973,341.974,341.976, 341.978,341.981,341.982,341.983,341.985 ,341.986,341.986,341.988,341.989, 341.991,341.992,341.997,341.997,341.998 ,341.999,342.001,342.003,342.005, 342.005,341.989)
ORBIT_NUMBER = 26226
ORBITAL_ECCENTRICITY = 0.571
ORBITAL_INCLINATION = 87.11
ORBITAL_SEMIMAJOR_AXIS = 8821.66
PERIAPSIS_ALTITUDE = 396.29
PERIAPSIS_ARGUMENT_ANGLE = 149.74
PERIAPSIS_TIME = 2024-10-10T17:58:14.000Z
SPACECRAFT_ORIENTATION = (0.0,-1.0,0.0)
^MEX_ORIENTATION_DESC = "MEX_ORIENTATION_DESC.TXT"
SPACECRAFT_POINTING_MODE = NADIR
^MEX_POINTING_DESC = "MEX_POINTING_DESC.TXT"
RIGHT_ASCENSION = -1e+32
DECLINATION = -1e+32
OFFSET_ANGLE = -1e+32
SPACECRAFT_SOLAR_DISTANCE = 2.26722e+08
TARGET_NAME = MARS
/* CAMERA DATA ELEMENTS */
DETECTOR_TEMPERATURE = 18.5744
FOCAL_PLANE_TEMPERATURE = 10.4184
INST_CMPRS_NAME = "DISCRETE COSINE TRANSFORMATION (DCT)"
INST_CMPRS_RATIO = 4.41888
INST_CMPRS_QUALITY = 0
INST_CMPRS_QUANTZ_TBL_ID = 0
INSTRUMENT_TEMPERATURE = 13.0691
LENS_TEMPERATURE = 10.6223
MACROPIXEL_SIZE = 2
MISSING_FRAMES = 2
PIXEL_SUBSAMPLING_FLAG = N
SIGNAL_CHAIN_ID = 3
/* RADIOMETRIC DATA ELEMENTS */
BANDWIDTH = 81.0
CENTER_FILTER_WAVELENGTH = 955.5
RADIANCE_OFFSET = 0.585053
RADIANCE_SCALING_FACTOR = 0.00313558
REFLECTANCE_SCALING_FACTOR = 0.000347722
MEX:REFLECTANCE_OFFSET = 0.0648798
/* IMAGE OBJECT DEFINITIONS */
OBJECT = IMAGE
  INTERCHANGE_FORMAT = BINARY
  LINES = 18930
  LINE_SAMPLES = 3591
  SAMPLE_TYPE = UNSIGNED_INTEGER
  SAMPLE_BITS = 8
  BANDS = 1
  BAND_STORAGE_TYPE = BAND_SEQUENTIAL
  MAXIMUM = 255
  MEAN = 106.341
  MINIMUM = 1
  STANDARD_DEVIATION = 38.0821
END_OBJECT = IMAGE
/* MAP OBJECT DEFINITIONS */
OBJECT = IMAGE_MAP_PROJECTION
  ^DATA_SET_MAP_PROJECTION_CATALOG= "DSMAP.CAT"
  A_AXIS_RADIUS = 3396.0
  B_AXIS_RADIUS = 3396.0
  C_AXIS_RADIUS = 3396.0
  CENTER_LATITUDE = 0.0
  CENTER_LONGITUDE = 341.0
  COORDINATE_SYSTEM_NAME = PLANETOGRAPHIC
  COORDINATE_SYSTEM_TYPE = "BODY-FIXED ROTATING"
  EASTERNMOST_LONGITUDE = 342.005
  FIRST_STANDARD_PARALLEL = "N/A"
  LINE_FIRST_PIXEL = 1
  LINE_LAST_PIXEL = 18930
  LINE_PROJECTION_OFFSET = 66117.25
  MAP_PROJECTION_ROTATION = 0.0
  MAP_PROJECTION_TYPE = SINUSOIDAL
  MAP_RESOLUTION = 2370.85521546667
  MAP_SCALE = 0.025
  MAXIMUM_LATITUDE = 27.9092
  MINIMUM_LATITUDE = 19.8857
  POSITIVE_LONGITUDE_DIRECTION = EAST
  REFERENCE_LATITUDE = "N/A"
  REFERENCE_LONGITUDE = "N/A"
  SAMPLE_FIRST_PIXEL = 1
  SAMPLE_LAST_PIXEL = 3591
  SAMPLE_PROJECTION_OFFSET = 1395.75
  SECOND_STANDARD_PARALLEL = "N/A"
  WESTERNMOST_LONGITUDE = 340.413
END_OBJECT = IMAGE_MAP_PROJECTION
END
