PDS_VERSION_ID = PDS3
/* FILE DATA ELEMENTS */
RECORD_TYPE = UNDEFINED
/* POINTERS TO DATA OBJECTS */
^IMAGE = ("HQ224_0000_S14.TIF")
/* IDENTIFICATION DATA ELEMENTS */
DATA_SET_ID = "MEX-M-HRSC-4-REFDR-MAPPROJECT-EXT9-V4.0"
DATA_SET_NAME = "MARS EXPRESS HRSC MAP PROJECTED REFDR EXTENSION9 V4.0"
DETECTOR_ID = MEX_HRSC_S1
EVENT_TYPE = "MARS-REGIONAL-MAPPING-Vo-Eo"
INSTRUMENT_HOST_ID = MEX
INSTRUMENT_HOST_NAME = "MARS EXPRESS"
INSTRUMENT_ID = HRSC
INSTRUMENT_NAME = "HIGH RESOLUTION STEREO CAMERA"
MISSION_NAME = "MARS EXPRESS"
MISSION_PHASE_NAME = ME_Phase_50
PROCESSING_LEVEL_ID = 4
PRODUCT_CREATION_TIME = 2025-01-29T08:28:47.000Z
PRODUCT_ID = "HQ224_0000_S14.TIF"
RELEASE_ID = 0020
REVISION_ID = 0000
/* QUALITY DATA ELEMENTS */
DATA_QUALITY_ID = 1
DATA_QUALITY_DESC = "Data calculated based on original SPICE kernels"
/* TIME DATA ELEMENTS */
SPACECRAFT_CLOCK_START_COUNT = "1/0676612757.00360"
SPACECRAFT_CLOCK_STOP_COUNT = "1/0676613019.23686"
START_TIME = 2024-10-10T04:00:08.328Z
STOP_TIME = 2024-10-10T04:03:07.360Z
/* ORBITAL DATA ELEMENTS */
ASCENDING_NODE_LONGITUDE = 88.64
MAXIMUM_RESOLUTION = 0.034
FOOTPRINT_POINT_LATITUDE = (27.6263,27.6474,27.662,27.6736,27.6739 ,27.6202,27.2817,26.943,26.6038,26.2644 ,26.0382,25.8115,25.5853,25.3584, 25.1316,24.7918,24.5636,24.3361,24.1094 ,23.8832,23.6544,23.4269,22.9718,22.63, 22.402,22.0599,21.7183,21.377,21.1506, 20.9203,20.6917,20.3486,20.1202,19.8916 ,19.5488,19.3201,19.0915,18.863,18.6342 ,18.4054,18.1768,17.9482,17.7152, 17.4804,17.2454,17.0104,16.7754,16.5405 ,16.3057,16.1881,16.1411,16.1332, 16.1222,16.1128,16.1022,16.0794,16.0787 ,16.0789,16.4318,16.7846,17.02,17.255, 17.4905,17.8426,18.0719,18.3011,18.5309 ,18.7592,19.1019,19.3307,19.5595, 19.9026,20.2456,20.4742,20.8171,21.1599 ,21.5026,21.8451,22.0733,22.4156, 22.7578,23.0997,23.4415,23.7831,24.011, 24.3519,24.5792,24.8079,25.034,25.2618, 25.4909,25.7155,26.0553,26.2817,26.6213 ,26.8479,27.1868,27.413,27.526,27.6263)
FOOTPRINT_POINT_LONGITUDE = (186.889,186.308,185.824,185.347, 185.332,185.323,185.324,185.324,185.324 ,185.324,185.323,185.323,185.323, 185.322,185.321,185.32,185.319,185.318, 185.317,185.316,185.314,185.313,185.31, 185.307,185.305,185.302,185.299,185.296 ,185.293,185.291,185.288,185.284, 185.282,185.279,185.274,185.271,185.268 ,185.265,185.262,185.258,185.255, 185.251,185.248,185.244,185.24,185.236, 185.232,185.228,185.224,185.222,185.221 ,185.459,185.758,185.999,186.257, 186.762,186.777,186.783,186.786,186.79, 186.792,186.795,186.797,186.801,186.803 ,186.805,186.807,186.81,186.814,186.817 ,186.82,186.824,186.827,186.83,186.834, 186.838,186.842,186.847,186.849,186.854 ,186.858,186.862,186.867,186.871, 186.874,186.878,186.881,186.884,186.887 ,186.89,186.892,186.896,186.901,186.904 ,186.909,186.912,186.917,186.921, 186.922,186.889)
ORBIT_NUMBER = 26224
ORBITAL_ECCENTRICITY = 0.571
ORBITAL_INCLINATION = 87.11
ORBITAL_SEMIMAJOR_AXIS = 8820.52
PERIAPSIS_ALTITUDE = 396.1
PERIAPSIS_ARGUMENT_ANGLE = 150.1
PERIAPSIS_TIME = 2024-10-10T04:00:09.000Z
SPACECRAFT_ORIENTATION = (0.0,-1.0,0.0)
^MEX_ORIENTATION_DESC = "MEX_ORIENTATION_DESC.TXT"
SPACECRAFT_POINTING_MODE = ACROSSTRACK
^MEX_POINTING_DESC = "MEX_POINTING_DESC.TXT"
RIGHT_ASCENSION = -1e+32
DECLINATION = -1e+32
OFFSET_ANGLE = 0.539
SPACECRAFT_SOLAR_DISTANCE = 2.26608e+08
TARGET_NAME = MARS
/* CAMERA DATA ELEMENTS */
DETECTOR_TEMPERATURE = 16.9432
FOCAL_PLANE_TEMPERATURE = 8.7872
INST_CMPRS_NAME = "DISCRETE COSINE TRANSFORMATION (DCT)"
INST_CMPRS_RATIO = 11.9174
INST_CMPRS_QUALITY = 0
INST_CMPRS_QUANTZ_TBL_ID = 0
INSTRUMENT_TEMPERATURE = 10.6223
LENS_TEMPERATURE = 8.7872
MACROPIXEL_SIZE = 2
MISSING_FRAMES = 0
PIXEL_SUBSAMPLING_FLAG = N
SIGNAL_CHAIN_ID = 1
/* RADIOMETRIC DATA ELEMENTS */
BANDWIDTH = 180.0
CENTER_FILTER_WAVELENGTH = 677.0
RADIANCE_OFFSET = 4.40835
RADIANCE_SCALING_FACTOR = 0.0142997
REFLECTANCE_SCALING_FACTOR = 0.000383106
MEX:REFLECTANCE_OFFSET = 0.118105
/* IMAGE OBJECT DEFINITIONS */
OBJECT = IMAGE
  INTERCHANGE_FORMAT = BINARY
  LINES = 27276
  LINE_SAMPLES = 3845
  SAMPLE_TYPE = UNSIGNED_INTEGER
  SAMPLE_BITS = 8
  BANDS = 1
  BAND_STORAGE_TYPE = BAND_SEQUENTIAL
  MAXIMUM = 255
  MEAN = 102.387
  MINIMUM = 1
  STANDARD_DEVIATION = 22.1797
END_OBJECT = IMAGE
/* MAP OBJECT DEFINITIONS */
OBJECT = IMAGE_MAP_PROJECTION
  ^DATA_SET_MAP_PROJECTION_CATALOG= "DSMAP.CAT"
  A_AXIS_RADIUS = 3396.0
  B_AXIS_RADIUS = 3396.0
  C_AXIS_RADIUS = 3396.0
  CENTER_LATITUDE = 0.0
  CENTER_LONGITUDE = 186.0
  COORDINATE_SYSTEM_NAME = PLANETOGRAPHIC
  COORDINATE_SYSTEM_TYPE = "BODY-FIXED ROTATING"
  EASTERNMOST_LONGITUDE = 186.922
  FIRST_STANDARD_PARALLEL = "N/A"
  LINE_FIRST_PIXEL = 1
  LINE_LAST_PIXEL = 27276
  LINE_PROJECTION_OFFSET = 65521.75
  MAP_PROJECTION_ROTATION = 0.0
  MAP_PROJECTION_TYPE = SINUSOIDAL
  MAP_RESOLUTION = 2370.85521546667
  MAP_SCALE = 0.025
  MAXIMUM_LATITUDE = 27.6739
  MINIMUM_LATITUDE = 16.0787
  POSITIVE_LONGITUDE_DIRECTION = EAST
  REFERENCE_LATITUDE = "N/A"
  REFERENCE_LONGITUDE = "N/A"
  SAMPLE_FIRST_PIXEL = 1
  SAMPLE_LAST_PIXEL = 3845
  SAMPLE_PROJECTION_OFFSET = 1850.75
  SECOND_STANDARD_PARALLEL = "N/A"
  WESTERNMOST_LONGITUDE = 185.221
END_OBJECT = IMAGE_MAP_PROJECTION
END
