PDS_VERSION_ID = PDS3
/* FILE DATA ELEMENTS */
RECORD_TYPE = UNDEFINED
/* POINTERS TO DATA OBJECTS */
^IMAGE = ("HQ223_0000_S14.TIF")
/* IDENTIFICATION DATA ELEMENTS */
DATA_SET_ID = "MEX-M-HRSC-4-REFDR-MAPPROJECT-EXT9-V4.0"
DATA_SET_NAME = "MARS EXPRESS HRSC MAP PROJECTED REFDR EXTENSION9 V4.0"
DETECTOR_ID = MEX_HRSC_S1
EVENT_TYPE = "MARS-REGIONAL-STEREO-Vo-Fl-Gl"
INSTRUMENT_HOST_ID = MEX
INSTRUMENT_HOST_NAME = "MARS EXPRESS"
INSTRUMENT_ID = HRSC
INSTRUMENT_NAME = "HIGH RESOLUTION STEREO CAMERA"
MISSION_NAME = "MARS EXPRESS"
MISSION_PHASE_NAME = ME_Phase_50
PROCESSING_LEVEL_ID = 4
PRODUCT_CREATION_TIME = 2025-01-29T08:28:47.000Z
PRODUCT_ID = "HQ223_0000_S14.TIF"
RELEASE_ID = 0020
REVISION_ID = 0000
/* QUALITY DATA ELEMENTS */
DATA_QUALITY_ID = 1
DATA_QUALITY_DESC = "Data calculated based on original SPICE kernels"
/* TIME DATA ELEMENTS */
SPACECRAFT_CLOCK_START_COUNT = "1/0676587558.65110"
SPACECRAFT_CLOCK_STOP_COUNT = "1/0676587763.25080"
START_TIME = 2024-10-09T21:00:10.359Z
STOP_TIME = 2024-10-09T21:02:18.358Z
/* ORBITAL DATA ELEMENTS */
ASCENDING_NODE_LONGITUDE = 88.66
MAXIMUM_RESOLUTION = 0.0168
FOOTPRINT_POINT_LATITUDE = (31.0954,31.0961,31.0958,31.0945, 31.0907,31.0869,31.0866,31.0573,30.8162 ,30.6545,30.3337,30.0098,29.7702, 29.4449,29.279,29.0366,28.875,28.7132, 28.5512,28.3892,28.2272,28.0652,27.903, 27.7407,27.4973,27.335,27.1725,27.0099, 26.8474,26.6849,26.4409,26.2782,26.1153 ,25.9523,25.7884,25.6256,25.4618, 25.2982,25.0529,24.8076,24.6439,24.4804 ,24.2352,24.0718,23.908,23.7438,23.5789 ,23.3305,23.167,23.005,22.9237,22.9161, 22.919,22.9204,22.9211,22.9185,22.9151, 22.915,22.9151,23.1624,23.3265,23.491, 23.6549,23.8193,23.9853,24.2304,24.3959 ,24.6399,24.8026,25.0471,25.2102, 25.4547,25.6182,25.9372,26.0998,26.2667 ,26.4311,26.5935,26.7572,26.9203, 27.0839,27.2477,27.4142,27.5824,27.745, 27.9076,28.0693,28.3858,28.7098,28.8723 ,29.0343,29.2771,29.6006,29.9236, 30.1657,30.3313,30.6528,30.9776,31.0578 ,31.0954)
FOOTPRINT_POINT_LONGITUDE = (288.413,288.078,287.839,287.537, 287.107,286.82,286.804,286.787,286.791, 286.793,286.799,286.803,286.807,286.811 ,286.811,286.814,286.816,286.818, 286.819,286.821,286.823,286.824,286.826 ,286.827,286.829,286.831,286.832, 286.833,286.834,286.835,286.836,286.837 ,286.838,286.839,286.839,286.84,286.84, 286.841,286.841,286.841,286.842,286.842 ,286.842,286.842,286.842,286.842, 286.841,286.84,286.84,286.84,286.84, 286.84,287.126,287.426,287.636,287.996, 288.341,288.356,288.364,288.365,288.366 ,288.367,288.369,288.37,288.37,288.372, 288.373,288.375,288.377,288.379,288.38, 288.382,288.383,288.388,288.39,288.39, 288.391,288.392,288.393,288.394,288.395 ,288.396,288.396,288.395,288.397, 288.398,288.399,288.405,288.407,288.408 ,288.41,288.412,288.414,288.417,288.419 ,288.418,288.421,288.423,288.423, 288.413)
ORBIT_NUMBER = 26223
ORBITAL_ECCENTRICITY = 0.571
ORBITAL_INCLINATION = 87.1
ORBITAL_SEMIMAJOR_AXIS = 8829.39
PERIAPSIS_ALTITUDE = 395.67
PERIAPSIS_ARGUMENT_ANGLE = 150.29
PERIAPSIS_TIME = 2024-10-09T21:01:08.000Z
SPACECRAFT_ORIENTATION = (0.0,-1.0,0.0)
^MEX_ORIENTATION_DESC = "MEX_ORIENTATION_DESC.TXT"
SPACECRAFT_POINTING_MODE = NADIR
^MEX_POINTING_DESC = "MEX_POINTING_DESC.TXT"
RIGHT_ASCENSION = -1e+32
DECLINATION = -1e+32
OFFSET_ANGLE = -1e+32
SPACECRAFT_SOLAR_DISTANCE = 2.26551e+08
TARGET_NAME = MARS
/* CAMERA DATA ELEMENTS */
DETECTOR_TEMPERATURE = 17.351
FOCAL_PLANE_TEMPERATURE = 8.7872
INST_CMPRS_NAME = "DISCRETE COSINE TRANSFORMATION (DCT)"
INST_CMPRS_RATIO = 8.49973
INST_CMPRS_QUALITY = 0
INST_CMPRS_QUANTZ_TBL_ID = 0
INSTRUMENT_TEMPERATURE = 11.0301
LENS_TEMPERATURE = 9.195
MACROPIXEL_SIZE = 1
MISSING_FRAMES = 0
PIXEL_SUBSAMPLING_FLAG = N
SIGNAL_CHAIN_ID = 2
/* RADIOMETRIC DATA ELEMENTS */
BANDWIDTH = 180.0
CENTER_FILTER_WAVELENGTH = 677.0
RADIANCE_OFFSET = 2.59718
RADIANCE_SCALING_FACTOR = 0.0207858
REFLECTANCE_SCALING_FACTOR = 0.000556596
MEX:REFLECTANCE_OFFSET = 0.0695467
/* IMAGE OBJECT DEFINITIONS */
OBJECT = IMAGE
  INTERCHANGE_FORMAT = BINARY
  LINES = 38608
  LINE_SAMPLES = 7003
  SAMPLE_TYPE = UNSIGNED_INTEGER
  SAMPLE_BITS = 8
  BANDS = 1
  BAND_STORAGE_TYPE = BAND_SEQUENTIAL
  MAXIMUM = 255
  MEAN = 98.7157
  MINIMUM = 1
  STANDARD_DEVIATION = 22.2456
END_OBJECT = IMAGE
/* MAP OBJECT DEFINITIONS */
OBJECT = IMAGE_MAP_PROJECTION
  ^DATA_SET_MAP_PROJECTION_CATALOG= "DSMAP.CAT"
  A_AXIS_RADIUS = 3396.0
  B_AXIS_RADIUS = 3396.0
  C_AXIS_RADIUS = 3396.0
  CENTER_LATITUDE = 0.0
  CENTER_LONGITUDE = 288.0
  COORDINATE_SYSTEM_NAME = PLANETOGRAPHIC
  COORDINATE_SYSTEM_TYPE = "BODY-FIXED ROTATING"
  EASTERNMOST_LONGITUDE = 288.423
  FIRST_STANDARD_PARALLEL = "N/A"
  LINE_FIRST_PIXEL = 1
  LINE_LAST_PIXEL = 38608
  LINE_PROJECTION_OFFSET = 147337.0
  MAP_PROJECTION_ROTATION = 0.0
  MAP_PROJECTION_TYPE = SINUSOIDAL
  MAP_RESOLUTION = 4741.71043093333
  MAP_SCALE = 0.0125
  MAXIMUM_LATITUDE = 31.0961
  MINIMUM_LATITUDE = 22.915
  POSITIVE_LONGITUDE_DIRECTION = EAST
  REFERENCE_LATITUDE = "N/A"
  REFERENCE_LONGITUDE = "N/A"
  SAMPLE_FIRST_PIXEL = 1
  SAMPLE_LAST_PIXEL = 7003
  SAMPLE_PROJECTION_OFFSET = 5215.0
  SECOND_STANDARD_PARALLEL = "N/A"
  WESTERNMOST_LONGITUDE = 286.787
END_OBJECT = IMAGE_MAP_PROJECTION
END
