PDS_VERSION_ID = PDS3
/* FILE DATA ELEMENTS */
RECORD_TYPE = UNDEFINED
/* POINTERS TO DATA OBJECTS */
^IMAGE = ("HQ218_0000_GR4.TIF")
/* IDENTIFICATION DATA ELEMENTS */
DATA_SET_ID = "MEX-M-HRSC-4-REFDR-MAPPROJECT-EXT9-V4.0"
DATA_SET_NAME = "MARS EXPRESS HRSC MAP PROJECTED REFDR EXTENSION9 V4.0"
DETECTOR_ID = MEX_HRSC_GREEN
EVENT_TYPE = "MARS-LOCAL-MAPPING-Im-Lc-Ts"
INSTRUMENT_HOST_ID = MEX
INSTRUMENT_HOST_NAME = "MARS EXPRESS"
INSTRUMENT_ID = HRSC
INSTRUMENT_NAME = "HIGH RESOLUTION STEREO CAMERA"
MISSION_NAME = "MARS EXPRESS"
MISSION_PHASE_NAME = ME_Phase_50
PROCESSING_LEVEL_ID = 4
PRODUCT_CREATION_TIME = 2025-01-29T08:28:47.000Z
PRODUCT_ID = "HQ218_0000_GR4.TIF"
RELEASE_ID = 0020
REVISION_ID = 0000
/* QUALITY DATA ELEMENTS */
DATA_QUALITY_ID = 1
DATA_QUALITY_DESC = "Data calculated based on original SPICE kernels"
/* TIME DATA ELEMENTS */
SPACECRAFT_CLOCK_START_COUNT = "1/0676461973.00347"
SPACECRAFT_CLOCK_STOP_COUNT = "1/0676462176.13476"
START_TIME = 2024-10-08T10:07:34.713Z
STOP_TIME = 2024-10-08T10:09:35.200Z
/* ORBITAL DATA ELEMENTS */
ASCENDING_NODE_LONGITUDE = 88.75
MAXIMUM_RESOLUTION = 0.0323
FOOTPRINT_POINT_LATITUDE = (21.2475,21.2472,21.2465,21.2455, 21.2442,21.2424,21.2393,21.2391,21.2364 ,21.0881,20.7918,20.4956,20.1255, 19.9034,19.5335,19.2378,18.9425,18.6431 ,18.4915,18.3399,18.1884,18.0372, 17.8855,17.7341,17.5825,17.3518,17.2011 ,17.0498,16.8982,16.7472,16.5962, 16.4452,16.2905,16.0585,15.9038,15.7492 ,15.5945,15.4396,15.2848,15.0536, 14.8226,14.6685,14.514,14.3559,14.1979, 14.04,13.8034,13.7245,13.6466,13.6466, 13.6464,13.6462,13.6457,13.6451,13.6441 ,13.6416,13.6415,13.642,13.8001,13.9581 ,14.1162,14.2743,14.4325,14.5892, 14.7436,14.8981,15.0527,15.2846,15.4395 ,15.6719,15.8268,15.9816,16.1365, 16.2914,16.522,16.6732,16.8245,17.0515, 17.2029,17.3548,17.5861,17.7378,17.8903 ,18.043,18.1935,18.4208,18.6481,18.7999 ,19.2439,19.5403,19.7623,19.9107, 20.1329,20.2812,20.5037,20.7262,20.8745 ,21.0974,21.172,21.2475)
FOOTPRINT_POINT_LONGITUDE = (78.2394,78.0087,77.7762,77.5414, 77.3047,77.0659,76.7333,76.7181,76.7038 ,76.703,76.7022,76.701,76.6991,76.6973, 76.6951,76.693,76.6919,76.6889,76.6877, 76.6861,76.6852,76.6849,76.6826,76.6813 ,76.6787,76.6775,76.6785,76.6765, 76.6725,76.6714,76.6696,76.6687,76.6675 ,76.6655,76.6639,76.6624,76.6604, 76.6567,76.6535,76.6524,76.6513,76.6497 ,76.6479,76.6455,76.643,76.641,76.6376, 76.6363,76.6349,76.8874,77.0758,77.2475 ,77.4336,77.5878,77.8028,78.2134, 78.2285,78.234,78.2341,78.2342,78.2344, 78.2345,78.2346,78.2347,78.2348,78.235, 78.2351,78.2353,78.2354,78.2356,78.2357 ,78.2358,78.2359,78.236,78.2361,78.2362 ,78.2363,78.2365,78.2366,78.2368, 78.2369,78.237,78.2373,78.2377,78.2375, 78.2375,78.2375,78.2376,78.2379,78.2381 ,78.2381,78.2382,78.2383,78.2383, 78.2384,78.2384,78.2385,78.2386,78.2387 ,78.2394)
ORBIT_NUMBER = 26218
ORBITAL_ECCENTRICITY = 0.571
ORBITAL_INCLINATION = 87.12
ORBITAL_SEMIMAJOR_AXIS = 8832.17
PERIAPSIS_ALTITUDE = 394.52
PERIAPSIS_ARGUMENT_ANGLE = 151.12
PERIAPSIS_TIME = 2024-10-08T10:05:41.000Z
SPACECRAFT_ORIENTATION = (0.0,-1.0,0.0)
^MEX_ORIENTATION_DESC = "MEX_ORIENTATION_DESC.TXT"
SPACECRAFT_POINTING_MODE = ACROSSTRACK
^MEX_POINTING_DESC = "MEX_POINTING_DESC.TXT"
RIGHT_ASCENSION = -1e+32
DECLINATION = -1e+32
OFFSET_ANGLE = -0.8
SPACECRAFT_SOLAR_DISTANCE = 2.26267e+08
TARGET_NAME = MARS
/* CAMERA DATA ELEMENTS */
DETECTOR_TEMPERATURE = 17.5549
FOCAL_PLANE_TEMPERATURE = 9.195
INST_CMPRS_NAME = "DISCRETE COSINE TRANSFORMATION (DCT)"
INST_CMPRS_RATIO = 5.16606
INST_CMPRS_QUALITY = 0
INST_CMPRS_QUANTZ_TBL_ID = 0
INSTRUMENT_TEMPERATURE = 10.8262
LENS_TEMPERATURE = 9.3989
MACROPIXEL_SIZE = 2
MISSING_FRAMES = 1
PIXEL_SUBSAMPLING_FLAG = N
SIGNAL_CHAIN_ID = 2
/* RADIOMETRIC DATA ELEMENTS */
BANDWIDTH = 88.0
CENTER_FILTER_WAVELENGTH = 538.0
RADIANCE_OFFSET = 1.22408
RADIANCE_SCALING_FACTOR = 0.00301557
REFLECTANCE_SCALING_FACTOR = 0.000132923
MEX:REFLECTANCE_OFFSET = 0.053956
/* IMAGE OBJECT DEFINITIONS */
OBJECT = IMAGE
  INTERCHANGE_FORMAT = BINARY
  LINES = 18006
  LINE_SAMPLES = 3828
  SAMPLE_TYPE = UNSIGNED_INTEGER
  SAMPLE_BITS = 8
  BANDS = 1
  BAND_STORAGE_TYPE = BAND_SEQUENTIAL
  MAXIMUM = 255
  MEAN = 133.228
  MINIMUM = 1
  STANDARD_DEVIATION = 33.7372
END_OBJECT = IMAGE
/* MAP OBJECT DEFINITIONS */
OBJECT = IMAGE_MAP_PROJECTION
  ^DATA_SET_MAP_PROJECTION_CATALOG= "DSMAP.CAT"
  A_AXIS_RADIUS = 3396.0
  B_AXIS_RADIUS = 3396.0
  C_AXIS_RADIUS = 3396.0
  CENTER_LATITUDE = 0.0
  CENTER_LONGITUDE = 77.0
  COORDINATE_SYSTEM_NAME = PLANETOGRAPHIC
  COORDINATE_SYSTEM_TYPE = "BODY-FIXED ROTATING"
  EASTERNMOST_LONGITUDE = 78.2394
  FIRST_STANDARD_PARALLEL = "N/A"
  LINE_FIRST_PIXEL = 1
  LINE_LAST_PIXEL = 18006
  LINE_PROJECTION_OFFSET = 50340.25
  MAP_PROJECTION_ROTATION = 0.0
  MAP_PROJECTION_TYPE = SINUSOIDAL
  MAP_RESOLUTION = 2370.85521546667
  MAP_SCALE = 0.025
  MAXIMUM_LATITUDE = 21.2475
  MINIMUM_LATITUDE = 13.6415
  POSITIVE_LONGITUDE_DIRECTION = EAST
  REFERENCE_LATITUDE = "N/A"
  REFERENCE_LONGITUDE = "N/A"
  SAMPLE_FIRST_PIXEL = 1
  SAMPLE_LAST_PIXEL = 3828
  SAMPLE_PROJECTION_OFFSET = 971.75
  SECOND_STANDARD_PARALLEL = "N/A"
  WESTERNMOST_LONGITUDE = 76.6349
END_OBJECT = IMAGE_MAP_PROJECTION
END
