PDS_VERSION_ID = PDS3
/* FILE DATA ELEMENTS */
RECORD_TYPE = UNDEFINED
/* POINTERS TO DATA OBJECTS */
^IMAGE = ("HQ216_0000_P24.TIF")
/* IDENTIFICATION DATA ELEMENTS */
DATA_SET_ID = "MEX-M-HRSC-4-REFDR-MAPPROJECT-EXT9-V4.0"
DATA_SET_NAME = "MARS EXPRESS HRSC MAP PROJECTED REFDR EXTENSION9 V4.0"
DETECTOR_ID = MEX_HRSC_P2
EVENT_TYPE = "MARS-REGIONAL-STEREO-Vo-Fl-Gl"
INSTRUMENT_HOST_ID = MEX
INSTRUMENT_HOST_NAME = "MARS EXPRESS"
INSTRUMENT_ID = HRSC
INSTRUMENT_NAME = "HIGH RESOLUTION STEREO CAMERA"
MISSION_NAME = "MARS EXPRESS"
MISSION_PHASE_NAME = ME_Phase_50
PROCESSING_LEVEL_ID = 4
PRODUCT_CREATION_TIME = 2025-01-29T08:28:47.000Z
PRODUCT_ID = "HQ216_0000_P24.TIF"
RELEASE_ID = 0020
REVISION_ID = 0000
/* QUALITY DATA ELEMENTS */
DATA_QUALITY_ID = 1
DATA_QUALITY_DESC = "Data calculated based on original SPICE kernels"
/* TIME DATA ELEMENTS */
SPACECRAFT_CLOCK_START_COUNT = "1/0676411601.00336"
SPACECRAFT_CLOCK_STOP_COUNT = "1/0676411857.33757"
START_TIME = 2024-10-07T20:08:32.204Z
STOP_TIME = 2024-10-07T20:11:32.298Z
/* ORBITAL DATA ELEMENTS */
ASCENDING_NODE_LONGITUDE = 88.78
MAXIMUM_RESOLUTION = 0.0326
FOOTPRINT_POINT_LATITUDE = (26.509,26.5105,26.5117,26.5117,26.5117 ,26.5223,26.2985,26.0751,25.8518, 25.6286,25.4055,25.183,24.8513,24.5183, 24.2958,24.0736,23.7405,23.4077,23.186, 22.9645,22.7431,22.5221,22.3012,22.0804 ,21.8597,21.419,20.9795,20.5404,19.8826 ,19.658,19.4335,19.2093,18.9851,18.761, 18.537,18.3135,18.0904,17.8678,17.5285, 17.3005,17.0726,16.8446,16.6171,16.3898 ,16.1649,15.9354,15.7029,15.4709, 15.3549,15.3477,15.3449,15.3407,15.3377 ,15.3349,15.3314,15.3312,15.3317,15.564 ,15.7965,16.0269,16.2539,16.4816, 16.8229,17.1656,17.5085,17.7371,17.9603 ,18.1837,18.4074,18.6313,18.8555, 19.0799,19.3045,19.5293,19.7542,20.0862 ,20.5249,21.0742,21.6251,22.1766, 22.3976,22.6189,22.8403,23.062,23.2838, 23.5058,23.7281,23.9503,24.1728,24.5069 ,24.8414,25.0644,25.2864,25.509,25.7325 ,25.9535,26.1774,26.4013,26.5134, 26.509)
FOOTPRINT_POINT_LONGITUDE = (283.404,282.956,282.315,281.882, 281.867,281.857,281.858,281.858,281.859 ,281.859,281.86,281.859,281.858,281.858 ,281.857,281.857,281.856,281.855, 281.854,281.854,281.853,281.852,281.85, 281.849,281.848,281.845,281.841,281.837 ,281.831,281.828,281.826,281.823, 281.821,281.818,281.815,281.812,281.809 ,281.806,281.801,281.798,281.794, 281.791,281.787,281.783,281.778,281.775 ,281.771,281.767,281.765,281.765, 282.074,282.476,282.754,283.017,283.342 ,283.357,283.363,283.364,283.365, 283.365,283.366,283.367,283.368,283.369 ,283.371,283.372,283.373,283.373, 283.374,283.375,283.376,283.377,283.378 ,283.379,283.38,283.382,283.383,283.386 ,283.388,283.39,283.391,283.392,283.393 ,283.394,283.395,283.396,283.397, 283.399,283.4,283.401,283.403,283.404, 283.405,283.406,283.407,283.406,283.408 ,283.409,283.41,283.404)
ORBIT_NUMBER = 26216
ORBITAL_ECCENTRICITY = 0.571
ORBITAL_INCLINATION = 87.1
ORBITAL_SEMIMAJOR_AXIS = 8832.66
PERIAPSIS_ALTITUDE = 394.81
PERIAPSIS_ARGUMENT_ANGLE = 151.49
PERIAPSIS_TIME = 2024-10-07T20:07:37.000Z
SPACECRAFT_ORIENTATION = (0.0,-1.0,0.0)
^MEX_ORIENTATION_DESC = "MEX_ORIENTATION_DESC.TXT"
SPACECRAFT_POINTING_MODE = NADIR
^MEX_POINTING_DESC = "MEX_POINTING_DESC.TXT"
RIGHT_ASCENSION = -1e+32
DECLINATION = -1e+32
OFFSET_ANGLE = -1e+32
SPACECRAFT_SOLAR_DISTANCE = 2.26153e+08
TARGET_NAME = MARS
/* CAMERA DATA ELEMENTS */
DETECTOR_TEMPERATURE = 17.7588
FOCAL_PLANE_TEMPERATURE = 8.5833
INST_CMPRS_NAME = "DISCRETE COSINE TRANSFORMATION (DCT)"
INST_CMPRS_RATIO = 7.40739
INST_CMPRS_QUALITY = 0
INST_CMPRS_QUANTZ_TBL_ID = 0
INSTRUMENT_TEMPERATURE = 11.0301
LENS_TEMPERATURE = 7.5638
MACROPIXEL_SIZE = 2
MISSING_FRAMES = 0
PIXEL_SUBSAMPLING_FLAG = N
SIGNAL_CHAIN_ID = 3
/* RADIOMETRIC DATA ELEMENTS */
BANDWIDTH = 177.0
CENTER_FILTER_WAVELENGTH = 676.5
RADIANCE_OFFSET = 2.8169
RADIANCE_SCALING_FACTOR = 0.0195043
REFLECTANCE_SCALING_FACTOR = 0.000528924
MEX:REFLECTANCE_OFFSET = 0.0763898
/* IMAGE OBJECT DEFINITIONS */
OBJECT = IMAGE
  INTERCHANGE_FORMAT = BINARY
  LINES = 26543
  LINE_SAMPLES = 3753
  SAMPLE_TYPE = UNSIGNED_INTEGER
  SAMPLE_BITS = 8
  BANDS = 1
  BAND_STORAGE_TYPE = BAND_SEQUENTIAL
  MAXIMUM = 255
  MEAN = 110.059
  MINIMUM = 1
  STANDARD_DEVIATION = 19.4552
END_OBJECT = IMAGE
/* MAP OBJECT DEFINITIONS */
OBJECT = IMAGE_MAP_PROJECTION
  ^DATA_SET_MAP_PROJECTION_CATALOG= "DSMAP.CAT"
  A_AXIS_RADIUS = 3396.0
  B_AXIS_RADIUS = 3396.0
  C_AXIS_RADIUS = 3396.0
  CENTER_LATITUDE = 0.0
  CENTER_LONGITUDE = 283.0
  COORDINATE_SYSTEM_NAME = PLANETOGRAPHIC
  COORDINATE_SYSTEM_TYPE = "BODY-FIXED ROTATING"
  EASTERNMOST_LONGITUDE = 283.41
  FIRST_STANDARD_PARALLEL = "N/A"
  LINE_FIRST_PIXEL = 1
  LINE_LAST_PIXEL = 26543
  LINE_PROJECTION_OFFSET = 62902.25
  MAP_PROJECTION_ROTATION = 0.0
  MAP_PROJECTION_TYPE = SINUSOIDAL
  MAP_RESOLUTION = 2370.85521546667
  MAP_SCALE = 0.025
  MAXIMUM_LATITUDE = 26.5223
  MINIMUM_LATITUDE = 15.3312
  POSITIVE_LONGITUDE_DIRECTION = EAST
  REFERENCE_LATITUDE = "N/A"
  REFERENCE_LONGITUDE = "N/A"
  SAMPLE_FIRST_PIXEL = 1
  SAMPLE_LAST_PIXEL = 3753
  SAMPLE_PROJECTION_OFFSET = 2832.75
  SECOND_STANDARD_PARALLEL = "N/A"
  WESTERNMOST_LONGITUDE = 281.765
END_OBJECT = IMAGE_MAP_PROJECTION
END
