PDS_VERSION_ID = PDS3
/* FILE DATA ELEMENTS */
RECORD_TYPE = UNDEFINED
/* POINTERS TO DATA OBJECTS */
^IMAGE = ("HQ216_0000_P14.TIF")
/* IDENTIFICATION DATA ELEMENTS */
DATA_SET_ID = "MEX-M-HRSC-4-REFDR-MAPPROJECT-EXT9-V4.0"
DATA_SET_NAME = "MARS EXPRESS HRSC MAP PROJECTED REFDR EXTENSION9 V4.0"
DETECTOR_ID = MEX_HRSC_P1
EVENT_TYPE = "MARS-REGIONAL-STEREO-Vo-Fl-Gl"
INSTRUMENT_HOST_ID = MEX
INSTRUMENT_HOST_NAME = "MARS EXPRESS"
INSTRUMENT_ID = HRSC
INSTRUMENT_NAME = "HIGH RESOLUTION STEREO CAMERA"
MISSION_NAME = "MARS EXPRESS"
MISSION_PHASE_NAME = ME_Phase_50
PROCESSING_LEVEL_ID = 4
PRODUCT_CREATION_TIME = 2025-01-29T08:28:47.000Z
PRODUCT_ID = "HQ216_0000_P14.TIF"
RELEASE_ID = 0020
REVISION_ID = 0000
/* QUALITY DATA ELEMENTS */
DATA_QUALITY_ID = 1
DATA_QUALITY_DESC = "Data calculated based on original SPICE kernels"
/* TIME DATA ELEMENTS */
SPACECRAFT_CLOCK_START_COUNT = "1/0676411601.00336"
SPACECRAFT_CLOCK_STOP_COUNT = "1/0676411857.33757"
START_TIME = 2024-10-07T20:07:44.590Z
STOP_TIME = 2024-10-07T20:10:39.687Z
/* ORBITAL DATA ELEMENTS */
ASCENDING_NODE_LONGITUDE = 88.78
MAXIMUM_RESOLUTION = 0.0323
FOOTPRINT_POINT_LATITUDE = (26.5391,26.541,26.5416,26.541,26.5384, 26.5383,26.5273,25.9721,25.6387,25.4163 ,25.0806,24.857,24.6341,24.3002,23.9661 ,23.632,23.4092,23.1863,22.9635,22.7406 ,22.5175,22.1829,21.9599,21.7367,21.402 ,21.067,20.7317,20.5087,20.174,19.9509, 19.7235,19.5003,19.1654,18.7194,18.4965 ,18.1615,17.9381,17.7149,17.4916, 17.2684,17.0453,16.8224,16.5967,16.3679 ,16.1375,15.9101,15.6815,15.4527, 15.3384,15.3373,15.3355,15.3324,15.33, 15.3227,15.3224,15.3229,15.6664,16.0101 ,16.2393,16.5832,16.8098,17.0326, 17.2557,17.5906,17.9257,18.2608,18.5958 ,18.8192,19.0424,19.2659,19.4893, 19.8284,20.052,20.2756,20.6112,20.8348, 21.0587,21.2824,21.5058,21.7291,21.9527 ,22.1766,22.5117,22.735,22.9584,23.1816 ,23.4048,23.6279,23.851,24.074,24.2969, 24.6313,24.9653,25.1888,25.5239,25.8585 ,26.0828,26.4162,26.5274,26.5391)
FOOTPRINT_POINT_LONGITUDE = (283.399,283.029,282.778,282.32,281.892 ,281.877,281.867,281.87,281.871,281.872 ,281.872,281.872,281.872,281.872, 281.873,281.872,281.872,281.872,281.872 ,281.871,281.871,281.87,281.869,281.868 ,281.866,281.865,281.862,281.861, 281.859,281.857,281.855,281.853,281.85, 281.846,281.844,281.841,281.838,281.835 ,281.833,281.83,281.827,281.824,281.821 ,281.818,281.814,281.812,281.808, 281.805,281.803,281.803,282.083,282.511 ,282.747,283.309,283.324,283.329, 283.331,283.333,283.335,283.337,283.338 ,283.34,283.341,283.344,283.346,283.348 ,283.35,283.352,283.353,283.355,283.357 ,283.359,283.36,283.362,283.364,283.366 ,283.367,283.368,283.37,283.372,283.373 ,283.374,283.377,283.378,283.38,283.382 ,283.383,283.385,283.386,283.388,283.39 ,283.392,283.395,283.396,283.398,283.4, 283.401,283.404,283.405,283.399)
ORBIT_NUMBER = 26216
ORBITAL_ECCENTRICITY = 0.571
ORBITAL_INCLINATION = 87.1
ORBITAL_SEMIMAJOR_AXIS = 8832.66
PERIAPSIS_ALTITUDE = 394.81
PERIAPSIS_ARGUMENT_ANGLE = 151.49
PERIAPSIS_TIME = 2024-10-07T20:07:37.000Z
SPACECRAFT_ORIENTATION = (0.0,-1.0,0.0)
^MEX_ORIENTATION_DESC = "MEX_ORIENTATION_DESC.TXT"
SPACECRAFT_POINTING_MODE = NADIR
^MEX_POINTING_DESC = "MEX_POINTING_DESC.TXT"
RIGHT_ASCENSION = -1e+32
DECLINATION = -1e+32
OFFSET_ANGLE = -1e+32
SPACECRAFT_SOLAR_DISTANCE = 2.26153e+08
TARGET_NAME = MARS
/* CAMERA DATA ELEMENTS */
DETECTOR_TEMPERATURE = 17.351
FOCAL_PLANE_TEMPERATURE = 8.5833
INST_CMPRS_NAME = "DISCRETE COSINE TRANSFORMATION (DCT)"
INST_CMPRS_RATIO = 8.667
INST_CMPRS_QUALITY = 0
INST_CMPRS_QUANTZ_TBL_ID = 0
INSTRUMENT_TEMPERATURE = 11.0301
LENS_TEMPERATURE = 7.5638
MACROPIXEL_SIZE = 2
MISSING_FRAMES = 1
PIXEL_SUBSAMPLING_FLAG = N
SIGNAL_CHAIN_ID = 3
/* RADIOMETRIC DATA ELEMENTS */
BANDWIDTH = 174.0
CENTER_FILTER_WAVELENGTH = 675.0
RADIANCE_OFFSET = 2.92796
RADIANCE_SCALING_FACTOR = 0.0201864
REFLECTANCE_SCALING_FACTOR = 0.000555327
MEX:REFLECTANCE_OFFSET = 0.0805479
/* IMAGE OBJECT DEFINITIONS */
OBJECT = IMAGE
  INTERCHANGE_FORMAT = BINARY
  LINES = 26543
  LINE_SAMPLES = 3753
  SAMPLE_TYPE = UNSIGNED_INTEGER
  SAMPLE_BITS = 8
  BANDS = 1
  BAND_STORAGE_TYPE = BAND_SEQUENTIAL
  MAXIMUM = 255
  MEAN = 107.629
  MINIMUM = 1
  STANDARD_DEVIATION = 18.6043
END_OBJECT = IMAGE
/* MAP OBJECT DEFINITIONS */
OBJECT = IMAGE_MAP_PROJECTION
  ^DATA_SET_MAP_PROJECTION_CATALOG= "DSMAP.CAT"
  A_AXIS_RADIUS = 3396.0
  B_AXIS_RADIUS = 3396.0
  C_AXIS_RADIUS = 3396.0
  CENTER_LATITUDE = 0.0
  CENTER_LONGITUDE = 283.0
  COORDINATE_SYSTEM_NAME = PLANETOGRAPHIC
  COORDINATE_SYSTEM_TYPE = "BODY-FIXED ROTATING"
  EASTERNMOST_LONGITUDE = 283.405
  FIRST_STANDARD_PARALLEL = "N/A"
  LINE_FIRST_PIXEL = 1
  LINE_LAST_PIXEL = 26543
  LINE_PROJECTION_OFFSET = 62902.25
  MAP_PROJECTION_ROTATION = 0.0
  MAP_PROJECTION_TYPE = SINUSOIDAL
  MAP_RESOLUTION = 2370.85521546667
  MAP_SCALE = 0.025
  MAXIMUM_LATITUDE = 26.5416
  MINIMUM_LATITUDE = 15.3224
  POSITIVE_LONGITUDE_DIRECTION = EAST
  REFERENCE_LATITUDE = "N/A"
  REFERENCE_LONGITUDE = "N/A"
  SAMPLE_FIRST_PIXEL = 1
  SAMPLE_LAST_PIXEL = 3753
  SAMPLE_PROJECTION_OFFSET = 2832.75
  SECOND_STANDARD_PARALLEL = "N/A"
  WESTERNMOST_LONGITUDE = 281.803
END_OBJECT = IMAGE_MAP_PROJECTION
END
