PDS_VERSION_ID = PDS3
/* FILE DATA ELEMENTS */
RECORD_TYPE = UNDEFINED
/* POINTERS TO DATA OBJECTS */
^IMAGE = ("HQ205_0006_SR4.TIF")
/* IDENTIFICATION DATA ELEMENTS */
DATA_SET_ID = "MEX-M-HRSC-4-REFDR-MAPPROJECT-EXT9-V4.0"
DATA_SET_NAME = "MARS EXPRESS HRSC MAP PROJECTED REFDR EXTENSION9 V4.0"
DETECTOR_ID = MEX_HRSC_SRC
EVENT_TYPE = "MARS-LOCAL-CARTOGRAPHY-Fl-Gl-Ot"
INSTRUMENT_HOST_ID = MEX
INSTRUMENT_HOST_NAME = "MARS EXPRESS"
INSTRUMENT_ID = HRSC
INSTRUMENT_NAME = "HIGH RESOLUTION STEREO CAMERA"
MISSION_NAME = "MARS EXPRESS"
MISSION_PHASE_NAME = ME_Phase_50
PROCESSING_LEVEL_ID = 4
PRODUCT_CREATION_TIME = 2025-01-29T08:28:47.000Z
PRODUCT_ID = "HQ205_0006_SR4.TIF"
RELEASE_ID = 0020
REVISION_ID = 0000
/* QUALITY DATA ELEMENTS */
DATA_QUALITY_ID = 1
DATA_QUALITY_DESC = "Data calculated based on original SPICE kernels"
/* TIME DATA ELEMENTS */
SPACECRAFT_CLOCK_START_COUNT = "1/0676134999.64185"
SPACECRAFT_CLOCK_STOP_COUNT = "1/0676135218.64674"
IMAGE_TIME = 2024-10-04T15:19:38.006Z
START_TIME = 2024-10-04T15:19:38.003Z
STOP_TIME = 2024-10-04T15:19:38.008Z
/* ORBITAL DATA ELEMENTS */
ASCENDING_NODE_LONGITUDE = 88.98
MAXIMUM_RESOLUTION = 0.003745
FOOTPRINT_POINT_LATITUDE = (18.9372,18.9404,18.9425,18.9446, 18.9478,18.9511,18.9535,18.9563,18.9585 ,18.962,18.964,18.9665,18.9696,18.9737, 18.9759,18.9796,18.9819,18.9845,18.987, 18.9899,18.9922,18.9955,18.9979,19.0003 ,19.0004,19.0004,19.0004,19.0003, 19.0003,19.0003,19.0003,19.0003,19.0002 ,19.0002,19.0002,19.0002,19.0001, 19.0001,19.0001,19.0001,19.0,19.0,19.0, 19.0,18.9999,18.9999,18.9999,18.9999, 18.9998,18.9998,18.9998,18.9998,18.9951 ,18.992,18.9899,18.9872,18.9847,18.9819 ,18.9787,18.9753,18.9728,18.9688, 18.9662,18.9624,18.9582,18.9544,18.9519 ,18.9487,18.9452,18.943,18.9394,18.9366 ,18.9365,18.9365,18.9366,18.9366, 18.9366,18.9366,18.9367,18.9367,18.9367 ,18.9367,18.9368,18.9368,18.9368, 18.9368,18.9369,18.9369,18.9369,18.9369 ,18.937,18.937,18.937,18.937,18.9371, 18.9371,18.9371,18.9371,18.9372, 18.9372)
FOOTPRINT_POINT_LONGITUDE = (326.742,326.742,326.742,326.742, 326.742,326.742,326.742,326.742,326.742 ,326.742,326.742,326.742,326.742, 326.742,326.743,326.743,326.743,326.743 ,326.743,326.743,326.743,326.743, 326.743,326.743,326.743,326.743,326.746 ,326.748,326.751,326.754,326.756, 326.759,326.762,326.764,326.767,326.77, 326.772,326.775,326.778,326.78,326.783, 326.786,326.789,326.791,326.794,326.797 ,326.799,326.802,326.805,326.809,326.81 ,326.81,326.81,326.81,326.81,326.81, 326.81,326.81,326.81,326.81,326.81, 326.81,326.81,326.81,326.81,326.81, 326.81,326.81,326.81,326.81,326.81, 326.81,326.81,326.81,326.805,326.802, 326.8,326.797,326.794,326.792,326.789, 326.786,326.783,326.781,326.778,326.775 ,326.773,326.77,326.767,326.765,326.762 ,326.759,326.757,326.754,326.751, 326.749,326.746,326.743,326.743, 326.742)
ORBIT_NUMBER = 26205
ORBITAL_ECCENTRICITY = 0.571
ORBITAL_INCLINATION = 87.11
ORBITAL_SEMIMAJOR_AXIS = 8826.1
PERIAPSIS_ALTITUDE = 394.01
PERIAPSIS_ARGUMENT_ANGLE = 153.35
PERIAPSIS_TIME = 2024-10-04T15:17:37.000Z
SPACECRAFT_ORIENTATION = (0.0,-1.0,0.0)
^MEX_ORIENTATION_DESC = "MEX_ORIENTATION_DESC.TXT"
SPACECRAFT_POINTING_MODE = ACROSSTRACK
^MEX_POINTING_DESC = "MEX_POINTING_DESC.TXT"
RIGHT_ASCENSION = -1e+32
DECLINATION = -1e+32
OFFSET_ANGLE = 0.475
SPACECRAFT_SOLAR_DISTANCE = 2.25527e+08
TARGET_NAME = MARS
/* CAMERA DATA ELEMENTS */
BUFFER_MODE_ID = BUFFER_8
EXPOSURE_DURATION = 5.04
INST_CMPRS_NAME = "DISCRETE COSINE TRANSFORMATION (DCT)"
INST_CMPRS_RATIO = 18.5367
INST_CMPRS_QUALITY = 0
INST_CMPRS_QUANTZ_TBL_ID = 0
INSTRUMENT_TEMPERATURE = 9.01959
MISSING_FRAMES = 0
START_BIT = 0
/* RADIOMETRIC DATA ELEMENTS */
BANDWIDTH = 250.0
CENTER_FILTER_WAVELENGTH = 600.0
RADIANCE_OFFSET = -9.99e+31
RADIANCE_SCALING_FACTOR = -9.99e+31
REFLECTANCE_SCALING_FACTOR = -9.99e+31
MEX:REFLECTANCE_OFFSET = -9.99e+31
/* IMAGE OBJECT DEFINITIONS */
OBJECT = IMAGE
  INTERCHANGE_FORMAT = BINARY
  LINES = 1563
  LINE_SAMPLES = 1583
  SAMPLE_TYPE = UNSIGNED_INTEGER
  SAMPLE_BITS = 8
  BANDS = 1
  BAND_STORAGE_TYPE = BAND_SEQUENTIAL
  MAXIMUM = 249
  MEAN = 136.777
  MINIMUM = 17
  STANDARD_DEVIATION = 15.7207
END_OBJECT = IMAGE
/* MAP OBJECT DEFINITIONS */
OBJECT = IMAGE_MAP_PROJECTION
  ^DATA_SET_MAP_PROJECTION_CATALOG= "DSMAP.CAT"
  A_AXIS_RADIUS = 3396.19
  B_AXIS_RADIUS = 3396.19
  C_AXIS_RADIUS = 3396.19
  CENTER_LATITUDE = 0.0
  CENTER_LONGITUDE = 327.0
  COORDINATE_SYSTEM_NAME = PLANETOGRAPHIC
  COORDINATE_SYSTEM_TYPE = "BODY-FIXED ROTATING"
  EASTERNMOST_LONGITUDE = 326.81
  FIRST_STANDARD_PARALLEL = "N/A"
  LINE_FIRST_PIXEL = 1
  LINE_LAST_PIXEL = 1563
  LINE_PROJECTION_OFFSET = 450420.0
  MAP_PROJECTION_ROTATION = 0.0
  MAP_PROJECTION_TYPE = SINUSOIDAL
  MAP_RESOLUTION = 23709.8786048756
  MAP_SCALE = 0.0025
  MAXIMUM_LATITUDE = 19.0004
  MINIMUM_LATITUDE = 18.9365
  POSITIVE_LONGITUDE_DIRECTION = EAST
  REFERENCE_LATITUDE = "N/A"
  REFERENCE_LONGITUDE = "N/A"
  SAMPLE_FIRST_PIXEL = 1
  SAMPLE_LAST_PIXEL = 1583
  SAMPLE_PROJECTION_OFFSET = 5742.0
  SECOND_STANDARD_PARALLEL = "N/A"
  WESTERNMOST_LONGITUDE = 326.742
END_OBJECT = IMAGE_MAP_PROJECTION
END
