PDS_VERSION_ID = PDS3
/* FILE DATA ELEMENTS */
RECORD_TYPE = UNDEFINED
/* POINTERS TO DATA OBJECTS */
^IMAGE = ("HQ202_0000_RE4.TIF")
/* IDENTIFICATION DATA ELEMENTS */
DATA_SET_ID = "MEX-M-HRSC-4-REFDR-MAPPROJECT-EXT9-V4.0"
DATA_SET_NAME = "MARS EXPRESS HRSC MAP PROJECTED REFDR EXTENSION9 V4.0"
DETECTOR_ID = MEX_HRSC_RED
EVENT_TYPE = "MARS-TERMINATOR-CALIBRATION-Tc"
INSTRUMENT_HOST_ID = MEX
INSTRUMENT_HOST_NAME = "MARS EXPRESS"
INSTRUMENT_ID = HRSC
INSTRUMENT_NAME = "HIGH RESOLUTION STEREO CAMERA"
MISSION_NAME = "MARS EXPRESS"
MISSION_PHASE_NAME = ME_Phase_50
PROCESSING_LEVEL_ID = 4
PRODUCT_CREATION_TIME = 2025-01-29T08:28:47.000Z
PRODUCT_ID = "HQ202_0000_RE4.TIF"
RELEASE_ID = 0020
REVISION_ID = 0000
/* QUALITY DATA ELEMENTS */
DATA_QUALITY_ID = 1
DATA_QUALITY_DESC = "Data calculated based on original SPICE kernels"
/* TIME DATA ELEMENTS */
SPACECRAFT_CLOCK_START_COUNT = "1/0676056418.65119"
SPACECRAFT_CLOCK_STOP_COUNT = "1/0676056963.65050"
START_TIME = 2024-10-03T17:31:17.227Z
STOP_TIME = 2024-10-03T17:36:35.042Z
/* ORBITAL DATA ELEMENTS */
ASCENDING_NODE_LONGITUDE = 89.03
MAXIMUM_RESOLUTION = 0.3243
FOOTPRINT_POINT_LATITUDE = (-7.63697,-8.02576,-6.90544,-6.56474, -4.76536,-2.38217,-4.14765,-1.81466, -1.89844,0.247655,2.49374,3.24419, 5.85725,4.82765,6.8163,5.99279,8.07824, 10.1392,12.2678,11.3475,13.1454,12.0037 ,13.798,12.6252,14.9849,17.3926,20.3048 ,22.4775,24.3143,27.4124,30.0786, 32.3044,36.5454,39.0521,42.4678,44.6171 ,48.6973,51.1726,52.4061,53.5085, 54.4226,55.0529,55.0303,54.5305,53.106, 51.5603,53.7842,53.8285,55.8017,58.0452 ,58.112,60.6244,61.0301,64.3759,66.1243 ,65.2166,69.0831,67.1427,69.3158, 68.1212,70.8291,69.1213,70.4275,71.5789 ,75.2077,77.2493,79.736,81.0146,81.4676 ,80.7982,79.1364,77.2955,74.2853, 72.3434,68.4102,64.9597,61.6895,58.647, 56.5409,52.9659,50.5415,47.552,42.8903, 39.2322,36.8637,33.3996,28.5496,26.4835 ,24.1477,21.9391,19.3599,16.4837, 13.1841,11.289,9.17849,6.74917,2.01211, -1.54873,-4.50157,-7.63697)
FOOTPRINT_POINT_LONGITUDE = (147.099,147.339,146.928,149.015, 151.221,151.872,153.467,152.61,154.97, 157.914,158.671,161.362,161.262,163.213 ,162.346,164.369,163.83,165.633,167.686 ,170.302,168.63,171.02,169.329,171.531, 170.118,168.201,166.319,165.182,164.377 ,163.348,162.754,162.505,162.586, 163.053,164.318,165.621,169.489,173.33, 176.049,179.317,183.284,188.576,195.145 ,199.484,205.543,209.285,209.424, 213.819,214.717,216.45,223.03,221.832, 228.828,232.629,237.58,243.911,245.639, 249.099,255.041,259.571,257.273,261.839 ,261.329,260.553,253.903,247.733, 234.411,219.698,204.848,180.427,165.036 ,156.082,147.624,144.162,139.496, 136.974,135.373,134.352,133.841,133.252 ,133.015,132.869,132.905,133.118, 133.331,133.74,134.493,134.873,135.341, 135.822,136.445,137.21,138.179,138.787, 139.502,140.381,142.284,143.899,145.382 ,147.099)
ORBIT_NUMBER = 26202
ORBITAL_ECCENTRICITY = 0.572
ORBITAL_INCLINATION = 87.09
ORBITAL_SEMIMAJOR_AXIS = 8839.04
PERIAPSIS_ALTITUDE = 393.28
PERIAPSIS_ARGUMENT_ANGLE = 153.88
PERIAPSIS_TIME = 2024-10-03T18:20:31.000Z
SPACECRAFT_ORIENTATION = (0.0,-1.0,0.0)
^MEX_ORIENTATION_DESC = "MEX_ORIENTATION_DESC.TXT"
SPACECRAFT_POINTING_MODE = FIXED
^MEX_POINTING_DESC = "MEX_POINTING_DESC.TXT"
RIGHT_ASCENSION = -1e+32
DECLINATION = -1e+32
OFFSET_ANGLE = -1e+32
SPACECRAFT_SOLAR_DISTANCE = 2.25357e+08
TARGET_NAME = MARS
/* CAMERA DATA ELEMENTS */
DETECTOR_TEMPERATURE = 18.5744
FOCAL_PLANE_TEMPERATURE = 8.7872
INST_CMPRS_NAME = "DISCRETE COSINE TRANSFORMATION (DCT)"
INST_CMPRS_RATIO = 20.3199
INST_CMPRS_QUALITY = 0
INST_CMPRS_QUANTZ_TBL_ID = 0
INSTRUMENT_TEMPERATURE = 11.0301
LENS_TEMPERATURE = 8.9911
MACROPIXEL_SIZE = 2
MISSING_FRAMES = 0
PIXEL_SUBSAMPLING_FLAG = N
SIGNAL_CHAIN_ID = 3
/* RADIOMETRIC DATA ELEMENTS */
BANDWIDTH = 48.0
CENTER_FILTER_WAVELENGTH = 748.0
RADIANCE_OFFSET = 0.0
RADIANCE_SCALING_FACTOR = 0.00435667
REFLECTANCE_SCALING_FACTOR = 0.000504888
MEX:REFLECTANCE_OFFSET = 0.0
/* IMAGE OBJECT DEFINITIONS */
OBJECT = IMAGE
  INTERCHANGE_FORMAT = BINARY
  LINES = 13430
  LINE_SAMPLES = 6070
  SAMPLE_TYPE = UNSIGNED_INTEGER
  SAMPLE_BITS = 8
  BANDS = 1
  BAND_STORAGE_TYPE = BAND_SEQUENTIAL
  MAXIMUM = 255
  MEAN = 208.214
  MINIMUM = 1
  STANDARD_DEVIATION = 83.1543
END_OBJECT = IMAGE
/* MAP OBJECT DEFINITIONS */
OBJECT = IMAGE_MAP_PROJECTION
  ^DATA_SET_MAP_PROJECTION_CATALOG= "DSMAP.CAT"
  A_AXIS_RADIUS = 3396.0
  B_AXIS_RADIUS = 3396.0
  C_AXIS_RADIUS = 3396.0
  CENTER_LATITUDE = 47.8816
  CENTER_LONGITUDE = 145.576
  COORDINATE_SYSTEM_NAME = PLANETOGRAPHIC
  COORDINATE_SYSTEM_TYPE = "BODY-FIXED ROTATING"
  EASTERNMOST_LONGITUDE = 261.839
  FIRST_STANDARD_PARALLEL = "N/A"
  LINE_FIRST_PIXEL = 1
  LINE_LAST_PIXEL = 13430
  LINE_PROJECTION_OFFSET = 6334.75
  MAP_PROJECTION_ROTATION = 0.0
  MAP_PROJECTION_TYPE = ORTHOGRAPHIC
  MAP_RESOLUTION = 148.178450966667
  MAP_SCALE = 0.4
  MAXIMUM_LATITUDE = 81.4676
  MINIMUM_LATITUDE = -8.02576
  POSITIVE_LONGITUDE_DIRECTION = EAST
  REFERENCE_LATITUDE = "N/A"
  REFERENCE_LONGITUDE = "N/A"
  SAMPLE_FIRST_PIXEL = 1
  SAMPLE_LAST_PIXEL = 6070
  SAMPLE_PROJECTION_OFFSET = 1594.25
  SECOND_STANDARD_PARALLEL = "N/A"
  WESTERNMOST_LONGITUDE = 132.869
END_OBJECT = IMAGE_MAP_PROJECTION
END
