PDS_VERSION_ID = PDS3
/* FILE DATA ELEMENTS */
RECORD_TYPE = UNDEFINED
/* POINTERS TO DATA OBJECTS */
^IMAGE = ("HQ202_0000_BL4.TIF")
/* IDENTIFICATION DATA ELEMENTS */
DATA_SET_ID = "MEX-M-HRSC-4-REFDR-MAPPROJECT-EXT9-V4.0"
DATA_SET_NAME = "MARS EXPRESS HRSC MAP PROJECTED REFDR EXTENSION9 V4.0"
DETECTOR_ID = MEX_HRSC_BLUE
EVENT_TYPE = "MARS-TERMINATOR-CALIBRATION-Tc"
INSTRUMENT_HOST_ID = MEX
INSTRUMENT_HOST_NAME = "MARS EXPRESS"
INSTRUMENT_ID = HRSC
INSTRUMENT_NAME = "HIGH RESOLUTION STEREO CAMERA"
MISSION_NAME = "MARS EXPRESS"
MISSION_PHASE_NAME = ME_Phase_50
PROCESSING_LEVEL_ID = 4
PRODUCT_CREATION_TIME = 2025-01-29T08:28:47.000Z
PRODUCT_ID = "HQ202_0000_BL4.TIF"
RELEASE_ID = 0020
REVISION_ID = 0000
/* QUALITY DATA ELEMENTS */
DATA_QUALITY_ID = 1
DATA_QUALITY_DESC = "Data calculated based on original SPICE kernels"
/* TIME DATA ELEMENTS */
SPACECRAFT_CLOCK_START_COUNT = "1/0676056418.65119"
SPACECRAFT_CLOCK_STOP_COUNT = "1/0676056963.65050"
START_TIME = 2024-10-03T17:30:02.231Z
STOP_TIME = 2024-10-03T17:35:19.088Z
/* ORBITAL DATA ELEMENTS */
ASCENDING_NODE_LONGITUDE = 89.03
MAXIMUM_RESOLUTION = 0.331
FOOTPRINT_POINT_LATITUDE = (-9.61922,-9.21091,-6.58878,-4.5111, -6.15585,-4.56041,-1.87345,-0.230394, 0.362274,4.15436,3.58778,5.69278,8.3254 ,6.36311,8.12027,10.0566,12.1754,11.241 ,12.8209,11.686,14.3463,16.3106,19.1255 ,23.3403,26.541,28.7758,31.0781,35.4797 ,38.6656,41.589,44.0178,46.6161,49.4095 ,51.1229,52.3763,53.4811,54.3099, 54.8146,54.448,53.29,53.0355,53.4417, 56.0761,55.7032,58.0389,59.4239,62.4125 ,61.0609,62.8537,61.6298,64.8592, 65.8629,66.6361,69.1768,67.2127,69.9846 ,67.9507,70.7991,68.5413,71.6375, 70.6517,72.3968,72.6096,75.8532,79.1287 ,81.4721,82.5245,82.6395,81.2775, 79.1476,76.8918,74.6899,71.4409,66.6857 ,63.1855,59.8744,56.6957,53.124,50.4612 ,48.2811,45.2331,42.1366,38.9529, 35.6363,32.1284,28.3476,24.3074,22.0333 ,19.5702,15.3795,12.7473,8.95099, 6.70241,4.07593,0.771235,-1.37543, -4.09242,-6.7297,-9.03676,-9.61922)
FOOTPRINT_POINT_LONGITUDE = (147.216,147.253,150.936,151.293, 152.831,154.423,154.367,156.991,159.787 ,161.123,163.744,164.804,164.661, 166.894,168.35,166.559,168.647,170.904, 169.384,171.626,170.79,169.367,167.359, 165.112,163.919,163.338,162.993,162.852 ,163.325,164.35,165.702,167.778,171.106 ,174.055,176.969,180.516,184.611, 190.162,197.9,203.791,207.855,212.467, 211.548,216.036,215.549,223.054,223.775 ,228.388,225.399,229.273,229.791, 236.228,244.191,241.755,247.522,245.703 ,249.553,250.014,253.894,256.206, 264.852,263.982,264.039,258.604,248.355 ,232.384,214.016,196.168,170.51,156.629 ,148.782,143.953,139.404,135.574, 133.921,132.901,132.27,131.855,131.706, 131.666,131.719,131.88,132.148,132.525, 133.023,133.669,134.482,134.985,135.579 ,136.71,137.499,138.748,139.552,140.555 ,141.93,142.896,144.19,145.595,146.894, 147.216)
ORBIT_NUMBER = 26202
ORBITAL_ECCENTRICITY = 0.572
ORBITAL_INCLINATION = 87.09
ORBITAL_SEMIMAJOR_AXIS = 8839.04
PERIAPSIS_ALTITUDE = 393.28
PERIAPSIS_ARGUMENT_ANGLE = 153.88
PERIAPSIS_TIME = 2024-10-03T18:20:31.000Z
SPACECRAFT_ORIENTATION = (0.0,-1.0,0.0)
^MEX_ORIENTATION_DESC = "MEX_ORIENTATION_DESC.TXT"
SPACECRAFT_POINTING_MODE = FIXED
^MEX_POINTING_DESC = "MEX_POINTING_DESC.TXT"
RIGHT_ASCENSION = -1e+32
DECLINATION = -1e+32
OFFSET_ANGLE = -1e+32
SPACECRAFT_SOLAR_DISTANCE = 2.25357e+08
TARGET_NAME = MARS
/* CAMERA DATA ELEMENTS */
DETECTOR_TEMPERATURE = 18.1666
FOCAL_PLANE_TEMPERATURE = 8.7872
INST_CMPRS_NAME = "DISCRETE COSINE TRANSFORMATION (DCT)"
INST_CMPRS_RATIO = 13.8215
INST_CMPRS_QUALITY = 0
INST_CMPRS_QUANTZ_TBL_ID = 0
INSTRUMENT_TEMPERATURE = 11.0301
LENS_TEMPERATURE = 8.9911
MACROPIXEL_SIZE = 2
MISSING_FRAMES = 0
PIXEL_SUBSAMPLING_FLAG = N
SIGNAL_CHAIN_ID = 2
/* RADIOMETRIC DATA ELEMENTS */
BANDWIDTH = 76.0
CENTER_FILTER_WAVELENGTH = 444.0
RADIANCE_OFFSET = 0.0
RADIANCE_SCALING_FACTOR = 0.00430102
REFLECTANCE_SCALING_FACTOR = 0.00022441
MEX:REFLECTANCE_OFFSET = 0.0
/* IMAGE OBJECT DEFINITIONS */
OBJECT = IMAGE
  INTERCHANGE_FORMAT = BINARY
  LINES = 13430
  LINE_SAMPLES = 6070
  SAMPLE_TYPE = UNSIGNED_INTEGER
  SAMPLE_BITS = 8
  BANDS = 1
  BAND_STORAGE_TYPE = BAND_SEQUENTIAL
  MAXIMUM = 255
  MEAN = 214.742
  MINIMUM = 1
  STANDARD_DEVIATION = 79.8403
END_OBJECT = IMAGE
/* MAP OBJECT DEFINITIONS */
OBJECT = IMAGE_MAP_PROJECTION
  ^DATA_SET_MAP_PROJECTION_CATALOG= "DSMAP.CAT"
  A_AXIS_RADIUS = 3396.0
  B_AXIS_RADIUS = 3396.0
  C_AXIS_RADIUS = 3396.0
  CENTER_LATITUDE = 47.8816
  CENTER_LONGITUDE = 145.576
  COORDINATE_SYSTEM_NAME = PLANETOGRAPHIC
  COORDINATE_SYSTEM_TYPE = "BODY-FIXED ROTATING"
  EASTERNMOST_LONGITUDE = 264.852
  FIRST_STANDARD_PARALLEL = "N/A"
  LINE_FIRST_PIXEL = 1
  LINE_LAST_PIXEL = 13430
  LINE_PROJECTION_OFFSET = 6334.75
  MAP_PROJECTION_ROTATION = 0.0
  MAP_PROJECTION_TYPE = ORTHOGRAPHIC
  MAP_RESOLUTION = 148.178450966667
  MAP_SCALE = 0.4
  MAXIMUM_LATITUDE = 82.6395
  MINIMUM_LATITUDE = -9.61922
  POSITIVE_LONGITUDE_DIRECTION = EAST
  REFERENCE_LATITUDE = "N/A"
  REFERENCE_LONGITUDE = "N/A"
  SAMPLE_FIRST_PIXEL = 1
  SAMPLE_LAST_PIXEL = 6070
  SAMPLE_PROJECTION_OFFSET = 1594.25
  SECOND_STANDARD_PARALLEL = "N/A"
  WESTERNMOST_LONGITUDE = 131.666
END_OBJECT = IMAGE_MAP_PROJECTION
END
