PDS_VERSION_ID = PDS3
/* FILE DATA ELEMENTS */
RECORD_TYPE = UNDEFINED
/* POINTERS TO DATA OBJECTS */
^IMAGE = ("HQ196_0000_GR4.TIF")
/* IDENTIFICATION DATA ELEMENTS */
DATA_SET_ID = "MEX-M-HRSC-4-REFDR-MAPPROJECT-EXT9-V4.0"
DATA_SET_NAME = "MARS EXPRESS HRSC MAP PROJECTED REFDR EXTENSION9 V4.0"
DETECTOR_ID = MEX_HRSC_GREEN
EVENT_TYPE = "MARS-REGIONAL-MAPPING-Vo-Te-Im"
INSTRUMENT_HOST_ID = MEX
INSTRUMENT_HOST_NAME = "MARS EXPRESS"
INSTRUMENT_ID = HRSC
INSTRUMENT_NAME = "HIGH RESOLUTION STEREO CAMERA"
MISSION_NAME = "MARS EXPRESS"
MISSION_PHASE_NAME = ME_Phase_50
PROCESSING_LEVEL_ID = 4
PRODUCT_CREATION_TIME = 2025-01-29T00:31:31.000Z
PRODUCT_ID = "HQ196_0000_GR4.TIF"
RELEASE_ID = 0019
REVISION_ID = 0000
/* QUALITY DATA ELEMENTS */
DATA_QUALITY_ID = 1
DATA_QUALITY_DESC = "Data calculated based on original SPICE kernels"
/* TIME DATA ELEMENTS */
SPACECRAFT_CLOCK_START_COUNT = "1/0675908681.00328"
SPACECRAFT_CLOCK_STOP_COUNT = "1/0675908980.16135"
START_TIME = 2024-10-02T00:26:02.095Z
STOP_TIME = 2024-10-02T00:29:40.319Z
/* ORBITAL DATA ELEMENTS */
ASCENDING_NODE_LONGITUDE = 89.12
MAXIMUM_RESOLUTION = 0.0634
FOOTPRINT_POINT_LATITUDE = (24.8415,24.8463,24.8518,24.8573, 24.8573,24.8501,24.437,24.1616,23.8861, 23.6105,23.335,23.0595,22.7839,22.5083, 22.2328,21.8195,21.544,21.1308,20.7177, 20.4423,20.1669,19.8916,19.6163,19.3411 ,19.066,18.7909,18.5159,18.241,17.8286, 17.5539,17.2792,17.0047,16.4559,15.9075 ,15.3602,15.0857,14.5387,14.2616, 13.9815,13.7006,13.2794,12.8601,12.5803 ,12.3007,12.0164,11.7299,11.4433, 11.1571,11.0141,11.0121,11.0055,10.9965 ,10.9832,10.9829,10.9838,11.2701, 11.5566,11.8435,12.2715,12.5513,12.8314 ,13.1116,13.3921,13.6726,13.9533, 14.2342,14.6483,15.1962,15.7445,16.2933 ,16.7052,17.1173,17.3921,17.6671, 17.9421,18.2172,18.4924,18.7677,19.1804 ,19.4564,19.7316,20.0072,20.4206, 20.6962,20.9719,21.2477,21.5235,21.7993 ,22.2128,22.4887,22.7645,23.0402, 23.3161,23.5918,23.8676,24.1433,24.4191 ,24.6949,24.8327,24.8415)
FOOTPRINT_POINT_LONGITUDE = (166.884,166.557,166.106,165.397, 165.383,165.376,165.376,165.375,165.375 ,165.374,165.373,165.372,165.371, 165.369,165.368,165.365,165.363,165.361 ,165.357,165.355,165.353,165.35,165.347 ,165.344,165.342,165.339,165.335, 165.332,165.327,165.323,165.32,165.316, 165.308,165.3,165.291,165.286,165.277, 165.272,165.267,165.262,165.254,165.246 ,165.24,165.234,165.229,165.223,165.216 ,165.21,165.207,165.207,165.604,166.093 ,166.733,166.748,166.752,166.755, 166.757,166.759,166.763,166.765,166.768 ,166.77,166.772,166.775,166.778,166.78, 166.784,166.789,166.795,166.8,166.805, 166.809,166.812,166.815,166.818,166.821 ,166.825,166.828,166.834,166.835,166.84 ,166.843,166.848,166.851,166.855, 166.858,166.862,166.865,166.871,166.875 ,166.879,166.883,166.886,166.89,166.894 ,166.899,166.902,166.906,166.908, 166.884)
ORBIT_NUMBER = 26196
ORBITAL_ECCENTRICITY = 0.571
ORBITAL_INCLINATION = 87.11
ORBITAL_SEMIMAJOR_AXIS = 8828.28
PERIAPSIS_ALTITUDE = 393.45
PERIAPSIS_ARGUMENT_ANGLE = 154.91
PERIAPSIS_TIME = 2024-10-02T00:26:04.000Z
SPACECRAFT_ORIENTATION = (0.0,-1.0,0.0)
^MEX_ORIENTATION_DESC = "MEX_ORIENTATION_DESC.TXT"
SPACECRAFT_POINTING_MODE = ACROSSTRACK
^MEX_POINTING_DESC = "MEX_POINTING_DESC.TXT"
RIGHT_ASCENSION = -1e+32
DECLINATION = -1e+32
OFFSET_ANGLE = 0.499
SPACECRAFT_SOLAR_DISTANCE = 2.25016e+08
TARGET_NAME = MARS
/* CAMERA DATA ELEMENTS */
DETECTOR_TEMPERATURE = 17.5549
FOCAL_PLANE_TEMPERATURE = 8.5833
INST_CMPRS_NAME = "DISCRETE COSINE TRANSFORMATION (DCT)"
INST_CMPRS_RATIO = 15.5842
INST_CMPRS_QUALITY = 0
INST_CMPRS_QUANTZ_TBL_ID = 0
INSTRUMENT_TEMPERATURE = 10.8262
LENS_TEMPERATURE = 9.195
MACROPIXEL_SIZE = 4
MISSING_FRAMES = 0
PIXEL_SUBSAMPLING_FLAG = N
SIGNAL_CHAIN_ID = 2
/* RADIOMETRIC DATA ELEMENTS */
BANDWIDTH = 88.0
CENTER_FILTER_WAVELENGTH = 538.0
RADIANCE_OFFSET = 1.17193
RADIANCE_SCALING_FACTOR = 0.00273019
REFLECTANCE_SCALING_FACTOR = 0.000119016
MEX:REFLECTANCE_OFFSET = 0.0510876
/* IMAGE OBJECT DEFINITIONS */
OBJECT = IMAGE
  INTERCHANGE_FORMAT = BINARY
  LINES = 16434
  LINE_SAMPLES = 1965
  SAMPLE_TYPE = UNSIGNED_INTEGER
  SAMPLE_BITS = 8
  BANDS = 1
  BAND_STORAGE_TYPE = BAND_SEQUENTIAL
  MAXIMUM = 255
  MEAN = 124.273
  MINIMUM = 1
  STANDARD_DEVIATION = 35.0999
END_OBJECT = IMAGE
/* MAP OBJECT DEFINITIONS */
OBJECT = IMAGE_MAP_PROJECTION
  ^DATA_SET_MAP_PROJECTION_CATALOG= "DSMAP.CAT"
  A_AXIS_RADIUS = 3396.0
  B_AXIS_RADIUS = 3396.0
  C_AXIS_RADIUS = 3396.0
  CENTER_LATITUDE = 0.0
  CENTER_LONGITUDE = 166.0
  COORDINATE_SYSTEM_NAME = PLANETOGRAPHIC
  COORDINATE_SYSTEM_TYPE = "BODY-FIXED ROTATING"
  EASTERNMOST_LONGITUDE = 166.908
  FIRST_STANDARD_PARALLEL = "N/A"
  LINE_FIRST_PIXEL = 1
  LINE_LAST_PIXEL = 16434
  LINE_PROJECTION_OFFSET = 29456.625
  MAP_PROJECTION_ROTATION = 0.0
  MAP_PROJECTION_TYPE = SINUSOIDAL
  MAP_RESOLUTION = 1185.42760773333
  MAP_SCALE = 0.05
  MAXIMUM_LATITUDE = 24.8573
  MINIMUM_LATITUDE = 10.9829
  POSITIVE_LONGITUDE_DIRECTION = EAST
  REFERENCE_LATITUDE = "N/A"
  REFERENCE_LONGITUDE = "N/A"
  SAMPLE_FIRST_PIXEL = 1
  SAMPLE_LAST_PIXEL = 1965
  SAMPLE_PROJECTION_OFFSET = 945.375
  SECOND_STANDARD_PARALLEL = "N/A"
  WESTERNMOST_LONGITUDE = 165.207
END_OBJECT = IMAGE_MAP_PROJECTION
END
