PDS_VERSION_ID = PDS3
/* FILE DATA ELEMENTS */
RECORD_TYPE = UNDEFINED
/* POINTERS TO DATA OBJECTS */
^IMAGE = ("HQ195_0001_RE4.TIF")
/* IDENTIFICATION DATA ELEMENTS */
DATA_SET_ID = "MEX-M-HRSC-4-REFDR-MAPPROJECT-EXT9-V4.0"
DATA_SET_NAME = "MARS EXPRESS HRSC MAP PROJECTED REFDR EXTENSION9 V4.0"
DETECTOR_ID = MEX_HRSC_RED
EVENT_TYPE = "MARS-LOCAL-MAPPING-Vo-Te"
INSTRUMENT_HOST_ID = MEX
INSTRUMENT_HOST_NAME = "MARS EXPRESS"
INSTRUMENT_ID = HRSC
INSTRUMENT_NAME = "HIGH RESOLUTION STEREO CAMERA"
MISSION_NAME = "MARS EXPRESS"
MISSION_PHASE_NAME = ME_Phase_50
PROCESSING_LEVEL_ID = 4
PRODUCT_CREATION_TIME = 2025-01-29T00:31:31.000Z
PRODUCT_ID = "HQ195_0001_RE4.TIF"
RELEASE_ID = 0019
REVISION_ID = 0000
/* QUALITY DATA ELEMENTS */
DATA_QUALITY_ID = 1
DATA_QUALITY_DESC = "Data calculated based on original SPICE kernels"
/* TIME DATA ELEMENTS */
SPACECRAFT_CLOCK_START_COUNT = "1/0675883439.64166"
SPACECRAFT_CLOCK_STOP_COUNT = "1/0675883660.61375"
START_TIME = 2024-10-01T17:25:58.792Z
STOP_TIME = 2024-10-01T17:28:23.901Z
/* ORBITAL DATA ELEMENTS */
ASCENDING_NODE_LONGITUDE = 89.15
MAXIMUM_RESOLUTION = 0.0326
FOOTPRINT_POINT_LATITUDE = (30.7805,30.7808,30.7806,30.7798, 30.7791,30.7782,30.7781,30.7935,30.5152 ,30.3296,30.1439,29.9586,29.7734, 29.4955,29.3101,29.125,28.9398,28.7548, 28.5695,28.383,28.1033,27.9176,27.7315, 27.4529,27.0808,26.7174,26.4431,26.2588 ,25.9828,25.7988,25.615,25.3284,25.0582 ,24.697,24.3327,24.1495,23.9664,23.7835 ,23.6006,23.4178,23.2351,22.8708, 22.6877,22.5054,22.3232,22.141,21.6863, 21.5954,21.5548,21.5536,21.5511,21.5497 ,21.5466,21.5465,21.547,21.911,22.0931, 22.3666,22.5489,22.7315,22.9139,23.0967 ,23.2797,23.5542,23.7376,24.0122, 24.2873,24.4707,24.7459,25.0204,25.2042 ,25.3878,25.663,25.8467,26.1238,26.3989 ,26.5829,26.859,27.0441,27.2291,27.4144 ,27.5999,27.7855,27.9712,28.1564, 28.3421,28.5277,28.7137,28.8996,29.0851 ,29.2704,29.4558,29.6413,29.9199, 30.1056,30.2914,30.477,30.6627,30.7557, 30.7805)
FOOTPRINT_POINT_LONGITUDE = (268.509,268.229,267.841,267.421, 267.173,266.924,266.908,266.896,266.901 ,266.904,266.907,266.91,266.913,266.916 ,266.919,266.921,266.924,266.926, 266.928,266.931,266.935,266.937,266.939 ,266.943,266.947,266.947,266.948,266.95 ,266.951,266.952,266.953,266.958, 266.957,266.956,266.956,266.956,266.956 ,266.956,266.956,266.956,266.956, 266.955,266.955,266.955,266.954,266.954 ,266.952,266.952,266.952,267.197, 267.645,267.904,268.425,268.439,268.444 ,268.447,268.448,268.45,268.451,268.453 ,268.454,268.455,268.456,268.458,268.46 ,268.462,268.464,268.465,268.467, 268.469,268.47,268.471,268.473,268.475, 268.477,268.479,268.48,268.482,268.483, 268.485,268.487,268.488,268.49,268.492, 268.493,268.495,268.497,268.499,268.5, 268.502,268.503,268.505,268.506,268.509 ,268.51,268.512,268.513,268.515,268.516 ,268.509)
ORBIT_NUMBER = 26195
ORBITAL_ECCENTRICITY = 0.572
ORBITAL_INCLINATION = 87.09
ORBITAL_SEMIMAJOR_AXIS = 8841.93
PERIAPSIS_ALTITUDE = 392.55
PERIAPSIS_ARGUMENT_ANGLE = 155.07
PERIAPSIS_TIME = 2024-10-01T17:27:01.000Z
SPACECRAFT_ORIENTATION = (0.0,-1.0,0.0)
^MEX_ORIENTATION_DESC = "MEX_ORIENTATION_DESC.TXT"
SPACECRAFT_POINTING_MODE = NADIR
^MEX_POINTING_DESC = "MEX_POINTING_DESC.TXT"
RIGHT_ASCENSION = -1e+32
DECLINATION = -1e+32
OFFSET_ANGLE = -1e+32
SPACECRAFT_SOLAR_DISTANCE = 2.24959e+08
TARGET_NAME = MARS
/* CAMERA DATA ELEMENTS */
DETECTOR_TEMPERATURE = 19.1861
FOCAL_PLANE_TEMPERATURE = 9.6028
INST_CMPRS_NAME = "DISCRETE COSINE TRANSFORMATION (DCT)"
INST_CMPRS_RATIO = 7.06064
INST_CMPRS_QUALITY = 0
INST_CMPRS_QUANTZ_TBL_ID = 0
INSTRUMENT_TEMPERATURE = 12.2535
LENS_TEMPERATURE = 10.2145
MACROPIXEL_SIZE = 2
MISSING_FRAMES = 0
PIXEL_SUBSAMPLING_FLAG = N
SIGNAL_CHAIN_ID = 3
/* RADIOMETRIC DATA ELEMENTS */
BANDWIDTH = 48.0
CENTER_FILTER_WAVELENGTH = 748.0
RADIANCE_OFFSET = 0.651415
RADIANCE_SCALING_FACTOR = 0.00420268
REFLECTANCE_SCALING_FACTOR = 0.000485352
MEX:REFLECTANCE_OFFSET = 0.0752296
/* IMAGE OBJECT DEFINITIONS */
OBJECT = IMAGE
  INTERCHANGE_FORMAT = BINARY
  LINES = 21904
  LINE_SAMPLES = 3471
  SAMPLE_TYPE = UNSIGNED_INTEGER
  SAMPLE_BITS = 8
  BANDS = 1
  BAND_STORAGE_TYPE = BAND_SEQUENTIAL
  MAXIMUM = 255
  MEAN = 104.329
  MINIMUM = 1
  STANDARD_DEVIATION = 22.6353
END_OBJECT = IMAGE
/* MAP OBJECT DEFINITIONS */
OBJECT = IMAGE_MAP_PROJECTION
  ^DATA_SET_MAP_PROJECTION_CATALOG= "DSMAP.CAT"
  A_AXIS_RADIUS = 3396.0
  B_AXIS_RADIUS = 3396.0
  C_AXIS_RADIUS = 3396.0
  CENTER_LATITUDE = 0.0
  CENTER_LONGITUDE = 268.0
  COORDINATE_SYSTEM_NAME = PLANETOGRAPHIC
  COORDINATE_SYSTEM_TYPE = "BODY-FIXED ROTATING"
  EASTERNMOST_LONGITUDE = 268.516
  FIRST_STANDARD_PARALLEL = "N/A"
  LINE_FIRST_PIXEL = 1
  LINE_LAST_PIXEL = 21904
  LINE_PROJECTION_OFFSET = 73017.75
  MAP_PROJECTION_ROTATION = 0.0
  MAP_PROJECTION_TYPE = SINUSOIDAL
  MAP_RESOLUTION = 2370.85521546667
  MAP_SCALE = 0.025
  MAXIMUM_LATITUDE = 30.7935
  MINIMUM_LATITUDE = 21.5465
  POSITIVE_LONGITUDE_DIRECTION = EAST
  REFERENCE_LATITUDE = "N/A"
  REFERENCE_LONGITUDE = "N/A"
  SAMPLE_FIRST_PIXEL = 1
  SAMPLE_LAST_PIXEL = 3471
  SAMPLE_PROJECTION_OFFSET = 2349.75
  SECOND_STANDARD_PARALLEL = "N/A"
  WESTERNMOST_LONGITUDE = 266.896
END_OBJECT = IMAGE_MAP_PROJECTION
END
