PDS_VERSION_ID = PDS3
/* FILE DATA ELEMENTS */
RECORD_TYPE = UNDEFINED
/* POINTERS TO DATA OBJECTS */
^IMAGE = ("HQ195_0000_S14.TIF")
/* IDENTIFICATION DATA ELEMENTS */
DATA_SET_ID = "MEX-M-HRSC-4-REFDR-MAPPROJECT-EXT9-V4.0"
DATA_SET_NAME = "MARS EXPRESS HRSC MAP PROJECTED REFDR EXTENSION9 V4.0"
DETECTOR_ID = MEX_HRSC_S1
EVENT_TYPE = "MARS-TERMINATOR-CALIBRATION-Tc"
INSTRUMENT_HOST_ID = MEX
INSTRUMENT_HOST_NAME = "MARS EXPRESS"
INSTRUMENT_ID = HRSC
INSTRUMENT_NAME = "HIGH RESOLUTION STEREO CAMERA"
MISSION_NAME = "MARS EXPRESS"
MISSION_PHASE_NAME = ME_Phase_50
PROCESSING_LEVEL_ID = 4
PRODUCT_CREATION_TIME = 2025-01-29T00:31:31.000Z
PRODUCT_ID = "HQ195_0000_S14.TIF"
RELEASE_ID = 0019
REVISION_ID = 0000
/* QUALITY DATA ELEMENTS */
DATA_QUALITY_ID = 1
DATA_QUALITY_DESC = "Data calculated based on original SPICE kernels"
/* TIME DATA ELEMENTS */
SPACECRAFT_CLOCK_START_COUNT = "1/0675878821.00411"
SPACECRAFT_CLOCK_STOP_COUNT = "1/0675879305.46973"
START_TIME = 2024-10-01T16:07:52.147Z
STOP_TIME = 2024-10-01T16:11:53.997Z
/* ORBITAL DATA ELEMENTS */
ASCENDING_NODE_LONGITUDE = 89.15
MAXIMUM_RESOLUTION = 0.5197
FOOTPRINT_POINT_LATITUDE = (-38.5969,-39.0594,-38.7437,-35.6555, -35.5533,-33.4643,-30.9338,-31.5857, -28.4665,-25.7267,-25.2123,-22.6095, -23.928,-19.7444,-16.8585,-15.6899, -12.8396,-13.72,-12.2296,-7.70249, -6.12183,-1.18659,-2.24637,0.187326, -0.430737,1.32589,1.06219,3.78232, 2.96309,4.81397,3.95046,6.21996,5.41823 ,8.2481,7.21726,10.417,11.6912,12.662, 13.8627,13.9227,15.1828,16.9558,20.3965 ,21.4675,22.4854,22.4107,26.4386, 28.7041,32.8383,34.0994,36.4504,35.8619 ,38.3633,37.9426,40.6463,43.047,43.9758 ,46.8685,46.9542,48.4616,50.2407, 53.2379,55.7929,58.0,57.6795,60.3906, 64.2391,64.4107,65.029,64.8798,63.7093, 61.8732,60.0228,58.2276,56.5015,53.2463 ,50.2223,47.5625,44.3686,41.815,39.3555 ,34.6493,30.1335,25.7154,22.9682, 18.5408,12.1051,6.29412,3.68004, 0.218198,-2.92115,-8.11246,-12.4412, -15.7718,-20.8133,-24.1565,-28.5574, -31.4738,-34.8109,-38.5969)
FOOTPRINT_POINT_LONGITUDE = (143.198,143.607,143.787,144.764, 148.357,151.221,151.224,154.81,155.199, 156.991,159.763,159.168,161.445,162.094 ,163.386,166.856,166.205,168.936, 166.802,169.832,173.152,172.712,175.355 ,172.876,175.978,173.524,176.357, 174.381,176.71,174.779,177.252,175.225, 177.614,176.069,179.108,180.137,177.303 ,181.055,178.298,181.971,178.978, 181.829,180.969,184.566,181.876,184.793 ,184.183,185.673,184.98,187.781,185.979 ,189.658,186.229,189.321,188.268, 187.769,191.827,189.21,193.22,190.176, 193.779,191.77,196.142,192.845,198.005, 193.701,195.578,197.467,193.352,182.973 ,172.275,163.834,158.162,153.99,150.755 ,146.005,142.66,140.31,138.0,136.486, 135.245,133.347,131.991,131.009,130.541 ,129.984,129.56,129.519,129.604,129.812 ,130.079,130.766,131.555,132.318, 133.778,134.966,136.878,138.375,140.409 ,143.198)
ORBIT_NUMBER = 26195
ORBITAL_ECCENTRICITY = 0.572
ORBITAL_INCLINATION = 87.09
ORBITAL_SEMIMAJOR_AXIS = 8841.93
PERIAPSIS_ALTITUDE = 392.55
PERIAPSIS_ARGUMENT_ANGLE = 155.07
PERIAPSIS_TIME = 2024-10-01T17:27:01.000Z
SPACECRAFT_ORIENTATION = (0.0,-1.0,0.0)
^MEX_ORIENTATION_DESC = "MEX_ORIENTATION_DESC.TXT"
SPACECRAFT_POINTING_MODE = FIXED
^MEX_POINTING_DESC = "MEX_POINTING_DESC.TXT"
RIGHT_ASCENSION = -1e+32
DECLINATION = -1e+32
OFFSET_ANGLE = -1e+32
SPACECRAFT_SOLAR_DISTANCE = 2.24959e+08
TARGET_NAME = MARS
/* CAMERA DATA ELEMENTS */
DETECTOR_TEMPERATURE = 17.351
FOCAL_PLANE_TEMPERATURE = 8.7872
INST_CMPRS_NAME = "DISCRETE COSINE TRANSFORMATION (DCT)"
INST_CMPRS_RATIO = 28.8264
INST_CMPRS_QUALITY = 0
INST_CMPRS_QUANTZ_TBL_ID = 0
INSTRUMENT_TEMPERATURE = 10.8262
LENS_TEMPERATURE = 9.195
MACROPIXEL_SIZE = 2
MISSING_FRAMES = 0
PIXEL_SUBSAMPLING_FLAG = N
SIGNAL_CHAIN_ID = 1
/* RADIOMETRIC DATA ELEMENTS */
BANDWIDTH = 180.0
CENTER_FILTER_WAVELENGTH = 677.0
RADIANCE_OFFSET = 0.0
RADIANCE_SCALING_FACTOR = 0.0245729
REFLECTANCE_SCALING_FACTOR = 0.000648729
MEX:REFLECTANCE_OFFSET = 0.0
/* IMAGE OBJECT DEFINITIONS */
OBJECT = IMAGE
  INTERCHANGE_FORMAT = BINARY
  LINES = 13531
  LINE_SAMPLES = 7452
  SAMPLE_TYPE = UNSIGNED_INTEGER
  SAMPLE_BITS = 8
  BANDS = 1
  BAND_STORAGE_TYPE = BAND_SEQUENTIAL
  MAXIMUM = 255
  MEAN = 243.014
  MINIMUM = 3
  STANDARD_DEVIATION = 41.3282
END_OBJECT = IMAGE
/* MAP OBJECT DEFINITIONS */
OBJECT = IMAGE_MAP_PROJECTION
  ^DATA_SET_MAP_PROJECTION_CATALOG= "DSMAP.CAT"
  A_AXIS_RADIUS = 3396.0
  B_AXIS_RADIUS = 3396.0
  C_AXIS_RADIUS = 3396.0
  CENTER_LATITUDE = 21.0631
  CENTER_LONGITUDE = 143.729
  COORDINATE_SYSTEM_NAME = PLANETOGRAPHIC
  COORDINATE_SYSTEM_TYPE = "BODY-FIXED ROTATING"
  EASTERNMOST_LONGITUDE = 198.005
  FIRST_STANDARD_PARALLEL = "N/A"
  LINE_FIRST_PIXEL = 1
  LINE_LAST_PIXEL = 13531
  LINE_PROJECTION_OFFSET = 6486.75
  MAP_PROJECTION_ROTATION = 0.0
  MAP_PROJECTION_TYPE = ORTHOGRAPHIC
  MAP_RESOLUTION = 148.178450966667
  MAP_SCALE = 0.4
  MAXIMUM_LATITUDE = 65.029
  MINIMUM_LATITUDE = -39.0594
  POSITIVE_LONGITUDE_DIRECTION = EAST
  REFERENCE_LATITUDE = "N/A"
  REFERENCE_LONGITUDE = "N/A"
  SAMPLE_FIRST_PIXEL = 1
  SAMPLE_LAST_PIXEL = 7452
  SAMPLE_PROJECTION_OFFSET = 2285.75
  SECOND_STANDARD_PARALLEL = "N/A"
  WESTERNMOST_LONGITUDE = 129.519
END_OBJECT = IMAGE_MAP_PROJECTION
END
