PDS_VERSION_ID = PDS3
/* FILE DATA ELEMENTS */
RECORD_TYPE = UNDEFINED
/* POINTERS TO DATA OBJECTS */
^IMAGE = ("HQ195_0000_ND4.TIF")
/* IDENTIFICATION DATA ELEMENTS */
DATA_SET_ID = "MEX-M-HRSC-4-REFDR-MAPPROJECT-EXT9-V4.0"
DATA_SET_NAME = "MARS EXPRESS HRSC MAP PROJECTED REFDR EXTENSION9 V4.0"
DETECTOR_ID = MEX_HRSC_NADIR
EVENT_TYPE = "MARS-TERMINATOR-CALIBRATION-Tc"
INSTRUMENT_HOST_ID = MEX
INSTRUMENT_HOST_NAME = "MARS EXPRESS"
INSTRUMENT_ID = HRSC
INSTRUMENT_NAME = "HIGH RESOLUTION STEREO CAMERA"
MISSION_NAME = "MARS EXPRESS"
MISSION_PHASE_NAME = ME_Phase_50
PROCESSING_LEVEL_ID = 4
PRODUCT_CREATION_TIME = 2025-01-29T00:31:31.000Z
PRODUCT_ID = "HQ195_0000_ND4.TIF"
RELEASE_ID = 0019
REVISION_ID = 0000
/* QUALITY DATA ELEMENTS */
DATA_QUALITY_ID = 1
DATA_QUALITY_DESC = "Data calculated based on original SPICE kernels"
/* TIME DATA ELEMENTS */
SPACECRAFT_CLOCK_START_COUNT = "1/0675878821.00411"
SPACECRAFT_CLOCK_STOP_COUNT = "1/0675879305.46973"
START_TIME = 2024-10-01T16:09:48.218Z
STOP_TIME = 2024-10-01T16:13:56.088Z
/* ORBITAL DATA ELEMENTS */
ASCENDING_NODE_LONGITUDE = 89.15
MAXIMUM_RESOLUTION = 0.2529
FOOTPRINT_POINT_LATITUDE = (-38.4172,-38.7282,-37.3122,-34.3456, -32.468,-30.1394,-30.1509,-27.2335, -25.7311,-24.069,-21.5958,-18.4775, -18.6996,-16.3153,-15.5703,-13.0607, -12.5198,-10.2443,-7.94768,-4.82329, -2.65809,0.067563,-0.820823,0.473494, 1.11659,3.90296,2.9929,4.5652,5.76673, 7.65996,10.391,11.304,12.2159,12.3886, 14.0743,13.797,14.7285,15.9458,19.3557, 18.8691,21.6892,22.7217,24.9155,27.4658 ,29.5715,32.0503,34.1483,35.3331, 37.3608,39.5064,41.9981,43.6445,45.049, 47.7404,52.5895,55.9719,57.5495,60.944, 65.2741,65.637,65.9144,66.1755,66.0461, 65.4003,64.5826,62.8084,61.0192,59.2777 ,57.5987,55.9815,52.9175,50.0509, 47.6685,44.8504,41.402,39.1193,35.8393, 31.6973,28.4506,25.9664,23.0115,18.5979 ,15.0469,11.3675,8.43403,6.3212,1.56658 ,-1.76977,-4.41056,-8.66055,-11.4394, -13.7558,-16.5776,-19.1156,-22.0359, -25.8446,-28.296,-31.5373,-35.431, -38.4172)
FOOTPRINT_POINT_LONGITUDE = (140.582,140.829,139.862,145.387, 147.677,150.763,153.466,154.028,157.446 ,159.684,159.429,161.401,163.874, 163.676,166.257,165.444,168.28,167.257, 169.398,170.932,172.927,173.136,175.126 ,173.15,175.425,174.711,176.882,174.8, 177.7,176.117,177.577,179.936,177.903, 180.444,178.634,181.403,179.222,182.01, 181.009,183.263,181.655,184.279,184.985 ,184.589,186.562,187.857,186.295, 188.876,187.23,190.52,189.6,189.534, 192.113,193.672,194.651,194.727,198.316 ,200.48,201.293,199.799,197.638,189.953 ,183.969,175.935,170.304,162.407, 156.941,152.863,149.678,147.101,143.165 ,140.287,138.311,136.387,134.462, 133.399,132.115,130.829,130.034,129.536 ,129.05,128.514,128.232,128.069,128.023 ,128.039,128.217,128.437,128.694, 129.264,129.719,130.187,130.822,131.486 ,132.364,133.714,134.736,136.297, 138.539,140.582)
ORBIT_NUMBER = 26195
ORBITAL_ECCENTRICITY = 0.572
ORBITAL_INCLINATION = 87.09
ORBITAL_SEMIMAJOR_AXIS = 8841.93
PERIAPSIS_ALTITUDE = 392.55
PERIAPSIS_ARGUMENT_ANGLE = 155.07
PERIAPSIS_TIME = 2024-10-01T17:27:01.000Z
SPACECRAFT_ORIENTATION = (0.0,-1.0,0.0)
^MEX_ORIENTATION_DESC = "MEX_ORIENTATION_DESC.TXT"
SPACECRAFT_POINTING_MODE = FIXED
^MEX_POINTING_DESC = "MEX_POINTING_DESC.TXT"
RIGHT_ASCENSION = -1e+32
DECLINATION = -1e+32
OFFSET_ANGLE = -1e+32
SPACECRAFT_SOLAR_DISTANCE = 2.24959e+08
TARGET_NAME = MARS
/* CAMERA DATA ELEMENTS */
DETECTOR_TEMPERATURE = 17.9627
FOCAL_PLANE_TEMPERATURE = 8.7872
INST_CMPRS_NAME = "DISCRETE COSINE TRANSFORMATION (DCT)"
INST_CMPRS_RATIO = 14.929
INST_CMPRS_QUALITY = 0
INST_CMPRS_QUANTZ_TBL_ID = 0
INSTRUMENT_TEMPERATURE = 10.8262
LENS_TEMPERATURE = 9.195
MACROPIXEL_SIZE = 1
MISSING_FRAMES = 0
PIXEL_SUBSAMPLING_FLAG = N
SIGNAL_CHAIN_ID = 0
/* RADIOMETRIC DATA ELEMENTS */
BANDWIDTH = 177.0
CENTER_FILTER_WAVELENGTH = 677.5
RADIANCE_OFFSET = 0.0
RADIANCE_SCALING_FACTOR = 0.0301031
REFLECTANCE_SCALING_FACTOR = 0.000809208
MEX:REFLECTANCE_OFFSET = 0.0
/* IMAGE OBJECT DEFINITIONS */
OBJECT = IMAGE
  INTERCHANGE_FORMAT = BINARY
  LINES = 27062
  LINE_SAMPLES = 14904
  SAMPLE_TYPE = UNSIGNED_INTEGER
  SAMPLE_BITS = 8
  BANDS = 1
  BAND_STORAGE_TYPE = BAND_SEQUENTIAL
  MAXIMUM = 255
  MEAN = 213.371
  MINIMUM = 1
  STANDARD_DEVIATION = 76.8265
END_OBJECT = IMAGE
/* MAP OBJECT DEFINITIONS */
OBJECT = IMAGE_MAP_PROJECTION
  ^DATA_SET_MAP_PROJECTION_CATALOG= "DSMAP.CAT"
  A_AXIS_RADIUS = 3396.0
  B_AXIS_RADIUS = 3396.0
  C_AXIS_RADIUS = 3396.0
  CENTER_LATITUDE = 21.0631
  CENTER_LONGITUDE = 143.729
  COORDINATE_SYSTEM_NAME = PLANETOGRAPHIC
  COORDINATE_SYSTEM_TYPE = "BODY-FIXED ROTATING"
  EASTERNMOST_LONGITUDE = 201.293
  FIRST_STANDARD_PARALLEL = "N/A"
  LINE_FIRST_PIXEL = 1
  LINE_LAST_PIXEL = 27062
  LINE_PROJECTION_OFFSET = 12974.0
  MAP_PROJECTION_ROTATION = 0.0
  MAP_PROJECTION_TYPE = ORTHOGRAPHIC
  MAP_RESOLUTION = 296.356901933333
  MAP_SCALE = 0.2
  MAXIMUM_LATITUDE = 66.1755
  MINIMUM_LATITUDE = -38.7282
  POSITIVE_LONGITUDE_DIRECTION = EAST
  REFERENCE_LATITUDE = "N/A"
  REFERENCE_LONGITUDE = "N/A"
  SAMPLE_FIRST_PIXEL = 1
  SAMPLE_LAST_PIXEL = 14904
  SAMPLE_PROJECTION_OFFSET = 4572.0
  SECOND_STANDARD_PARALLEL = "N/A"
  WESTERNMOST_LONGITUDE = 128.023
END_OBJECT = IMAGE_MAP_PROJECTION
END
