PDS_VERSION_ID = PDS3
/* FILE DATA ELEMENTS */
RECORD_TYPE = UNDEFINED
/* POINTERS TO DATA OBJECTS */
^IMAGE = ("HQ185_0009_BL4.TIF")
/* IDENTIFICATION DATA ELEMENTS */
DATA_SET_ID = "MEX-M-HRSC-4-REFDR-MAPPROJECT-EXT9-V4.0"
DATA_SET_NAME = "MARS EXPRESS HRSC MAP PROJECTED REFDR EXTENSION9 V4.0"
DETECTOR_ID = MEX_HRSC_BLUE
EVENT_TYPE = "MARS-REGIONAL-MAPPING-Vo-Te-Eo"
INSTRUMENT_HOST_ID = MEX
INSTRUMENT_HOST_NAME = "MARS EXPRESS"
INSTRUMENT_ID = HRSC
INSTRUMENT_NAME = "HIGH RESOLUTION STEREO CAMERA"
MISSION_NAME = "MARS EXPRESS"
MISSION_PHASE_NAME = ME_Phase_50
PROCESSING_LEVEL_ID = 4
PRODUCT_CREATION_TIME = 2025-01-29T00:31:31.000Z
PRODUCT_ID = "HQ185_0009_BL4.TIF"
RELEASE_ID = 0019
REVISION_ID = 0000
/* QUALITY DATA ELEMENTS */
DATA_QUALITY_ID = 1
DATA_QUALITY_DESC = "Data calculated based on original SPICE kernels"
/* TIME DATA ELEMENTS */
SPACECRAFT_CLOCK_START_COUNT = "1/0675632026.65094"
SPACECRAFT_CLOCK_STOP_COUNT = "1/0675632293.56995"
START_TIME = 2024-09-28T19:35:20.575Z
STOP_TIME = 2024-09-28T19:38:30.891Z
/* ORBITAL DATA ELEMENTS */
ASCENDING_NODE_LONGITUDE = 89.32
MAXIMUM_RESOLUTION = 0.0634
FOOTPRINT_POINT_LATITUDE = (26.694,26.6965,26.6965,26.6955,26.6954 ,26.7038,26.4623,26.2207,25.9792, 25.7376,25.3753,25.1338,24.8922,24.6507 ,24.4092,24.0469,23.8054,23.5639, 23.2017,22.9603,22.719,22.4777,22.2364, 21.9951,21.7539,21.5127,21.2716,21.0306 ,20.7896,20.5486,20.3078,20.067,19.8262 ,19.5856,19.345,19.1045,18.8641,18.6237 ,18.3835,18.1433,17.9033,17.6633, 17.4234,17.1837,16.944,16.7045,16.2258, 15.7475,15.2698,14.7926,14.6733,14.6197 ,14.6159,14.6105,14.6059,14.6057, 14.6066,15.0841,15.5622,16.0407,16.2802 ,16.5197,16.7594,16.9992,17.2391, 17.4791,17.7192,17.9595,18.1998,18.4402 ,18.6808,18.9213,19.1619,19.4026, 19.6433,19.8842,20.2456,20.4866,20.7279 ,21.0898,21.4516,21.8136,22.1758, 22.4174,22.7797,23.1422,23.3839,23.7463 ,23.9882,24.3507,24.5927,24.8344, 25.0764,25.3183,25.5602,25.9233,26.286, 26.5279,26.6488,26.694)
FOOTPRINT_POINT_LONGITUDE = (210.149,209.396,209.07,208.647,208.632 ,208.616,208.618,208.619,208.621, 208.622,208.624,208.625,208.626,208.627 ,208.627,208.628,208.628,208.629, 208.629,208.629,208.629,208.628,208.628 ,208.627,208.627,208.626,208.626, 208.625,208.624,208.623,208.621,208.62, 208.619,208.617,208.616,208.614,208.612 ,208.61,208.608,208.606,208.604,208.602 ,208.599,208.597,208.594,208.592, 208.586,208.58,208.574,208.568,208.566, 208.565,209.045,209.61,210.025,210.039, 210.044,210.048,210.052,210.056,210.058 ,210.06,210.062,210.065,210.067,210.069 ,210.071,210.074,210.076,210.078, 210.081,210.083,210.085,210.087,210.09, 210.092,210.095,210.098,210.101,210.104 ,210.108,210.112,210.115,210.118, 210.122,210.126,210.129,210.133,210.136 ,210.14,210.143,210.146,210.149,210.152 ,210.155,210.16,210.165,210.168,210.169 ,210.149)
ORBIT_NUMBER = 26185
ORBITAL_ECCENTRICITY = 0.572
ORBITAL_INCLINATION = 87.11
ORBITAL_SEMIMAJOR_AXIS = 8834.36
PERIAPSIS_ALTITUDE = 391.78
PERIAPSIS_ARGUMENT_ANGLE = 156.78
PERIAPSIS_TIME = 2024-09-28T19:36:09.000Z
SPACECRAFT_ORIENTATION = (0.0,-1.0,0.0)
^MEX_ORIENTATION_DESC = "MEX_ORIENTATION_DESC.TXT"
SPACECRAFT_POINTING_MODE = ACROSSTRACK
^MEX_POINTING_DESC = "MEX_POINTING_DESC.TXT"
RIGHT_ASCENSION = -1e+32
DECLINATION = -1e+32
OFFSET_ANGLE = 0.15
SPACECRAFT_SOLAR_DISTANCE = 2.24391e+08
TARGET_NAME = MARS
/* CAMERA DATA ELEMENTS */
DETECTOR_TEMPERATURE = 17.7588
FOCAL_PLANE_TEMPERATURE = 9.3989
INST_CMPRS_NAME = "DISCRETE COSINE TRANSFORMATION (DCT)"
INST_CMPRS_RATIO = 5.59465
INST_CMPRS_QUALITY = 0
INST_CMPRS_QUANTZ_TBL_ID = 0
INSTRUMENT_TEMPERATURE = 11.234
LENS_TEMPERATURE = 9.3989
MACROPIXEL_SIZE = 4
MISSING_FRAMES = 0
PIXEL_SUBSAMPLING_FLAG = N
SIGNAL_CHAIN_ID = 2
/* RADIOMETRIC DATA ELEMENTS */
BANDWIDTH = 76.0
CENTER_FILTER_WAVELENGTH = 444.0
RADIANCE_OFFSET = 0.467064
RADIANCE_SCALING_FACTOR = 0.000937616
REFLECTANCE_SCALING_FACTOR = 4.85055e-05
MEX:REFLECTANCE_OFFSET = 0.0241625
/* IMAGE OBJECT DEFINITIONS */
OBJECT = IMAGE
  INTERCHANGE_FORMAT = BINARY
  LINES = 14338
  LINE_SAMPLES = 1791
  SAMPLE_TYPE = UNSIGNED_INTEGER
  SAMPLE_BITS = 8
  BANDS = 1
  BAND_STORAGE_TYPE = BAND_SEQUENTIAL
  MAXIMUM = 252
  MEAN = 135.522
  MINIMUM = 1
  STANDARD_DEVIATION = 33.2846
END_OBJECT = IMAGE
/* MAP OBJECT DEFINITIONS */
OBJECT = IMAGE_MAP_PROJECTION
  ^DATA_SET_MAP_PROJECTION_CATALOG= "DSMAP.CAT"
  A_AXIS_RADIUS = 3396.0
  B_AXIS_RADIUS = 3396.0
  C_AXIS_RADIUS = 3396.0
  CENTER_LATITUDE = 0.0
  CENTER_LONGITUDE = 209.0
  COORDINATE_SYSTEM_NAME = PLANETOGRAPHIC
  COORDINATE_SYSTEM_TYPE = "BODY-FIXED ROTATING"
  EASTERNMOST_LONGITUDE = 210.169
  FIRST_STANDARD_PARALLEL = "N/A"
  LINE_FIRST_PIXEL = 1
  LINE_LAST_PIXEL = 14338
  LINE_PROJECTION_OFFSET = 31636.125
  MAP_PROJECTION_ROTATION = 0.0
  MAP_PROJECTION_TYPE = SINUSOIDAL
  MAP_RESOLUTION = 1185.42760773333
  MAP_SCALE = 0.05
  MAXIMUM_LATITUDE = 26.7038
  MINIMUM_LATITUDE = 14.6057
  POSITIVE_LONGITUDE_DIRECTION = EAST
  REFERENCE_LATITUDE = "N/A"
  REFERENCE_LONGITUDE = "N/A"
  SAMPLE_FIRST_PIXEL = 1
  SAMPLE_LAST_PIXEL = 1791
  SAMPLE_PROJECTION_OFFSET = 524.375
  SECOND_STANDARD_PARALLEL = "N/A"
  WESTERNMOST_LONGITUDE = 208.565
END_OBJECT = IMAGE_MAP_PROJECTION
END
