PDS_VERSION_ID = PDS3
/* FILE DATA ELEMENTS */
RECORD_TYPE = UNDEFINED
/* POINTERS TO DATA OBJECTS */
^IMAGE = ("HQ182_0000_S14.TIF")
/* IDENTIFICATION DATA ELEMENTS */
DATA_SET_ID = "MEX-M-HRSC-4-REFDR-MAPPROJECT-EXT9-V4.0"
DATA_SET_NAME = "MARS EXPRESS HRSC MAP PROJECTED REFDR EXTENSION9 V4.0"
DETECTOR_ID = MEX_HRSC_S1
EVENT_TYPE = "MARS-REGIONAL-MAPPING-Vo-Te"
INSTRUMENT_HOST_ID = MEX
INSTRUMENT_HOST_NAME = "MARS EXPRESS"
INSTRUMENT_ID = HRSC
INSTRUMENT_NAME = "HIGH RESOLUTION STEREO CAMERA"
MISSION_NAME = "MARS EXPRESS"
MISSION_PHASE_NAME = ME_Phase_50
PROCESSING_LEVEL_ID = 4
PRODUCT_CREATION_TIME = 2025-01-29T00:31:31.000Z
PRODUCT_ID = "HQ182_0000_S14.TIF"
RELEASE_ID = 0019
REVISION_ID = 0000
/* QUALITY DATA ELEMENTS */
DATA_QUALITY_ID = 1
DATA_QUALITY_DESC = "Data calculated based on original SPICE kernels"
/* TIME DATA ELEMENTS */
SPACECRAFT_CLOCK_START_COUNT = "1/0675556633.00411"
SPACECRAFT_CLOCK_STOP_COUNT = "1/0675556886.33367"
START_TIME = 2024-09-27T22:38:04.151Z
STOP_TIME = 2024-09-27T22:40:59.381Z
/* ORBITAL DATA ELEMENTS */
ASCENDING_NODE_LONGITUDE = 89.37
MAXIMUM_RESOLUTION = 0.0334
FOOTPRINT_POINT_LATITUDE = (24.0547,24.0821,24.1021,24.1192, 24.1197,24.0916,23.6502,23.2079,22.9864 ,22.7648,22.5428,22.3208,22.0989, 21.8767,21.5433,21.321,20.9865,20.7635, 20.5403,20.2053,19.9819,19.7583,19.5347 ,19.3107,18.9747,18.7505,18.5265, 18.1903,17.8537,17.6291,17.292,16.9546, 16.7295,16.5046,16.2796,16.0543,15.7164 ,15.491,15.2653,15.0399,14.7022,14.4711 ,14.1379,13.9119,13.6861,13.4602, 13.1213,13.0083,12.8962,12.8756,12.8639 ,12.8411,12.8222,12.8213,12.8216, 13.0476,13.2737,13.4997,13.7259,13.9519 ,14.2907,14.5164,14.855,15.0808,15.3065 ,15.5322,15.7578,15.9832,16.2087,16.434 ,16.6593,16.8843,17.1093,17.3342, 17.5588,17.8956,18.3445,18.5691,18.7933 ,19.0176,19.2416,19.4657,19.6897, 19.9132,20.1367,20.36,20.6948,21.0294, 21.2524,21.4754,21.6977,21.9197,22.1419 ,22.3639,22.6966,23.1397,23.3611, 23.8037,23.9142,24.0547)
FOOTPRINT_POINT_LONGITUDE = (157.144,156.573,156.101,155.636, 155.622,155.617,155.617,155.616,155.616 ,155.615,155.615,155.614,155.613, 155.612,155.611,155.61,155.608,155.607, 155.605,155.603,155.601,155.6,155.598, 155.596,155.593,155.591,155.589,155.586 ,155.583,155.58,155.577,155.573,155.57, 155.568,155.565,155.562,155.558,155.555 ,155.551,155.548,155.543,155.54,155.535 ,155.532,155.528,155.524,155.519, 155.517,155.515,155.964,156.205,156.635 ,156.97,156.985,156.99,156.993,156.996, 156.998,157.001,157.004,157.008,157.011 ,157.016,157.018,157.021,157.024, 157.027,157.03,157.033,157.037,157.04, 157.043,157.046,157.049,157.053,157.058 ,157.065,157.068,157.072,157.075, 157.079,157.082,157.086,157.09,157.093, 157.097,157.103,157.108,157.112,157.116 ,157.12,157.124,157.128,157.132,157.139 ,157.147,157.151,157.16,157.162, 157.144)
ORBIT_NUMBER = 26182
ORBITAL_ECCENTRICITY = 0.571
ORBITAL_INCLINATION = 87.1
ORBITAL_SEMIMAJOR_AXIS = 8833.49
PERIAPSIS_ALTITUDE = 392.07
PERIAPSIS_ARGUMENT_ANGLE = 157.33
PERIAPSIS_TIME = 2024-09-27T22:39:02.000Z
SPACECRAFT_ORIENTATION = (0.0,-1.0,0.0)
^MEX_ORIENTATION_DESC = "MEX_ORIENTATION_DESC.TXT"
SPACECRAFT_POINTING_MODE = ACROSSTRACK
^MEX_POINTING_DESC = "MEX_POINTING_DESC.TXT"
RIGHT_ASCENSION = -1e+32
DECLINATION = -1e+32
OFFSET_ANGLE = 0.686
SPACECRAFT_SOLAR_DISTANCE = 2.24221e+08
TARGET_NAME = MARS
/* CAMERA DATA ELEMENTS */
DETECTOR_TEMPERATURE = 16.9432
FOCAL_PLANE_TEMPERATURE = 8.5833
INST_CMPRS_NAME = "DISCRETE COSINE TRANSFORMATION (DCT)"
INST_CMPRS_RATIO = 15.0585
INST_CMPRS_QUALITY = 0
INST_CMPRS_QUANTZ_TBL_ID = 0
INSTRUMENT_TEMPERATURE = 11.6418
LENS_TEMPERATURE = 8.9911
MACROPIXEL_SIZE = 2
MISSING_FRAMES = 0
PIXEL_SUBSAMPLING_FLAG = N
SIGNAL_CHAIN_ID = 1
/* RADIOMETRIC DATA ELEMENTS */
BANDWIDTH = 180.0
CENTER_FILTER_WAVELENGTH = 677.0
RADIANCE_OFFSET = 3.19811
RADIANCE_SCALING_FACTOR = 0.00820625
REFLECTANCE_SCALING_FACTOR = 0.000215247
MEX:REFLECTANCE_OFFSET = 0.0838852
/* IMAGE OBJECT DEFINITIONS */
OBJECT = IMAGE
  INTERCHANGE_FORMAT = BINARY
  LINES = 26557
  LINE_SAMPLES = 3762
  SAMPLE_TYPE = UNSIGNED_INTEGER
  SAMPLE_BITS = 8
  BANDS = 1
  BAND_STORAGE_TYPE = BAND_SEQUENTIAL
  MAXIMUM = 255
  MEAN = 127.412
  MINIMUM = 1
  STANDARD_DEVIATION = 33.6282
END_OBJECT = IMAGE
/* MAP OBJECT DEFINITIONS */
OBJECT = IMAGE_MAP_PROJECTION
  ^DATA_SET_MAP_PROJECTION_CATALOG= "DSMAP.CAT"
  A_AXIS_RADIUS = 3396.0
  B_AXIS_RADIUS = 3396.0
  C_AXIS_RADIUS = 3396.0
  CENTER_LATITUDE = 0.0
  CENTER_LONGITUDE = 156.0
  COORDINATE_SYSTEM_NAME = PLANETOGRAPHIC
  COORDINATE_SYSTEM_TYPE = "BODY-FIXED ROTATING"
  EASTERNMOST_LONGITUDE = 157.162
  FIRST_STANDARD_PARALLEL = "N/A"
  LINE_FIRST_PIXEL = 1
  LINE_LAST_PIXEL = 26557
  LINE_PROJECTION_OFFSET = 57095.25
  MAP_PROJECTION_ROTATION = 0.0
  MAP_PROJECTION_TYPE = SINUSOIDAL
  MAP_RESOLUTION = 2370.85521546667
  MAP_SCALE = 0.025
  MAXIMUM_LATITUDE = 24.1197
  MINIMUM_LATITUDE = 12.8213
  POSITIVE_LONGITUDE_DIRECTION = EAST
  REFERENCE_LATITUDE = "N/A"
  REFERENCE_LONGITUDE = "N/A"
  SAMPLE_FIRST_PIXEL = 1
  SAMPLE_LAST_PIXEL = 3762
  SAMPLE_PROJECTION_OFFSET = 1167.75
  SECOND_STANDARD_PARALLEL = "N/A"
  WESTERNMOST_LONGITUDE = 155.515
END_OBJECT = IMAGE_MAP_PROJECTION
END
