PDS_VERSION_ID = PDS3
/* FILE DATA ELEMENTS */
RECORD_TYPE = UNDEFINED
/* POINTERS TO DATA OBJECTS */
^IMAGE = ("HQ182_0000_GR4.TIF")
/* IDENTIFICATION DATA ELEMENTS */
DATA_SET_ID = "MEX-M-HRSC-4-REFDR-MAPPROJECT-EXT9-V4.0"
DATA_SET_NAME = "MARS EXPRESS HRSC MAP PROJECTED REFDR EXTENSION9 V4.0"
DETECTOR_ID = MEX_HRSC_GREEN
EVENT_TYPE = "MARS-REGIONAL-MAPPING-Vo-Te"
INSTRUMENT_HOST_ID = MEX
INSTRUMENT_HOST_NAME = "MARS EXPRESS"
INSTRUMENT_ID = HRSC
INSTRUMENT_NAME = "HIGH RESOLUTION STEREO CAMERA"
MISSION_NAME = "MARS EXPRESS"
MISSION_PHASE_NAME = ME_Phase_50
PROCESSING_LEVEL_ID = 4
PRODUCT_CREATION_TIME = 2025-01-29T00:31:31.000Z
PRODUCT_ID = "HQ182_0000_GR4.TIF"
RELEASE_ID = 0019
REVISION_ID = 0000
/* QUALITY DATA ELEMENTS */
DATA_QUALITY_ID = 1
DATA_QUALITY_DESC = "Data calculated based on original SPICE kernels"
/* TIME DATA ELEMENTS */
SPACECRAFT_CLOCK_START_COUNT = "1/0675556633.00411"
SPACECRAFT_CLOCK_STOP_COUNT = "1/0675556886.33367"
START_TIME = 2024-09-27T22:38:34.277Z
STOP_TIME = 2024-09-27T22:41:29.815Z
/* ORBITAL DATA ELEMENTS */
ASCENDING_NODE_LONGITUDE = 89.37
MAXIMUM_RESOLUTION = 0.0629
FOOTPRINT_POINT_LATITUDE = (24.0679,24.0739,24.0808,24.0862, 24.0886,24.0887,24.0835,23.8604,23.6374 ,23.4142,23.191,22.9677,22.7445,22.5211 ,22.1861,21.9628,21.7395,21.5161, 21.2928,21.0693,20.7341,20.399,20.1675, 19.9441,19.7207,19.4973,19.2738,19.0504 ,18.827,18.492,18.2688,17.9339,17.7106, 17.4874,17.2642,17.041,16.8179,16.5948, 16.3718,16.1488,15.8144,15.5915,15.1459 ,14.7007,14.4773,13.922,13.4774,13.0332 ,12.9221,12.9121,12.9045,12.8995,12.892 ,12.8828,12.8825,12.8834,13.3279, 13.7727,14.2178,14.6632,14.886,15.1088, 15.3318,15.5547,15.7778,16.0009,16.224, 16.4472,16.6704,16.8937,17.117,17.3403, 17.5636,17.787,18.0104,18.2338,18.4573, 18.6808,18.9044,19.1279,19.3515,19.5751 ,19.7987,20.0223,20.2458,20.4775,20.701 ,20.9246,21.1482,21.4836,21.8188, 22.1541,22.4893,22.8245,23.1595,23.3829 ,23.7179,23.9412,24.0529,24.0679)
FOOTPRINT_POINT_LONGITUDE = (157.128,156.799,156.347,155.903, 155.641,155.627,155.624,155.624,155.623 ,155.622,155.622,155.621,155.62,155.619 ,155.617,155.616,155.615,155.614, 155.612,155.611,155.608,155.606,155.604 ,155.602,155.6,155.598,155.596,155.594, 155.591,155.588,155.585,155.582,155.579 ,155.576,155.574,155.571,155.568, 155.565,155.562,155.559,155.554,155.551 ,155.544,155.537,155.533,155.524, 155.517,155.509,155.507,155.506,155.941 ,156.203,156.564,156.973,156.987, 156.992,156.997,157.002,157.007,157.012 ,157.014,157.017,157.019,157.022, 157.025,157.027,157.03,157.033,157.035, 157.038,157.041,157.044,157.047,157.05, 157.053,157.057,157.06,157.063,157.066, 157.069,157.072,157.075,157.078,157.082 ,157.085,157.089,157.092,157.096, 157.099,157.104,157.11,157.116,157.121, 157.127,157.133,157.137,157.142,157.146 ,157.148,157.128)
ORBIT_NUMBER = 26182
ORBITAL_ECCENTRICITY = 0.571
ORBITAL_INCLINATION = 87.1
ORBITAL_SEMIMAJOR_AXIS = 8833.49
PERIAPSIS_ALTITUDE = 392.07
PERIAPSIS_ARGUMENT_ANGLE = 157.33
PERIAPSIS_TIME = 2024-09-27T22:39:02.000Z
SPACECRAFT_ORIENTATION = (0.0,-1.0,0.0)
^MEX_ORIENTATION_DESC = "MEX_ORIENTATION_DESC.TXT"
SPACECRAFT_POINTING_MODE = ACROSSTRACK
^MEX_POINTING_DESC = "MEX_POINTING_DESC.TXT"
RIGHT_ASCENSION = -1e+32
DECLINATION = -1e+32
OFFSET_ANGLE = 0.686
SPACECRAFT_SOLAR_DISTANCE = 2.24221e+08
TARGET_NAME = MARS
/* CAMERA DATA ELEMENTS */
DETECTOR_TEMPERATURE = 17.5549
FOCAL_PLANE_TEMPERATURE = 8.5833
INST_CMPRS_NAME = "DISCRETE COSINE TRANSFORMATION (DCT)"
INST_CMPRS_RATIO = 12.3964
INST_CMPRS_QUALITY = 0
INST_CMPRS_QUANTZ_TBL_ID = 0
INSTRUMENT_TEMPERATURE = 11.6418
LENS_TEMPERATURE = 8.9911
MACROPIXEL_SIZE = 4
MISSING_FRAMES = 1
PIXEL_SUBSAMPLING_FLAG = N
SIGNAL_CHAIN_ID = 2
/* RADIOMETRIC DATA ELEMENTS */
BANDWIDTH = 88.0
CENTER_FILTER_WAVELENGTH = 538.0
RADIANCE_OFFSET = 1.00479
RADIANCE_SCALING_FACTOR = 0.00222276
REFLECTANCE_SCALING_FACTOR = 9.62127e-05
MEX:REFLECTANCE_OFFSET = 0.0434925
/* IMAGE OBJECT DEFINITIONS */
OBJECT = IMAGE
  INTERCHANGE_FORMAT = BINARY
  LINES = 13279
  LINE_SAMPLES = 1881
  SAMPLE_TYPE = UNSIGNED_INTEGER
  SAMPLE_BITS = 8
  BANDS = 1
  BAND_STORAGE_TYPE = BAND_SEQUENTIAL
  MAXIMUM = 255
  MEAN = 130.159
  MINIMUM = 1
  STANDARD_DEVIATION = 34.6899
END_OBJECT = IMAGE
/* MAP OBJECT DEFINITIONS */
OBJECT = IMAGE_MAP_PROJECTION
  ^DATA_SET_MAP_PROJECTION_CATALOG= "DSMAP.CAT"
  A_AXIS_RADIUS = 3396.0
  B_AXIS_RADIUS = 3396.0
  C_AXIS_RADIUS = 3396.0
  CENTER_LATITUDE = 0.0
  CENTER_LONGITUDE = 156.0
  COORDINATE_SYSTEM_NAME = PLANETOGRAPHIC
  COORDINATE_SYSTEM_TYPE = "BODY-FIXED ROTATING"
  EASTERNMOST_LONGITUDE = 157.148
  FIRST_STANDARD_PARALLEL = "N/A"
  LINE_FIRST_PIXEL = 1
  LINE_LAST_PIXEL = 13279
  LINE_PROJECTION_OFFSET = 28547.375
  MAP_PROJECTION_ROTATION = 0.0
  MAP_PROJECTION_TYPE = SINUSOIDAL
  MAP_RESOLUTION = 1185.42760773333
  MAP_SCALE = 0.05
  MAXIMUM_LATITUDE = 24.0887
  MINIMUM_LATITUDE = 12.8825
  POSITIVE_LONGITUDE_DIRECTION = EAST
  REFERENCE_LATITUDE = "N/A"
  REFERENCE_LONGITUDE = "N/A"
  SAMPLE_FIRST_PIXEL = 1
  SAMPLE_LAST_PIXEL = 1881
  SAMPLE_PROJECTION_OFFSET = 583.625
  SECOND_STANDARD_PARALLEL = "N/A"
  WESTERNMOST_LONGITUDE = 155.506
END_OBJECT = IMAGE_MAP_PROJECTION
END
