PDS_VERSION_ID = PDS3
/* FILE DATA ELEMENTS */
RECORD_TYPE = UNDEFINED
/* POINTERS TO DATA OBJECTS */
^IMAGE = ("HQ174_0000_ND4.TIF")
/* IDENTIFICATION DATA ELEMENTS */
DATA_SET_ID = "MEX-M-HRSC-4-REFDR-MAPPROJECT-EXT9-V4.0"
DATA_SET_NAME = "MARS EXPRESS HRSC MAP PROJECTED REFDR EXTENSION9 V4.0"
DETECTOR_ID = MEX_HRSC_NADIR
EVENT_TYPE = "MARS-LOCAL-STEREO-Vo-Te"
INSTRUMENT_HOST_ID = MEX
INSTRUMENT_HOST_NAME = "MARS EXPRESS"
INSTRUMENT_ID = HRSC
INSTRUMENT_NAME = "HIGH RESOLUTION STEREO CAMERA"
MISSION_NAME = "MARS EXPRESS"
MISSION_PHASE_NAME = ME_Phase_50
PROCESSING_LEVEL_ID = 4
PRODUCT_CREATION_TIME = 2025-01-29T00:31:31.000Z
PRODUCT_ID = "HQ174_0000_ND4.TIF"
RELEASE_ID = 0019
REVISION_ID = 0000
/* QUALITY DATA ELEMENTS */
DATA_QUALITY_ID = 1
DATA_QUALITY_DESC = "Data calculated based on original SPICE kernels"
/* TIME DATA ELEMENTS */
SPACECRAFT_CLOCK_START_COUNT = "1/0675355521.00373"
SPACECRAFT_CLOCK_STOP_COUNT = "1/0675355848.41486"
START_TIME = 2024-09-25T14:46:48.111Z
STOP_TIME = 2024-09-25T14:50:52.096Z
/* ORBITAL DATA ELEMENTS */
ASCENDING_NODE_LONGITUDE = 89.51
MAXIMUM_RESOLUTION = 0.0156
FOOTPRINT_POINT_LATITUDE = (19.1494,19.1572,19.1627,19.1669,19.167 ,19.1667,18.7152,18.4143,18.1134, 17.8126,17.5119,17.2112,16.9107,16.6102 ,16.3099,16.0096,15.7094,15.4094, 14.8097,14.2106,13.612,13.0139,12.4165, 11.6706,11.2132,10.9076,10.6022,10.2971 ,9.9921,9.68743,9.38297,9.07131,8.7594, 8.44776,8.13643,7.82539,7.51465,7.19716 ,6.87909,6.56135,6.24394,5.92689, 5.44209,5.11802,4.79433,4.47104,3.97697 ,3.81185,3.80578,3.7976,3.78889,3.78172 ,3.78146,3.7816,4.1121,4.44123,4.76467, 5.08851,5.41273,5.89793,6.21515,6.53271 ,6.8506,7.16882,7.48661,7.79751,8.10869 ,8.42018,8.73192,9.04393,9.3558,9.66032 ,9.96507,10.2701,10.5753,10.8808, 11.1865,11.6442,12.3902,12.8385,13.2871 ,13.8858,14.485,14.7848,15.0848,15.3848 ,15.685,15.9853,16.2857,16.5862,16.8868 ,17.1875,17.4883,17.7891,18.0901, 18.3911,18.6922,18.9933,19.1439, 19.1494)
FOOTPRINT_POINT_LONGITUDE = (254.785,254.242,253.773,253.315, 253.301,253.293,253.288,253.284,253.28, 253.276,253.272,253.267,253.263,253.259 ,253.254,253.249,253.245,253.24,253.23, 253.219,253.208,253.196,253.182,253.164 ,253.154,253.147,253.141,253.135, 253.128,253.121,253.114,253.107,253.1, 253.093,253.085,253.078,253.071,253.063 ,253.056,253.048,253.04,253.032,253.019 ,253.011,253.002,252.993,252.98,252.975 ,252.975,253.529,254.097,254.551, 254.568,254.576,254.577,254.578,254.579 ,254.58,254.582,254.584,254.585,254.586 ,254.587,254.588,254.589,254.59,254.591 ,254.593,254.592,254.591,254.587, 254.585,254.581,254.578,254.574,254.573 ,254.574,254.58,254.603,254.624,254.65, 254.675,254.693,254.701,254.707,254.714 ,254.719,254.724,254.729,254.734, 254.739,254.745,254.75,254.755,254.761, 254.766,254.772,254.777,254.78,254.785)
ORBIT_NUMBER = 26174
ORBITAL_ECCENTRICITY = 0.572
ORBITAL_INCLINATION = 87.09
ORBITAL_SEMIMAJOR_AXIS = 8849.29
PERIAPSIS_ALTITUDE = 390.2
PERIAPSIS_ARGUMENT_ANGLE = 158.66
PERIAPSIS_TIME = 2024-09-25T14:46:14.000Z
SPACECRAFT_ORIENTATION = (0.0,-1.0,0.0)
^MEX_ORIENTATION_DESC = "MEX_ORIENTATION_DESC.TXT"
SPACECRAFT_POINTING_MODE = ACROSSTRACK
^MEX_POINTING_DESC = "MEX_POINTING_DESC.TXT"
RIGHT_ASCENSION = -1e+32
DECLINATION = -1e+32
OFFSET_ANGLE = 1.145
SPACECRAFT_SOLAR_DISTANCE = 2.23768e+08
TARGET_NAME = MARS
/* CAMERA DATA ELEMENTS */
DETECTOR_TEMPERATURE = 18.1666
FOCAL_PLANE_TEMPERATURE = 9.3989
INST_CMPRS_NAME = "DISCRETE COSINE TRANSFORMATION (DCT)"
INST_CMPRS_RATIO = 5.21578
INST_CMPRS_QUALITY = 0
INST_CMPRS_QUANTZ_TBL_ID = 0
INSTRUMENT_TEMPERATURE = 11.0301
LENS_TEMPERATURE = 9.6028
MACROPIXEL_SIZE = 1
MISSING_FRAMES = 0
PIXEL_SUBSAMPLING_FLAG = N
SIGNAL_CHAIN_ID = 0
/* RADIOMETRIC DATA ELEMENTS */
BANDWIDTH = 177.0
CENTER_FILTER_WAVELENGTH = 677.5
RADIANCE_OFFSET = 1.85583
RADIANCE_SCALING_FACTOR = 0.0205737
REFLECTANCE_SCALING_FACTOR = 0.000547256
MEX:REFLECTANCE_OFFSET = 0.0493647
/* IMAGE OBJECT DEFINITIONS */
OBJECT = IMAGE
  INTERCHANGE_FORMAT = BINARY
  LINES = 72951
  LINE_SAMPLES = 8666
  SAMPLE_TYPE = UNSIGNED_INTEGER
  SAMPLE_BITS = 8
  BANDS = 1
  BAND_STORAGE_TYPE = BAND_SEQUENTIAL
  MAXIMUM = 255
  MEAN = 109.711
  MINIMUM = 1
  STANDARD_DEVIATION = 22.7667
END_OBJECT = IMAGE
/* MAP OBJECT DEFINITIONS */
OBJECT = IMAGE_MAP_PROJECTION
  ^DATA_SET_MAP_PROJECTION_CATALOG= "DSMAP.CAT"
  A_AXIS_RADIUS = 3396.0
  B_AXIS_RADIUS = 3396.0
  C_AXIS_RADIUS = 3396.0
  CENTER_LATITUDE = 0.0
  CENTER_LONGITUDE = 254.0
  COORDINATE_SYSTEM_NAME = PLANETOGRAPHIC
  COORDINATE_SYSTEM_TYPE = "BODY-FIXED ROTATING"
  EASTERNMOST_LONGITUDE = 254.785
  FIRST_STANDARD_PARALLEL = "N/A"
  LINE_FIRST_PIXEL = 1
  LINE_LAST_PIXEL = 72951
  LINE_PROJECTION_OFFSET = 90884.0
  MAP_PROJECTION_ROTATION = 0.0
  MAP_PROJECTION_TYPE = SINUSOIDAL
  MAP_RESOLUTION = 4741.71043093333
  MAP_SCALE = 0.0125
  MAXIMUM_LATITUDE = 19.167
  MINIMUM_LATITUDE = 3.78146
  POSITIVE_LONGITUDE_DIRECTION = EAST
  REFERENCE_LATITUDE = "N/A"
  REFERENCE_LONGITUDE = "N/A"
  SAMPLE_FIRST_PIXEL = 1
  SAMPLE_LAST_PIXEL = 8666
  SAMPLE_PROJECTION_OFFSET = 4819.0
  SECOND_STANDARD_PARALLEL = "N/A"
  WESTERNMOST_LONGITUDE = 252.975
END_OBJECT = IMAGE_MAP_PROJECTION
END
