PDS_VERSION_ID = PDS3
/* FILE DATA ELEMENTS */
RECORD_TYPE = UNDEFINED
/* POINTERS TO DATA OBJECTS */
^IMAGE = ("HQ172_0000_S24.TIF")
/* IDENTIFICATION DATA ELEMENTS */
DATA_SET_ID = "MEX-M-HRSC-4-REFDR-MAPPROJECT-EXT9-V4.0"
DATA_SET_NAME = "MARS EXPRESS HRSC MAP PROJECTED REFDR EXTENSION9 V4.0"
DETECTOR_ID = MEX_HRSC_S2
EVENT_TYPE = "MARS-REGIONAL-MAPPING-Vo-Im-Eo"
INSTRUMENT_HOST_ID = MEX
INSTRUMENT_HOST_NAME = "MARS EXPRESS"
INSTRUMENT_ID = HRSC
INSTRUMENT_NAME = "HIGH RESOLUTION STEREO CAMERA"
MISSION_NAME = "MARS EXPRESS"
MISSION_PHASE_NAME = ME_Phase_50
PROCESSING_LEVEL_ID = 4
PRODUCT_CREATION_TIME = 2025-01-29T00:31:31.000Z
PRODUCT_ID = "HQ172_0000_S24.TIF"
RELEASE_ID = 0019
REVISION_ID = 0000
/* QUALITY DATA ELEMENTS */
DATA_QUALITY_ID = 1
DATA_QUALITY_DESC = "Data calculated based on original SPICE kernels"
/* TIME DATA ELEMENTS */
SPACECRAFT_CLOCK_START_COUNT = "1/0675305315.64203"
SPACECRAFT_CLOCK_STOP_COUNT = "1/0675305485.47068"
START_TIME = 2024-09-25T00:50:41.307Z
STOP_TIME = 2024-09-25T00:52:14.803Z
/* ORBITAL DATA ELEMENTS */
ASCENDING_NODE_LONGITUDE = 89.55
MAXIMUM_RESOLUTION = 0.0354
FOOTPRINT_POINT_LATITUDE = (13.1656,13.1734,13.1814,13.1896, 13.1938,13.198,13.2023,13.2067,13.2111, 13.2189,13.2194,13.2491,12.9752,12.8112 ,12.5382,12.3703,12.1462,11.9227, 11.6992,11.4761,11.2536,11.0309,10.8641 ,10.6972,10.4732,10.3593,10.2457, 10.1315,10.0181,9.90483,9.7916,9.6783, 9.50838,9.39537,9.28166,9.16872,9.0558, 8.88783,8.66005,8.48232,8.36705,8.25139 ,8.13643,8.02207,7.84979,7.67742, 7.62013,7.59467,7.58868,7.57193,7.55758 ,7.5536,7.55109,7.54398,7.53897,7.53489 ,7.53023,7.5297,7.53002,7.64357,7.75803 ,7.87458,7.99081,8.10496,8.21951, 8.33508,8.45205,8.56738,8.68285,8.79835 ,8.91154,9.02549,9.13855,9.25146, 9.36453,9.53454,9.64782,9.76134,9.87569 ,9.98939,10.1599,10.2737,10.3878, 10.5015,10.6681,10.8351,11.0023,11.2256 ,11.5047,11.673,11.7863,12.0081,12.2324 ,12.3449,12.5121,12.7306,12.9499, 13.1143,13.169,13.1656)
FOOTPRINT_POINT_LONGITUDE = (97.3286,97.1009,96.8722,96.6422, 96.5268,96.4112,96.2953,96.179,96.0623, 95.857,95.8423,95.823,95.8193,95.817, 95.813,95.8105,95.8072,95.8037,95.8002, 95.7965,95.7926,95.7889,95.7861,95.7833 ,95.7793,95.7772,95.7751,95.7733, 95.7711,95.7688,95.7666,95.7644,95.7611 ,95.7588,95.7569,95.7546,95.7523, 95.7483,95.7419,95.7404,95.7379,95.7356 ,95.733,95.7301,95.7262,95.7224,95.7211 ,95.7205,95.8457,96.0977,96.331,96.4844 ,96.6529,96.8827,97.005,97.1727,97.2943 ,97.3095,97.3149,97.315,97.3151,97.3155 ,97.3159,97.316,97.3161,97.3164,97.3169 ,97.3171,97.3173,97.3176,97.3178, 97.3182,97.3185,97.3187,97.319,97.3195, 97.3197,97.3201,97.3205,97.3208,97.3213 ,97.3216,97.322,97.3223,97.3228,97.3233 ,97.3239,97.3247,97.3256,97.3263, 97.3269,97.3274,97.3282,97.3287,97.3293 ,97.3301,97.331,97.3316,97.3318, 97.3286)
ORBIT_NUMBER = 26172
ORBITAL_ECCENTRICITY = 0.572
ORBITAL_INCLINATION = 87.1
ORBITAL_SEMIMAJOR_AXIS = 8842.5
PERIAPSIS_ALTITUDE = 389.79
PERIAPSIS_ARGUMENT_ANGLE = 159.0
PERIAPSIS_TIME = 2024-09-25T00:48:00.000Z
SPACECRAFT_ORIENTATION = (0.0,-1.0,0.0)
^MEX_ORIENTATION_DESC = "MEX_ORIENTATION_DESC.TXT"
SPACECRAFT_POINTING_MODE = ACROSSTRACK
^MEX_POINTING_DESC = "MEX_POINTING_DESC.TXT"
RIGHT_ASCENSION = -1e+32
DECLINATION = -1e+32
OFFSET_ANGLE = -0.458
SPACECRAFT_SOLAR_DISTANCE = 2.23655e+08
TARGET_NAME = MARS
/* CAMERA DATA ELEMENTS */
DETECTOR_TEMPERATURE = 18.1666
FOCAL_PLANE_TEMPERATURE = 8.3794
INST_CMPRS_NAME = "DISCRETE COSINE TRANSFORMATION (DCT)"
INST_CMPRS_RATIO = 13.9587
INST_CMPRS_QUALITY = 0
INST_CMPRS_QUANTZ_TBL_ID = 0
INSTRUMENT_TEMPERATURE = 9.6028
LENS_TEMPERATURE = 8.9911
MACROPIXEL_SIZE = 2
MISSING_FRAMES = 0
PIXEL_SUBSAMPLING_FLAG = N
SIGNAL_CHAIN_ID = 1
/* RADIOMETRIC DATA ELEMENTS */
BANDWIDTH = 178.0
CENTER_FILTER_WAVELENGTH = 679.0
RADIANCE_OFFSET = 3.68781
RADIANCE_SCALING_FACTOR = 0.00782128
REFLECTANCE_SCALING_FACTOR = 0.000207188
MEX:REFLECTANCE_OFFSET = 0.0976909
/* IMAGE OBJECT DEFINITIONS */
OBJECT = IMAGE
  INTERCHANGE_FORMAT = BINARY
  LINES = 13460
  LINE_SAMPLES = 3725
  SAMPLE_TYPE = UNSIGNED_INTEGER
  SAMPLE_BITS = 8
  BANDS = 1
  BAND_STORAGE_TYPE = BAND_SEQUENTIAL
  MAXIMUM = 255
  MEAN = 102.559
  MINIMUM = 1
  STANDARD_DEVIATION = 30.3511
END_OBJECT = IMAGE
/* MAP OBJECT DEFINITIONS */
OBJECT = IMAGE_MAP_PROJECTION
  ^DATA_SET_MAP_PROJECTION_CATALOG= "DSMAP.CAT"
  A_AXIS_RADIUS = 3396.0
  B_AXIS_RADIUS = 3396.0
  C_AXIS_RADIUS = 3396.0
  CENTER_LATITUDE = 0.0
  CENTER_LONGITUDE = 97.0
  COORDINATE_SYSTEM_NAME = PLANETOGRAPHIC
  COORDINATE_SYSTEM_TYPE = "BODY-FIXED ROTATING"
  EASTERNMOST_LONGITUDE = 97.3318
  FIRST_STANDARD_PARALLEL = "N/A"
  LINE_FIRST_PIXEL = 1
  LINE_LAST_PIXEL = 13460
  LINE_PROJECTION_OFFSET = 31286.25
  MAP_PROJECTION_ROTATION = 0.0
  MAP_PROJECTION_TYPE = SINUSOIDAL
  MAP_RESOLUTION = 2370.85521546667
  MAP_SCALE = 0.025
  MAXIMUM_LATITUDE = 13.2491
  MINIMUM_LATITUDE = 7.5297
  POSITIVE_LONGITUDE_DIRECTION = EAST
  REFERENCE_LATITUDE = "N/A"
  REFERENCE_LONGITUDE = "N/A"
  SAMPLE_FIRST_PIXEL = 1
  SAMPLE_LAST_PIXEL = 3725
  SAMPLE_PROJECTION_OFFSET = 2987.25
  SECOND_STANDARD_PARALLEL = "N/A"
  WESTERNMOST_LONGITUDE = 95.7205
END_OBJECT = IMAGE_MAP_PROJECTION
END
