PDS_VERSION_ID = PDS3
/* FILE DATA ELEMENTS */
RECORD_TYPE = UNDEFINED
/* POINTERS TO DATA OBJECTS */
^IMAGE = ("HQ165_0000_S24.TIF")
/* IDENTIFICATION DATA ELEMENTS */
DATA_SET_ID = "MEX-M-HRSC-4-REFDR-MAPPROJECT-EXT9-V4.0"
DATA_SET_NAME = "MARS EXPRESS HRSC MAP PROJECTED REFDR EXTENSION9 V4.0"
DETECTOR_ID = MEX_HRSC_S2
EVENT_TYPE = "MARS-REGIONAL-MAPPING-Te-Im-Eo"
INSTRUMENT_HOST_ID = MEX
INSTRUMENT_HOST_NAME = "MARS EXPRESS"
INSTRUMENT_ID = HRSC
INSTRUMENT_NAME = "HIGH RESOLUTION STEREO CAMERA"
MISSION_NAME = "MARS EXPRESS"
MISSION_PHASE_NAME = ME_Phase_50
PROCESSING_LEVEL_ID = 4
PRODUCT_CREATION_TIME = 2025-01-29T00:31:31.000Z
PRODUCT_ID = "HQ165_0000_S24.TIF"
RELEASE_ID = 0019
REVISION_ID = 0000
/* QUALITY DATA ELEMENTS */
DATA_QUALITY_ID = 1
DATA_QUALITY_DESC = "Data calculated based on original SPICE kernels"
/* TIME DATA ELEMENTS */
SPACECRAFT_CLOCK_START_COUNT = "1/0675129206.65108"
SPACECRAFT_CLOCK_STOP_COUNT = "1/0675129425.12680"
START_TIME = 2024-09-22T23:55:29.634Z
STOP_TIME = 2024-09-22T23:57:54.239Z
/* ORBITAL DATA ELEMENTS */
ASCENDING_NODE_LONGITUDE = 89.67
MAXIMUM_RESOLUTION = 0.0339
FOOTPRINT_POINT_LATITUDE = (17.4615,17.4688,17.4761,17.4835,17.491 ,17.4987,17.5095,17.51,17.5435,17.3638, 17.0943,16.915,16.6461,16.3773,16.1984, 16.0194,15.8407,15.662,15.4836,15.2161, 15.0379,14.8597,14.6819,14.504,14.3264, 14.1488,13.9717,13.7947,13.441,13.0877, 12.7354,12.3834,12.1197,11.7686,11.4184 ,11.1559,10.8879,10.7087,10.5297, 10.3508,10.1722,9.99375,9.81553,9.54833 ,9.37024,9.10205,8.92012,8.73842, 8.64767,8.62262,8.61129,8.6015,8.58963, 8.58063,8.57186,8.56341,8.56291,8.56322 ,8.83632,9.01864,9.19954,9.37734,9.6447 ,9.82292,10.0013,10.1799,10.3586, 10.5377,10.7172,10.8966,11.076,11.4263, 11.7771,12.1283,12.4808,12.8333,13.1866 ,13.5403,13.806,13.9832,14.2495,14.4277 ,14.6055,14.7834,14.9619,15.1402, 15.3187,15.4972,15.6759,15.8547,16.0337 ,16.2127,16.392,16.5715,16.7509,16.9305 ,17.1101,17.3799,17.4698,17.4615)
FOOTPRINT_POINT_LONGITUDE = (92.4146,92.1926,91.9696,91.7452, 91.5199,91.2933,90.979,90.9647,90.9427, 90.9418,90.9405,90.9394,90.9378,90.9361 ,90.9349,90.9337,90.9324,90.931,90.9295 ,90.9273,90.9257,90.9242,90.9224, 90.9208,90.919,90.9172,90.9152,90.9131, 90.9089,90.9046,90.8999,90.8951,90.8915 ,90.8864,90.881,90.877,90.8725,90.8695, 90.8666,90.8635,90.8604,90.8572,90.854, 90.8492,90.846,90.8404,90.8368,90.8332, 90.8313,90.8308,91.1036,91.3448,91.6444 ,91.883,92.1203,92.3565,92.3712,92.3765 ,92.3774,92.378,92.3785,92.3791,92.3801 ,92.3807,92.3813,92.3819,92.3826, 92.3833,92.384,92.3847,92.3854,92.3869, 92.3883,92.3899,92.3915,92.3931,92.3948 ,92.3965,92.3978,92.3987,92.4,92.401, 92.4019,92.4029,92.4038,92.4048,92.4058 ,92.4068,92.4077,92.4087,92.4098, 92.4108,92.4118,92.4128,92.4139,92.4149 ,92.416,92.4176,92.4181,92.4146)
ORBIT_NUMBER = 26165
ORBITAL_ECCENTRICITY = 0.572
ORBITAL_INCLINATION = 87.1
ORBITAL_SEMIMAJOR_AXIS = 8843.87
PERIAPSIS_ALTITUDE = 388.92
PERIAPSIS_ARGUMENT_ANGLE = 160.19
PERIAPSIS_TIME = 2024-09-22T23:54:17.000Z
SPACECRAFT_ORIENTATION = (0.0,-1.0,0.0)
^MEX_ORIENTATION_DESC = "MEX_ORIENTATION_DESC.TXT"
SPACECRAFT_POINTING_MODE = ACROSSTRACK
^MEX_POINTING_DESC = "MEX_POINTING_DESC.TXT"
RIGHT_ASCENSION = -1e+32
DECLINATION = -1e+32
OFFSET_ANGLE = -0.458
SPACECRAFT_SOLAR_DISTANCE = 2.23259e+08
TARGET_NAME = MARS
/* CAMERA DATA ELEMENTS */
DETECTOR_TEMPERATURE = 18.1666
FOCAL_PLANE_TEMPERATURE = 8.7872
INST_CMPRS_NAME = "DISCRETE COSINE TRANSFORMATION (DCT)"
INST_CMPRS_RATIO = 11.7514
INST_CMPRS_QUALITY = 0
INST_CMPRS_QUANTZ_TBL_ID = 0
INSTRUMENT_TEMPERATURE = 10.8262
LENS_TEMPERATURE = 8.9911
MACROPIXEL_SIZE = 2
MISSING_FRAMES = 0
PIXEL_SUBSAMPLING_FLAG = N
SIGNAL_CHAIN_ID = 1
/* RADIOMETRIC DATA ELEMENTS */
BANDWIDTH = 178.0
CENTER_FILTER_WAVELENGTH = 679.0
RADIANCE_OFFSET = 3.47549
RADIANCE_SCALING_FACTOR = 0.00511102
REFLECTANCE_SCALING_FACTOR = 0.000134914
MEX:REFLECTANCE_OFFSET = 0.0917413
/* IMAGE OBJECT DEFINITIONS */
OBJECT = IMAGE
  INTERCHANGE_FORMAT = BINARY
  LINES = 21228
  LINE_SAMPLES = 3679
  SAMPLE_TYPE = UNSIGNED_INTEGER
  SAMPLE_BITS = 8
  BANDS = 1
  BAND_STORAGE_TYPE = BAND_SEQUENTIAL
  MAXIMUM = 255
  MEAN = 135.125
  MINIMUM = 1
  STANDARD_DEVIATION = 41.6523
END_OBJECT = IMAGE
/* MAP OBJECT DEFINITIONS */
OBJECT = IMAGE_MAP_PROJECTION
  ^DATA_SET_MAP_PROJECTION_CATALOG= "DSMAP.CAT"
  A_AXIS_RADIUS = 3396.0
  B_AXIS_RADIUS = 3396.0
  C_AXIS_RADIUS = 3396.0
  CENTER_LATITUDE = 0.0
  CENTER_LONGITUDE = 92.0
  COORDINATE_SYSTEM_NAME = PLANETOGRAPHIC
  COORDINATE_SYSTEM_TYPE = "BODY-FIXED ROTATING"
  EASTERNMOST_LONGITUDE = 92.4181
  FIRST_STANDARD_PARALLEL = "N/A"
  LINE_FIRST_PIXEL = 1
  LINE_LAST_PIXEL = 21228
  LINE_PROJECTION_OFFSET = 41477.25
  MAP_PROJECTION_ROTATION = 0.0
  MAP_PROJECTION_TYPE = SINUSOIDAL
  MAP_RESOLUTION = 2370.85521546667
  MAP_SCALE = 0.025
  MAXIMUM_LATITUDE = 17.5435
  MINIMUM_LATITUDE = 8.56291
  POSITIVE_LONGITUDE_DIRECTION = EAST
  REFERENCE_LATITUDE = "N/A"
  REFERENCE_LONGITUDE = "N/A"
  SAMPLE_FIRST_PIXEL = 1
  SAMPLE_LAST_PIXEL = 3679
  SAMPLE_PROJECTION_OFFSET = 2738.75
  SECOND_STANDARD_PARALLEL = "N/A"
  WESTERNMOST_LONGITUDE = 90.8308
END_OBJECT = IMAGE_MAP_PROJECTION
END
