PDS_VERSION_ID = PDS3
/* FILE DATA ELEMENTS */
RECORD_TYPE = UNDEFINED
/* POINTERS TO DATA OBJECTS */
^IMAGE = ("HQ165_0000_S14.TIF")
/* IDENTIFICATION DATA ELEMENTS */
DATA_SET_ID = "MEX-M-HRSC-4-REFDR-MAPPROJECT-EXT9-V4.0"
DATA_SET_NAME = "MARS EXPRESS HRSC MAP PROJECTED REFDR EXTENSION9 V4.0"
DETECTOR_ID = MEX_HRSC_S1
EVENT_TYPE = "MARS-REGIONAL-MAPPING-Te-Im-Eo"
INSTRUMENT_HOST_ID = MEX
INSTRUMENT_HOST_NAME = "MARS EXPRESS"
INSTRUMENT_ID = HRSC
INSTRUMENT_NAME = "HIGH RESOLUTION STEREO CAMERA"
MISSION_NAME = "MARS EXPRESS"
MISSION_PHASE_NAME = ME_Phase_50
PROCESSING_LEVEL_ID = 4
PRODUCT_CREATION_TIME = 2025-01-29T00:31:31.000Z
PRODUCT_ID = "HQ165_0000_S14.TIF"
RELEASE_ID = 0019
REVISION_ID = 0000
/* QUALITY DATA ELEMENTS */
DATA_QUALITY_ID = 1
DATA_QUALITY_DESC = "Data calculated based on original SPICE kernels"
/* TIME DATA ELEMENTS */
SPACECRAFT_CLOCK_START_COUNT = "1/0675129206.65108"
SPACECRAFT_CLOCK_STOP_COUNT = "1/0675129425.12680"
START_TIME = 2024-09-22T23:54:18.023Z
STOP_TIME = 2024-09-22T23:56:37.385Z
/* ORBITAL DATA ELEMENTS */
ASCENDING_NODE_LONGITUDE = 89.67
MAXIMUM_RESOLUTION = 0.0333
FOOTPRINT_POINT_LATITUDE = (17.5128,17.5093,17.5054,17.5009,17.496 ,17.4904,17.4819,17.4815,17.4487, 17.1833,16.8288,16.4741,16.0306,15.5865 ,15.3199,14.9644,14.7864,14.6086, 14.2527,13.985,13.8066,13.539,13.2712, 13.0928,12.9141,12.646,12.4674,12.2886, 12.1102,11.842,11.663,11.4841,11.3053, 11.1264,10.9471,10.7681,10.5892,10.4102 ,10.231,9.96233,9.78317,9.60404,9.42528 ,9.24526,9.06586,8.79682,8.6174,8.52769 ,8.50017,8.50536,8.50938,8.51418, 8.51729,8.51997,8.52234,8.52248,8.52303 ,8.70243,8.88176,9.06126,9.24082, 9.42045,9.59972,9.77905,9.9585,10.2277, 10.4071,10.5863,10.7649,10.9447,11.1239 ,11.3926,11.661,11.8402,12.0193,12.2876 ,12.5559,12.7348,12.9137,13.0924, 13.2712,13.4499,13.718,13.8965,14.1645, 14.3423,14.5207,14.7882,14.9662,15.1443 ,15.3223,15.5893,15.7673,16.1228, 16.3894,16.6556,17.0106,17.3653,17.454, 17.5128)
FOOTPRINT_POINT_LONGITUDE = (92.4055,92.1871,91.9676,91.7469, 91.5252,91.3022,90.9933,90.9792,90.9573 ,90.9569,90.9562,90.9553,90.9539, 90.9521,90.9508,90.9491,90.9481,90.9471 ,90.9449,90.9429,90.9415,90.9393,90.937 ,90.9355,90.9338,90.9312,90.9295, 90.9277,90.926,90.9231,90.9211,90.9191, 90.917,90.9149,90.9126,90.9104,90.9081, 90.9059,90.9035,90.8998,90.8973,90.8948 ,90.8924,90.8893,90.8865,90.8823, 90.8794,90.8779,90.8775,91.1343,91.3475 ,91.6438,91.8685,92.0919,92.3142, 92.3281,92.3331,92.3344,92.3357,92.337, 92.3383,92.3396,92.341,92.3423,92.3437, 92.3457,92.3471,92.3484,92.3499,92.3512 ,92.3527,92.3548,92.357,92.3584,92.3599 ,92.3621,92.3643,92.3658,92.3673, 92.3688,92.3703,92.3718,92.3741,92.3757 ,92.378,92.3796,92.3812,92.3835,92.3852 ,92.3868,92.3884,92.3908,92.3924, 92.3957,92.3982,92.4007,92.404,92.4074, 92.4082,92.4055)
ORBIT_NUMBER = 26165
ORBITAL_ECCENTRICITY = 0.572
ORBITAL_INCLINATION = 87.1
ORBITAL_SEMIMAJOR_AXIS = 8843.87
PERIAPSIS_ALTITUDE = 388.92
PERIAPSIS_ARGUMENT_ANGLE = 160.19
PERIAPSIS_TIME = 2024-09-22T23:54:17.000Z
SPACECRAFT_ORIENTATION = (0.0,-1.0,0.0)
^MEX_ORIENTATION_DESC = "MEX_ORIENTATION_DESC.TXT"
SPACECRAFT_POINTING_MODE = ACROSSTRACK
^MEX_POINTING_DESC = "MEX_POINTING_DESC.TXT"
RIGHT_ASCENSION = -1e+32
DECLINATION = -1e+32
OFFSET_ANGLE = -0.458
SPACECRAFT_SOLAR_DISTANCE = 2.23259e+08
TARGET_NAME = MARS
/* CAMERA DATA ELEMENTS */
DETECTOR_TEMPERATURE = 17.351
FOCAL_PLANE_TEMPERATURE = 8.7872
INST_CMPRS_NAME = "DISCRETE COSINE TRANSFORMATION (DCT)"
INST_CMPRS_RATIO = 10.5413
INST_CMPRS_QUALITY = 0
INST_CMPRS_QUANTZ_TBL_ID = 0
INSTRUMENT_TEMPERATURE = 10.8262
LENS_TEMPERATURE = 8.9911
MACROPIXEL_SIZE = 2
MISSING_FRAMES = 0
PIXEL_SUBSAMPLING_FLAG = N
SIGNAL_CHAIN_ID = 1
/* RADIOMETRIC DATA ELEMENTS */
BANDWIDTH = 180.0
CENTER_FILTER_WAVELENGTH = 677.0
RADIANCE_OFFSET = 3.7776
RADIANCE_SCALING_FACTOR = 0.00511959
REFLECTANCE_SCALING_FACTOR = 0.000133136
MEX:REFLECTANCE_OFFSET = 0.0982377
/* IMAGE OBJECT DEFINITIONS */
OBJECT = IMAGE
  INTERCHANGE_FORMAT = BINARY
  LINES = 21228
  LINE_SAMPLES = 3679
  SAMPLE_TYPE = UNSIGNED_INTEGER
  SAMPLE_BITS = 8
  BANDS = 1
  BAND_STORAGE_TYPE = BAND_SEQUENTIAL
  MAXIMUM = 255
  MEAN = 137.529
  MINIMUM = 1
  STANDARD_DEVIATION = 44.0766
END_OBJECT = IMAGE
/* MAP OBJECT DEFINITIONS */
OBJECT = IMAGE_MAP_PROJECTION
  ^DATA_SET_MAP_PROJECTION_CATALOG= "DSMAP.CAT"
  A_AXIS_RADIUS = 3396.0
  B_AXIS_RADIUS = 3396.0
  C_AXIS_RADIUS = 3396.0
  CENTER_LATITUDE = 0.0
  CENTER_LONGITUDE = 92.0
  COORDINATE_SYSTEM_NAME = PLANETOGRAPHIC
  COORDINATE_SYSTEM_TYPE = "BODY-FIXED ROTATING"
  EASTERNMOST_LONGITUDE = 92.40819999999999
  FIRST_STANDARD_PARALLEL = "N/A"
  LINE_FIRST_PIXEL = 1
  LINE_LAST_PIXEL = 21228
  LINE_PROJECTION_OFFSET = 41477.25
  MAP_PROJECTION_ROTATION = 0.0
  MAP_PROJECTION_TYPE = SINUSOIDAL
  MAP_RESOLUTION = 2370.85521546667
  MAP_SCALE = 0.025
  MAXIMUM_LATITUDE = 17.5128
  MINIMUM_LATITUDE = 8.500170000000001
  POSITIVE_LONGITUDE_DIRECTION = EAST
  REFERENCE_LATITUDE = "N/A"
  REFERENCE_LONGITUDE = "N/A"
  SAMPLE_FIRST_PIXEL = 1
  SAMPLE_LAST_PIXEL = 3679
  SAMPLE_PROJECTION_OFFSET = 2738.75
  SECOND_STANDARD_PARALLEL = "N/A"
  WESTERNMOST_LONGITUDE = 90.8775
END_OBJECT = IMAGE_MAP_PROJECTION
END
