PDS_VERSION_ID = PDS3
/* FILE DATA ELEMENTS */
RECORD_TYPE = UNDEFINED
/* POINTERS TO DATA OBJECTS */
^IMAGE = ("HQ164_0009_S24.TIF")
/* IDENTIFICATION DATA ELEMENTS */
DATA_SET_ID = "MEX-M-HRSC-4-REFDR-MAPPROJECT-EXT9-V4.0"
DATA_SET_NAME = "MARS EXPRESS HRSC MAP PROJECTED REFDR EXTENSION9 V4.0"
DETECTOR_ID = MEX_HRSC_S2
EVENT_TYPE = "MARS-LOCAL-STEREO-Vo-Eo-At"
INSTRUMENT_HOST_ID = MEX
INSTRUMENT_HOST_NAME = "MARS EXPRESS"
INSTRUMENT_ID = HRSC
INSTRUMENT_NAME = "HIGH RESOLUTION STEREO CAMERA"
MISSION_NAME = "MARS EXPRESS"
MISSION_PHASE_NAME = ME_Phase_50
PROCESSING_LEVEL_ID = 4
PRODUCT_CREATION_TIME = 2025-01-29T00:31:31.000Z
PRODUCT_ID = "HQ164_0009_S24.TIF"
RELEASE_ID = 0019
REVISION_ID = 0000
/* QUALITY DATA ELEMENTS */
DATA_QUALITY_ID = 1
DATA_QUALITY_DESC = "Data calculated based on original SPICE kernels"
/* TIME DATA ELEMENTS */
SPACECRAFT_CLOCK_START_COUNT = "1/0675104022.65359"
SPACECRAFT_CLOCK_STOP_COUNT = "1/0675104351.41481"
START_TIME = 2024-09-22T16:55:45.299Z
STOP_TIME = 2024-09-22T17:00:00.639Z
/* ORBITAL DATA ELEMENTS */
ASCENDING_NODE_LONGITUDE = 89.69
MAXIMUM_RESOLUTION = 0.0169
FOOTPRINT_POINT_LATITUDE = (19.7088,19.7128,19.716,19.72,19.7201, 19.7613,19.4473,19.1322,18.8185,18.5045 ,18.1919,17.7239,17.4118,17.1001,16.633 ,16.1666,15.856,15.5461,15.2366,14.9276 ,14.6188,14.1562,13.6948,13.3876, 13.0807,12.7746,12.1634,11.5539,10.9465 ,10.6351,10.3244,10.0142,9.70477, 9.39597,9.08768,8.77346,8.45811,8.14327 ,7.82901,7.5155,7.03743,6.71779,6.39823 ,6.07958,5.75679,5.43159,4.94623, 4.62239,4.29181,4.12704,4.11288,4.10099 ,4.09448,4.08684,4.08666,4.08684,4.4168 ,4.90696,5.2311,5.55646,6.04232,6.36117 ,6.68073,7.00089,7.47955,7.79344, 8.26432,8.5803,9.05325,9.36203,9.67142, 9.98088,10.2913,10.6024,11.0661,11.6748 ,12.2848,12.8967,13.2037,13.5109, 13.8185,14.1267,14.4353,14.7442,15.0534 ,15.3629,15.673,15.9837,16.2945,16.6055 ,16.9172,17.2301,17.6977,18.0105, 18.3241,18.7944,19.2657,19.5801,19.7367 ,19.7088)
FOOTPRINT_POINT_LONGITUDE = (195.076,194.531,194.129,193.64,193.626 ,193.606,193.605,193.604,193.602, 193.601,193.599,193.595,193.593,193.591 ,193.587,193.582,193.579,193.576, 193.573,193.569,193.565,193.559,193.553 ,193.549,193.545,193.54,193.531,193.521 ,193.51,193.504,193.499,193.493,193.487 ,193.48,193.474,193.467,193.461,193.454 ,193.447,193.439,193.428,193.42,193.413 ,193.405,193.397,193.388,193.375, 193.366,193.357,193.352,193.352,193.982 ,194.37,194.968,194.984,194.992,194.992 ,194.993,194.994,194.995,194.996, 194.997,194.998,194.999,195.001,195.002 ,195.004,195.005,195.007,195.009, 195.011,195.012,195.014,195.016,195.018 ,195.022,195.026,195.03,195.033,195.035 ,195.037,195.04,195.042,195.045,195.047 ,195.05,195.052,195.055,195.057,195.06, 195.063,195.066,195.07,195.073,195.076, 195.081,195.085,195.088,195.09,195.076)
ORBIT_NUMBER = 26164
ORBITAL_ECCENTRICITY = 0.572
ORBITAL_INCLINATION = 87.1
ORBITAL_SEMIMAJOR_AXIS = 8834.57
PERIAPSIS_ALTITUDE = 389.56
PERIAPSIS_ARGUMENT_ANGLE = 160.37
PERIAPSIS_TIME = 2024-09-22T16:55:10.000Z
SPACECRAFT_ORIENTATION = (0.0,-1.0,0.0)
^MEX_ORIENTATION_DESC = "MEX_ORIENTATION_DESC.TXT"
SPACECRAFT_POINTING_MODE = NADIR
^MEX_POINTING_DESC = "MEX_POINTING_DESC.TXT"
RIGHT_ASCENSION = -1e+32
DECLINATION = -1e+32
OFFSET_ANGLE = -1e+32
SPACECRAFT_SOLAR_DISTANCE = 2.23203e+08
TARGET_NAME = MARS
/* CAMERA DATA ELEMENTS */
DETECTOR_TEMPERATURE = 18.3705
FOCAL_PLANE_TEMPERATURE = 9.195
INST_CMPRS_NAME = "DISCRETE COSINE TRANSFORMATION (DCT)"
INST_CMPRS_RATIO = 7.39862
INST_CMPRS_QUALITY = 0
INST_CMPRS_QUANTZ_TBL_ID = 0
INSTRUMENT_TEMPERATURE = 10.8262
LENS_TEMPERATURE = 9.6028
MACROPIXEL_SIZE = 1
MISSING_FRAMES = 0
PIXEL_SUBSAMPLING_FLAG = N
SIGNAL_CHAIN_ID = 1
/* RADIOMETRIC DATA ELEMENTS */
BANDWIDTH = 178.0
CENTER_FILTER_WAVELENGTH = 679.0
RADIANCE_OFFSET = 3.28908
RADIANCE_SCALING_FACTOR = 0.010818
REFLECTANCE_SCALING_FACTOR = 0.000285414
MEX:REFLECTANCE_OFFSET = 0.0867767
/* IMAGE OBJECT DEFINITIONS */
OBJECT = IMAGE
  INTERCHANGE_FORMAT = BINARY
  LINES = 74388
  LINE_SAMPLES = 7867
  SAMPLE_TYPE = UNSIGNED_INTEGER
  SAMPLE_BITS = 8
  BANDS = 1
  BAND_STORAGE_TYPE = BAND_SEQUENTIAL
  MAXIMUM = 255
  MEAN = 95.5588
  MINIMUM = 1
  STANDARD_DEVIATION = 31.0065
END_OBJECT = IMAGE
/* MAP OBJECT DEFINITIONS */
OBJECT = IMAGE_MAP_PROJECTION
  ^DATA_SET_MAP_PROJECTION_CATALOG= "DSMAP.CAT"
  A_AXIS_RADIUS = 3396.0
  B_AXIS_RADIUS = 3396.0
  C_AXIS_RADIUS = 3396.0
  CENTER_LATITUDE = 0.0
  CENTER_LONGITUDE = 194.0
  COORDINATE_SYSTEM_NAME = PLANETOGRAPHIC
  COORDINATE_SYSTEM_TYPE = "BODY-FIXED ROTATING"
  EASTERNMOST_LONGITUDE = 195.09
  FIRST_STANDARD_PARALLEL = "N/A"
  LINE_FIRST_PIXEL = 1
  LINE_LAST_PIXEL = 74388
  LINE_PROJECTION_OFFSET = 93542.0
  MAP_PROJECTION_ROTATION = 0.0
  MAP_PROJECTION_TYPE = SINUSOIDAL
  MAP_RESOLUTION = 4741.71043093333
  MAP_SCALE = 0.0125
  MAXIMUM_LATITUDE = 19.7613
  MINIMUM_LATITUDE = 4.08666
  POSITIVE_LONGITUDE_DIRECTION = EAST
  REFERENCE_LATITUDE = "N/A"
  REFERENCE_LONGITUDE = "N/A"
  SAMPLE_FIRST_PIXEL = 1
  SAMPLE_LAST_PIXEL = 7867
  SAMPLE_PROJECTION_OFFSET = 2950.0
  SECOND_STANDARD_PARALLEL = "N/A"
  WESTERNMOST_LONGITUDE = 193.352
END_OBJECT = IMAGE_MAP_PROJECTION
END
