PDS_VERSION_ID = PDS3
/* FILE DATA ELEMENTS */
RECORD_TYPE = UNDEFINED
/* POINTERS TO DATA OBJECTS */
^IMAGE = ("HQ158_0000_GR4.TIF")
/* IDENTIFICATION DATA ELEMENTS */
DATA_SET_ID = "MEX-M-HRSC-4-REFDR-MAPPROJECT-EXT9-V4.0"
DATA_SET_NAME = "MARS EXPRESS HRSC MAP PROJECTED REFDR EXTENSION9 V4.0"
DETECTOR_ID = MEX_HRSC_GREEN
EVENT_TYPE = "MARS-REGIONAL-MAPPING-Vo-Im-Eo"
INSTRUMENT_HOST_ID = MEX
INSTRUMENT_HOST_NAME = "MARS EXPRESS"
INSTRUMENT_ID = HRSC
INSTRUMENT_NAME = "HIGH RESOLUTION STEREO CAMERA"
MISSION_NAME = "MARS EXPRESS"
MISSION_PHASE_NAME = ME_Phase_50
PROCESSING_LEVEL_ID = 4
PRODUCT_CREATION_TIME = 2025-01-29T00:31:31.000Z
PRODUCT_ID = "HQ158_0000_GR4.TIF"
RELEASE_ID = 0019
REVISION_ID = 0000
/* QUALITY DATA ELEMENTS */
DATA_QUALITY_ID = 1
DATA_QUALITY_DESC = "Data calculated based on original SPICE kernels"
/* TIME DATA ELEMENTS */
SPACECRAFT_CLOCK_START_COUNT = "1/0674953149.00606"
SPACECRAFT_CLOCK_STOP_COUNT = "1/0674953359.22496"
START_TIME = 2024-09-20T23:00:29.523Z
STOP_TIME = 2024-09-20T23:02:44.141Z
/* ORBITAL DATA ELEMENTS */
ASCENDING_NODE_LONGITUDE = 89.79
MAXIMUM_RESOLUTION = 0.0626
FOOTPRINT_POINT_LATITUDE = (18.6289,18.6327,18.635,18.6365,18.638, 18.6394,18.6395,18.6335,18.4623,18.2055 ,17.9487,17.6919,17.4351,17.2639, 17.0926,16.9213,16.75,16.5788,16.4075, 16.2363,16.065,15.8938,15.7225,15.5512, 15.38,15.2088,15.0376,14.8663,14.6951, 14.5239,14.3527,14.1816,14.0104,13.8393 ,13.6681,13.497,13.2404,13.0693,12.8983 ,12.7273,12.5563,12.2144,11.8726, 11.5309,11.1039,10.7625,10.5066,10.1655 ,10.0802,10.0541,10.0521,10.0488, 10.0464,10.0437,10.0406,10.0365,10.0363 ,10.0372,10.3786,10.6348,10.9764, 11.2327,11.5746,11.831,12.173,12.3441, 12.5152,12.772,12.9431,13.1143,13.3711, 13.5423,13.7135,13.8848,14.0561,14.2274 ,14.3988,14.5701,14.7415,14.9128, 15.1699,15.3413,15.5126,15.6841,15.8555 ,16.0269,16.2839,16.4553,16.6268, 16.7982,17.0553,17.2267,17.3981,17.6551 ,17.8265,17.9979,18.2549,18.5119, 18.5976,18.6289)
FOOTPRINT_POINT_LONGITUDE = (87.9649,87.6084,87.3441,87.1462, 86.8955,86.565,86.5518,86.538,86.5375, 86.5366,86.5357,86.5347,86.5336,86.5328 ,86.5319,86.5309,86.5299,86.5289, 86.5278,86.5267,86.5256,86.5244,86.5231 ,86.5218,86.5205,86.5192,86.5177, 86.5162,86.5146,86.513,86.5115,86.5099, 86.5082,86.5064,86.5045,86.5027,86.4998 ,86.4978,86.4959,86.4939,86.4918, 86.4875,86.483,86.4784,86.4723,86.4673, 86.4634,86.4581,86.4568,86.4564,86.6553 ,86.9483,87.1479,87.361,87.5874,87.867, 87.8803,87.8848,87.8877,87.8898,87.8929 ,87.8951,87.8983,87.9008,87.9041, 87.9058,87.9073,87.9097,87.9115,87.9132 ,87.9159,87.9177,87.9195,87.9213, 87.9231,87.9249,87.9266,87.9285,87.9303 ,87.9321,87.9349,87.9368,87.9387, 87.9406,87.9425,87.9444,87.9475,87.9495 ,87.9514,87.9533,87.9565,87.9585, 87.9605,87.9636,87.9657,87.9678,87.9709 ,87.9741,87.9751,87.9649)
ORBIT_NUMBER = 26158
ORBITAL_ECCENTRICITY = 0.572
ORBITAL_INCLINATION = 87.1
ORBITAL_SEMIMAJOR_AXIS = 8845.02
PERIAPSIS_ALTITUDE = 388.07
PERIAPSIS_ARGUMENT_ANGLE = 161.39
PERIAPSIS_TIME = 2024-09-20T23:00:35.000Z
SPACECRAFT_ORIENTATION = (0.0,-1.0,0.0)
^MEX_ORIENTATION_DESC = "MEX_ORIENTATION_DESC.TXT"
SPACECRAFT_POINTING_MODE = NADIR
^MEX_POINTING_DESC = "MEX_POINTING_DESC.TXT"
RIGHT_ASCENSION = -1e+32
DECLINATION = -1e+32
OFFSET_ANGLE = -1e+32
SPACECRAFT_SOLAR_DISTANCE = 2.22865e+08
TARGET_NAME = MARS
/* CAMERA DATA ELEMENTS */
DETECTOR_TEMPERATURE = 17.5549
FOCAL_PLANE_TEMPERATURE = 8.7872
INST_CMPRS_NAME = "DISCRETE COSINE TRANSFORMATION (DCT)"
INST_CMPRS_RATIO = 14.3972
INST_CMPRS_QUALITY = 0
INST_CMPRS_QUANTZ_TBL_ID = 0
INSTRUMENT_TEMPERATURE = 11.0301
LENS_TEMPERATURE = 9.195
MACROPIXEL_SIZE = 4
MISSING_FRAMES = 0
PIXEL_SUBSAMPLING_FLAG = N
SIGNAL_CHAIN_ID = 2
/* RADIOMETRIC DATA ELEMENTS */
BANDWIDTH = 88.0
CENTER_FILTER_WAVELENGTH = 538.0
RADIANCE_OFFSET = 1.12502
RADIANCE_SCALING_FACTOR = 0.00151552
REFLECTANCE_SCALING_FACTOR = 6.48086e-05
MEX:REFLECTANCE_OFFSET = 0.0481096
/* IMAGE OBJECT DEFINITIONS */
OBJECT = IMAGE
  INTERCHANGE_FORMAT = BINARY
  LINES = 10200
  LINE_SAMPLES = 1791
  SAMPLE_TYPE = UNSIGNED_INTEGER
  SAMPLE_BITS = 8
  BANDS = 1
  BAND_STORAGE_TYPE = BAND_SEQUENTIAL
  MAXIMUM = 255
  MEAN = 120.177
  MINIMUM = 1
  STANDARD_DEVIATION = 41.9635
END_OBJECT = IMAGE
/* MAP OBJECT DEFINITIONS */
OBJECT = IMAGE_MAP_PROJECTION
  ^DATA_SET_MAP_PROJECTION_CATALOG= "DSMAP.CAT"
  A_AXIS_RADIUS = 3396.0
  B_AXIS_RADIUS = 3396.0
  C_AXIS_RADIUS = 3396.0
  CENTER_LATITUDE = 0.0
  CENTER_LONGITUDE = 87.0
  COORDINATE_SYSTEM_NAME = PLANETOGRAPHIC
  COORDINATE_SYSTEM_TYPE = "BODY-FIXED ROTATING"
  EASTERNMOST_LONGITUDE = 87.9751
  FIRST_STANDARD_PARALLEL = "N/A"
  LINE_FIRST_PIXEL = 1
  LINE_LAST_PIXEL = 10200
  LINE_PROJECTION_OFFSET = 22092.625
  MAP_PROJECTION_ROTATION = 0.0
  MAP_PROJECTION_TYPE = SINUSOIDAL
  MAP_RESOLUTION = 1185.42760773333
  MAP_SCALE = 0.05
  MAXIMUM_LATITUDE = 18.6395
  MINIMUM_LATITUDE = 10.0363
  POSITIVE_LONGITUDE_DIRECTION = EAST
  REFERENCE_LATITUDE = "N/A"
  REFERENCE_LONGITUDE = "N/A"
  SAMPLE_FIRST_PIXEL = 1
  SAMPLE_LAST_PIXEL = 1791
  SAMPLE_PROJECTION_OFFSET = 669.875
  SECOND_STANDARD_PARALLEL = "N/A"
  WESTERNMOST_LONGITUDE = 86.4564
END_OBJECT = IMAGE_MAP_PROJECTION
END
