PDS_VERSION_ID = PDS3
/* FILE DATA ELEMENTS */
RECORD_TYPE = UNDEFINED
/* POINTERS TO DATA OBJECTS */
^IMAGE = ("HQ158_0000_BL4.TIF")
/* IDENTIFICATION DATA ELEMENTS */
DATA_SET_ID = "MEX-M-HRSC-4-REFDR-MAPPROJECT-EXT9-V4.0"
DATA_SET_NAME = "MARS EXPRESS HRSC MAP PROJECTED REFDR EXTENSION9 V4.0"
DETECTOR_ID = MEX_HRSC_BLUE
EVENT_TYPE = "MARS-REGIONAL-MAPPING-Vo-Im-Eo"
INSTRUMENT_HOST_ID = MEX
INSTRUMENT_HOST_NAME = "MARS EXPRESS"
INSTRUMENT_ID = HRSC
INSTRUMENT_NAME = "HIGH RESOLUTION STEREO CAMERA"
MISSION_NAME = "MARS EXPRESS"
MISSION_PHASE_NAME = ME_Phase_50
PROCESSING_LEVEL_ID = 4
PRODUCT_CREATION_TIME = 2025-01-29T00:31:31.000Z
PRODUCT_ID = "HQ158_0000_BL4.TIF"
RELEASE_ID = 0019
REVISION_ID = 0000
/* QUALITY DATA ELEMENTS */
DATA_QUALITY_ID = 1
DATA_QUALITY_DESC = "Data calculated based on original SPICE kernels"
/* TIME DATA ELEMENTS */
SPACECRAFT_CLOCK_START_COUNT = "1/0674953149.00606"
SPACECRAFT_CLOCK_STOP_COUNT = "1/0674953359.22496"
START_TIME = 2024-09-20T23:00:41.269Z
STOP_TIME = 2024-09-20T23:02:56.518Z
/* ORBITAL DATA ELEMENTS */
ASCENDING_NODE_LONGITUDE = 89.79
MAXIMUM_RESOLUTION = 0.0627
FOOTPRINT_POINT_LATITUDE = (18.6409,18.6428,18.6449,18.647,18.6485 ,18.6502,18.6511,18.6511,18.6565, 18.4853,18.3141,18.1429,17.8861,17.715, 17.5438,17.3727,17.2016,17.0306,16.8597 ,16.6887,16.4322,16.2613,16.0904,15.834 ,15.6632,15.4925,15.3217,15.1509, 14.9803,14.8097,14.6391,14.4685,14.298, 14.1275,13.9571,13.7868,13.5313,13.3611 ,13.1909,13.0208,12.6805,12.3406,12.001 ,11.6615,11.3223,10.9833,10.56,10.2216, 10.1371,10.0714,10.0691,10.0666,10.0642 ,10.0616,10.0581,10.054,10.0538,10.0547 ,10.4779,10.8167,11.1558,11.4952,11.835 ,12.0899,12.3449,12.6856,13.0255, 13.1958,13.3662,13.5366,13.7071,13.8776 ,14.0481,14.2187,14.3893,14.56,14.7307, 14.9014,15.0722,15.243,15.4139,15.5849, 15.7558,15.9268,16.0978,16.2689,16.5255 ,16.6966,16.8677,17.0389,17.2102, 17.3814,17.5526,17.7239,17.8952,18.0665 ,18.3235,18.4949,18.5806,18.6409)
FOOTPRINT_POINT_LONGITUDE = (87.9656,87.7808,87.5432,87.2791,87.068 ,86.7644,86.5662,86.553,86.5393,86.5387 ,86.538,86.5373,86.5363,86.5355,86.5347 ,86.5338,86.5329,86.5318,86.5307, 86.5296,86.5279,86.5267,86.5255,86.5235 ,86.5222,86.5207,86.5193,86.5179, 86.5163,86.5147,86.513,86.5113,86.5097, 86.508,86.5061,86.5042,86.5013,86.4993, 86.4972,86.4952,86.491,86.4866,86.482, 86.4773,86.4723,86.4672,86.4606,86.4552 ,86.4538,86.4528,86.6664,86.881,87.0819 ,87.2963,87.5645,87.8727,87.8862, 87.8906,87.894,87.8966,87.8995,87.9023, 87.9054,87.9078,87.9101,87.914,87.9162, 87.9178,87.9196,87.9212,87.9229,87.9246 ,87.9263,87.9279,87.9296,87.9313,87.933 ,87.9347,87.9364,87.9383,87.9401, 87.9419,87.9437,87.9455,87.9473,87.9492 ,87.9521,87.9539,87.9558,87.9578, 87.9597,87.9617,87.9636,87.9656,87.9675 ,87.9695,87.9725,87.9745,87.9755, 87.9656)
ORBIT_NUMBER = 26158
ORBITAL_ECCENTRICITY = 0.572
ORBITAL_INCLINATION = 87.1
ORBITAL_SEMIMAJOR_AXIS = 8845.02
PERIAPSIS_ALTITUDE = 388.07
PERIAPSIS_ARGUMENT_ANGLE = 161.39
PERIAPSIS_TIME = 2024-09-20T23:00:35.000Z
SPACECRAFT_ORIENTATION = (0.0,-1.0,0.0)
^MEX_ORIENTATION_DESC = "MEX_ORIENTATION_DESC.TXT"
SPACECRAFT_POINTING_MODE = NADIR
^MEX_POINTING_DESC = "MEX_POINTING_DESC.TXT"
RIGHT_ASCENSION = -1e+32
DECLINATION = -1e+32
OFFSET_ANGLE = -1e+32
SPACECRAFT_SOLAR_DISTANCE = 2.22865e+08
TARGET_NAME = MARS
/* CAMERA DATA ELEMENTS */
DETECTOR_TEMPERATURE = 17.5549
FOCAL_PLANE_TEMPERATURE = 8.7872
INST_CMPRS_NAME = "DISCRETE COSINE TRANSFORMATION (DCT)"
INST_CMPRS_RATIO = 4.04572
INST_CMPRS_QUALITY = 0
INST_CMPRS_QUANTZ_TBL_ID = 0
INSTRUMENT_TEMPERATURE = 11.0301
LENS_TEMPERATURE = 9.195
MACROPIXEL_SIZE = 4
MISSING_FRAMES = 0
PIXEL_SUBSAMPLING_FLAG = N
SIGNAL_CHAIN_ID = 2
/* RADIOMETRIC DATA ELEMENTS */
BANDWIDTH = 76.0
CENTER_FILTER_WAVELENGTH = 444.0
RADIANCE_OFFSET = 0.443797
RADIANCE_SCALING_FACTOR = 0.000785482
REFLECTANCE_SCALING_FACTOR = 4.00844e-05
MEX:REFLECTANCE_OFFSET = 0.0226477
/* IMAGE OBJECT DEFINITIONS */
OBJECT = IMAGE
  INTERCHANGE_FORMAT = BINARY
  LINES = 10200
  LINE_SAMPLES = 1791
  SAMPLE_TYPE = UNSIGNED_INTEGER
  SAMPLE_BITS = 8
  BANDS = 1
  BAND_STORAGE_TYPE = BAND_SEQUENTIAL
  MAXIMUM = 253
  MEAN = 125.549
  MINIMUM = 5
  STANDARD_DEVIATION = 30.6832
END_OBJECT = IMAGE
/* MAP OBJECT DEFINITIONS */
OBJECT = IMAGE_MAP_PROJECTION
  ^DATA_SET_MAP_PROJECTION_CATALOG= "DSMAP.CAT"
  A_AXIS_RADIUS = 3396.0
  B_AXIS_RADIUS = 3396.0
  C_AXIS_RADIUS = 3396.0
  CENTER_LATITUDE = 0.0
  CENTER_LONGITUDE = 87.0
  COORDINATE_SYSTEM_NAME = PLANETOGRAPHIC
  COORDINATE_SYSTEM_TYPE = "BODY-FIXED ROTATING"
  EASTERNMOST_LONGITUDE = 87.9755
  FIRST_STANDARD_PARALLEL = "N/A"
  LINE_FIRST_PIXEL = 1
  LINE_LAST_PIXEL = 10200
  LINE_PROJECTION_OFFSET = 22092.625
  MAP_PROJECTION_ROTATION = 0.0
  MAP_PROJECTION_TYPE = SINUSOIDAL
  MAP_RESOLUTION = 1185.42760773333
  MAP_SCALE = 0.05
  MAXIMUM_LATITUDE = 18.6565
  MINIMUM_LATITUDE = 10.0538
  POSITIVE_LONGITUDE_DIRECTION = EAST
  REFERENCE_LATITUDE = "N/A"
  REFERENCE_LONGITUDE = "N/A"
  SAMPLE_FIRST_PIXEL = 1
  SAMPLE_LAST_PIXEL = 1791
  SAMPLE_PROJECTION_OFFSET = 669.875
  SECOND_STANDARD_PARALLEL = "N/A"
  WESTERNMOST_LONGITUDE = 86.4528
END_OBJECT = IMAGE_MAP_PROJECTION
END
