PDS_VERSION_ID = PDS3
/* FILE DATA ELEMENTS */
RECORD_TYPE = UNDEFINED
/* POINTERS TO DATA OBJECTS */
^IMAGE = ("HQ156_0000_S14.TIF")
/* IDENTIFICATION DATA ELEMENTS */
DATA_SET_ID = "MEX-M-HRSC-4-REFDR-MAPPROJECT-EXT9-V4.0"
DATA_SET_NAME = "MARS EXPRESS HRSC MAP PROJECTED REFDR EXTENSION9 V4.0"
DETECTOR_ID = MEX_HRSC_S1
EVENT_TYPE = "MARS-LOCAL-STEREO-Vo-Te-Fl"
INSTRUMENT_HOST_ID = MEX
INSTRUMENT_HOST_NAME = "MARS EXPRESS"
INSTRUMENT_ID = HRSC
INSTRUMENT_NAME = "HIGH RESOLUTION STEREO CAMERA"
MISSION_NAME = "MARS EXPRESS"
MISSION_PHASE_NAME = ME_Phase_50
PROCESSING_LEVEL_ID = 4
PRODUCT_CREATION_TIME = 2025-01-29T00:31:31.000Z
PRODUCT_ID = "HQ156_0000_S14.TIF"
RELEASE_ID = 0019
REVISION_ID = 0000
/* QUALITY DATA ELEMENTS */
DATA_QUALITY_ID = 1
DATA_QUALITY_DESC = "Data calculated based on original SPICE kernels"
/* TIME DATA ELEMENTS */
SPACECRAFT_CLOCK_START_COUNT = "1/0674903033.00348"
SPACECRAFT_CLOCK_STOP_COUNT = "1/0674903314.08163"
START_TIME = 2024-09-20T09:04:43.984Z
STOP_TIME = 2024-09-20T09:07:44.096Z
/* ORBITAL DATA ELEMENTS */
ASCENDING_NODE_LONGITUDE = 89.82
MAXIMUM_RESOLUTION = 0.0345
FOOTPRINT_POINT_LATITUDE = (7.38424,7.36619,7.34748,7.32796, 7.30761,7.28637,7.25563,7.25419,7.25703 ,6.71185,6.27493,5.8386,5.2921,4.96417, 4.62956,4.40556,4.18163,3.95733,3.62359 ,3.401,3.06711,2.84428,2.6169,2.27459, 1.93114,1.58728,1.24385,0.897035, 0.663121,0.428404,0.193345,-0.0415742, -0.276842,-0.511833,-0.870533,-1.11126, -1.35205,-1.71332,-1.95404,-2.19781, -2.44311,-2.68887,-2.9343,-3.2034, -3.59311,-3.97998,-4.23621,-4.36155, -4.36755,-4.34638,-4.32666,-4.28274, -4.23739,-4.21399,-4.1991,-4.19813, -4.19719,-3.94646,-3.69539,-3.44401, -3.1945,-2.94848,-2.59189,-2.21015, -1.96349,-1.72245,-1.3614,-1.12073, -0.879867,-0.639426,-0.400798,-0.165864 ,0.0689122,0.420946,0.655886,0.891392, 1.12642,1.35664,1.58573,1.8143,2.04364, 2.27281,2.50216,2.7313,2.95966,3.29463, 3.51807,3.74131,3.96507,4.4129,4.64012, 4.86307,5.08569,5.52301,5.85121,6.39814 ,6.83532,7.27221,7.38111,7.38424)
FOOTPRINT_POINT_LONGITUDE = (290.421,290.196,289.966,289.732, 289.494,289.251,288.908,288.892,288.891 ,288.885,288.878,288.872,288.863, 288.857,288.851,288.847,288.843,288.839 ,288.835,288.832,288.827,288.824,288.82 ,288.815,288.809,288.801,288.794, 288.786,288.781,288.776,288.77,288.764, 288.757,288.751,288.741,288.734,288.727 ,288.716,288.709,288.701,288.694, 288.686,288.679,288.648,288.619,288.597 ,288.583,288.579,288.579,288.868, 289.185,289.544,289.781,290.11,290.351, 290.367,290.372,290.373,290.374,290.375 ,290.376,290.378,290.375,290.381, 290.382,290.383,290.385,290.386,290.387 ,290.388,290.389,290.39,290.391,290.393 ,290.394,290.395,290.396,290.397, 290.398,290.398,290.399,290.4,290.401, 290.402,290.402,290.403,290.404,290.405 ,290.406,290.407,290.41,290.41,290.411, 290.413,290.415,290.417,290.419,290.421 ,290.422,290.421)
ORBIT_NUMBER = 26156
ORBITAL_ECCENTRICITY = 0.572
ORBITAL_INCLINATION = 87.09
ORBITAL_SEMIMAJOR_AXIS = 8842.98
PERIAPSIS_ALTITUDE = 388.35
PERIAPSIS_ARGUMENT_ANGLE = 161.77
PERIAPSIS_TIME = 2024-09-20T09:02:30.000Z
SPACECRAFT_ORIENTATION = (0.0,-1.0,0.0)
^MEX_ORIENTATION_DESC = "MEX_ORIENTATION_DESC.TXT"
SPACECRAFT_POINTING_MODE = ACROSSTRACK
^MEX_POINTING_DESC = "MEX_POINTING_DESC.TXT"
RIGHT_ASCENSION = -1e+32
DECLINATION = -1e+32
OFFSET_ANGLE = -1.7
SPACECRAFT_SOLAR_DISTANCE = 2.22752e+08
TARGET_NAME = MARS
/* CAMERA DATA ELEMENTS */
DETECTOR_TEMPERATURE = 17.1471
FOCAL_PLANE_TEMPERATURE = 8.5833
INST_CMPRS_NAME = "DISCRETE COSINE TRANSFORMATION (DCT)"
INST_CMPRS_RATIO = 13.4949
INST_CMPRS_QUALITY = 0
INST_CMPRS_QUANTZ_TBL_ID = 0
INSTRUMENT_TEMPERATURE = 11.0301
LENS_TEMPERATURE = 8.7872
MACROPIXEL_SIZE = 2
MISSING_FRAMES = 0
PIXEL_SUBSAMPLING_FLAG = N
SIGNAL_CHAIN_ID = 1
/* RADIOMETRIC DATA ELEMENTS */
BANDWIDTH = 180.0
CENTER_FILTER_WAVELENGTH = 677.0
RADIANCE_OFFSET = 3.52525
RADIANCE_SCALING_FACTOR = 0.0208289
REFLECTANCE_SCALING_FACTOR = 0.000539205
MEX:REFLECTANCE_OFFSET = 0.0912593
/* IMAGE OBJECT DEFINITIONS */
OBJECT = IMAGE
  INTERCHANGE_FORMAT = BINARY
  LINES = 27555
  LINE_SAMPLES = 4492
  SAMPLE_TYPE = UNSIGNED_INTEGER
  SAMPLE_BITS = 8
  BANDS = 1
  BAND_STORAGE_TYPE = BAND_SEQUENTIAL
  MAXIMUM = 255
  MEAN = 80.9818
  MINIMUM = 1
  STANDARD_DEVIATION = 23.3492
END_OBJECT = IMAGE
/* MAP OBJECT DEFINITIONS */
OBJECT = IMAGE_MAP_PROJECTION
  ^DATA_SET_MAP_PROJECTION_CATALOG= "DSMAP.CAT"
  A_AXIS_RADIUS = 3396.0
  B_AXIS_RADIUS = 3396.0
  C_AXIS_RADIUS = 3396.0
  CENTER_LATITUDE = 0.0
  CENTER_LONGITUDE = 290.0
  COORDINATE_SYSTEM_NAME = PLANETOGRAPHIC
  COORDINATE_SYSTEM_TYPE = "BODY-FIXED ROTATING"
  EASTERNMOST_LONGITUDE = 290.422
  FIRST_STANDARD_PARALLEL = "N/A"
  LINE_FIRST_PIXEL = 1
  LINE_LAST_PIXEL = 27555
  LINE_PROJECTION_OFFSET = 17401.75
  MAP_PROJECTION_ROTATION = 0.0
  MAP_PROJECTION_TYPE = SINUSOIDAL
  MAP_RESOLUTION = 2370.85521546667
  MAP_SCALE = 0.025
  MAXIMUM_LATITUDE = 7.38424
  MINIMUM_LATITUDE = -4.36755
  POSITIVE_LONGITUDE_DIRECTION = EAST
  REFERENCE_LATITUDE = "N/A"
  REFERENCE_LONGITUDE = "N/A"
  SAMPLE_FIRST_PIXEL = 1
  SAMPLE_LAST_PIXEL = 4492
  SAMPLE_PROJECTION_OFFSET = 3449.25
  SECOND_STANDARD_PARALLEL = "N/A"
  WESTERNMOST_LONGITUDE = 288.579
END_OBJECT = IMAGE_MAP_PROJECTION
END
