PDS_VERSION_ID = PDS3
/* FILE DATA ELEMENTS */
RECORD_TYPE = UNDEFINED
/* POINTERS TO DATA OBJECTS */
^IMAGE = ("HQ156_0000_BL4.TIF")
/* IDENTIFICATION DATA ELEMENTS */
DATA_SET_ID = "MEX-M-HRSC-4-REFDR-MAPPROJECT-EXT9-V4.0"
DATA_SET_NAME = "MARS EXPRESS HRSC MAP PROJECTED REFDR EXTENSION9 V4.0"
DETECTOR_ID = MEX_HRSC_BLUE
EVENT_TYPE = "MARS-LOCAL-STEREO-Vo-Te-Fl"
INSTRUMENT_HOST_ID = MEX
INSTRUMENT_HOST_NAME = "MARS EXPRESS"
INSTRUMENT_ID = HRSC
INSTRUMENT_NAME = "HIGH RESOLUTION STEREO CAMERA"
MISSION_NAME = "MARS EXPRESS"
MISSION_PHASE_NAME = ME_Phase_50
PROCESSING_LEVEL_ID = 4
PRODUCT_CREATION_TIME = 2025-01-29T00:31:31.000Z
PRODUCT_ID = "HQ156_0000_BL4.TIF"
RELEASE_ID = 0019
REVISION_ID = 0000
/* QUALITY DATA ELEMENTS */
DATA_QUALITY_ID = 1
DATA_QUALITY_DESC = "Data calculated based on original SPICE kernels"
/* TIME DATA ELEMENTS */
SPACECRAFT_CLOCK_START_COUNT = "1/0674903033.00348"
SPACECRAFT_CLOCK_STOP_COUNT = "1/0674903314.08163"
START_TIME = 2024-09-20T09:05:28.829Z
STOP_TIME = 2024-09-20T09:08:38.510Z
/* ORBITAL DATA ELEMENTS */
ASCENDING_NODE_LONGITUDE = 89.82
MAXIMUM_RESOLUTION = 0.1338
FOOTPRINT_POINT_LATITUDE = (7.31796,7.33017,7.33632,7.34254, 7.34879,7.35861,7.359,7.3564,6.70811, 6.27675,5.84583,5.40502,4.9646,4.52471, 4.0854,3.86051,3.52318,3.29865,3.07418, 2.85004,2.62608,2.28403,2.05522,1.82666 ,1.59837,1.37026,1.14233,0.90938, 0.676514,0.443984,0.211768,-0.0202055, -0.255252,-0.492052,-0.728618,-0.964793 ,-1.20076,-1.55972,-1.80025,-2.04048, -2.2804,-2.52295,-2.76771,-3.01217, -3.24956,-3.49345,-3.73992,-3.98697, -4.11087,-4.22016,-4.2308,-4.24278, -4.26012,-4.27814,-4.29281,-4.29334, -4.2913,-4.04261,-3.79363,-3.42113, -3.17658,-2.93203,-2.68655,-2.44182, -2.20154,-1.96098,-1.72013,-1.47887, -1.12189,-0.885324,-0.648437,-0.411277, -0.0572972,0.175167,0.407978,0.640906, 0.874032,1.10713,1.33529,1.67811, 1.90704,2.1362,2.36546,2.59281,2.81708, 3.04161,3.26631,3.49115,3.71628,4.05378 ,4.60408,4.93439,5.15499,5.37578, 5.81698,6.24846,6.68061,7.11337,7.22164 ,7.31796)
FOOTPRINT_POINT_LONGITUDE = (290.446,290.002,289.774,289.542, 289.305,288.927,288.911,288.907,288.898 ,288.891,288.884,288.876,288.867, 288.858,288.85,288.846,288.841,288.837, 288.833,288.829,288.825,288.819,288.815 ,288.81,288.804,288.799,288.794,288.788 ,288.782,288.776,288.77,288.764,288.757 ,288.75,288.743,288.736,288.728,288.717 ,288.709,288.7,288.692,288.685,288.677, 288.668,288.632,288.618,288.6,288.585, 288.58,288.575,288.862,289.215,289.576, 289.96,290.401,290.417,290.428,290.428, 290.428,290.428,290.428,290.429,290.428 ,290.429,290.43,290.43,290.431,290.431, 290.432,290.432,290.432,290.433,290.433 ,290.433,290.434,290.434,290.435, 290.435,290.435,290.436,290.436,290.436 ,290.437,290.437,290.437,290.437, 290.437,290.438,290.438,290.439,290.439 ,290.441,290.441,290.442,290.443, 290.444,290.445,290.446,290.447, 290.446)
ORBIT_NUMBER = 26156
ORBITAL_ECCENTRICITY = 0.572
ORBITAL_INCLINATION = 87.09
ORBITAL_SEMIMAJOR_AXIS = 8842.98
PERIAPSIS_ALTITUDE = 388.35
PERIAPSIS_ARGUMENT_ANGLE = 161.77
PERIAPSIS_TIME = 2024-09-20T09:02:30.000Z
SPACECRAFT_ORIENTATION = (0.0,-1.0,0.0)
^MEX_ORIENTATION_DESC = "MEX_ORIENTATION_DESC.TXT"
SPACECRAFT_POINTING_MODE = ACROSSTRACK
^MEX_POINTING_DESC = "MEX_POINTING_DESC.TXT"
RIGHT_ASCENSION = -1e+32
DECLINATION = -1e+32
OFFSET_ANGLE = -1.7
SPACECRAFT_SOLAR_DISTANCE = 2.22752e+08
TARGET_NAME = MARS
/* CAMERA DATA ELEMENTS */
DETECTOR_TEMPERATURE = 17.9627
FOCAL_PLANE_TEMPERATURE = 8.5833
INST_CMPRS_NAME = "DISCRETE COSINE TRANSFORMATION (DCT)"
INST_CMPRS_RATIO = 24.1855
INST_CMPRS_QUALITY = 0
INST_CMPRS_QUANTZ_TBL_ID = 0
INSTRUMENT_TEMPERATURE = 11.0301
LENS_TEMPERATURE = 8.7872
MACROPIXEL_SIZE = 8
MISSING_FRAMES = 0
PIXEL_SUBSAMPLING_FLAG = N
SIGNAL_CHAIN_ID = 2
/* RADIOMETRIC DATA ELEMENTS */
BANDWIDTH = 76.0
CENTER_FILTER_WAVELENGTH = 444.0
RADIANCE_OFFSET = 0.446567
RADIANCE_SCALING_FACTOR = 0.00218905
REFLECTANCE_SCALING_FACTOR = 0.000111599
MEX:REFLECTANCE_OFFSET = 0.0227661
/* IMAGE OBJECT DEFINITIONS */
OBJECT = IMAGE
  INTERCHANGE_FORMAT = BINARY
  LINES = 6889
  LINE_SAMPLES = 1123
  SAMPLE_TYPE = UNSIGNED_INTEGER
  SAMPLE_BITS = 8
  BANDS = 1
  BAND_STORAGE_TYPE = BAND_SEQUENTIAL
  MAXIMUM = 255
  MEAN = 106.089
  MINIMUM = 1
  STANDARD_DEVIATION = 24.3822
END_OBJECT = IMAGE
/* MAP OBJECT DEFINITIONS */
OBJECT = IMAGE_MAP_PROJECTION
  ^DATA_SET_MAP_PROJECTION_CATALOG= "DSMAP.CAT"
  A_AXIS_RADIUS = 3396.0
  B_AXIS_RADIUS = 3396.0
  C_AXIS_RADIUS = 3396.0
  CENTER_LATITUDE = 0.0
  CENTER_LONGITUDE = 290.0
  COORDINATE_SYSTEM_NAME = PLANETOGRAPHIC
  COORDINATE_SYSTEM_TYPE = "BODY-FIXED ROTATING"
  EASTERNMOST_LONGITUDE = 290.447
  FIRST_STANDARD_PARALLEL = "N/A"
  LINE_FIRST_PIXEL = 1
  LINE_LAST_PIXEL = 6889
  LINE_PROJECTION_OFFSET = 4350.0625
  MAP_PROJECTION_ROTATION = 0.0
  MAP_PROJECTION_TYPE = SINUSOIDAL
  MAP_RESOLUTION = 592.713803866667
  MAP_SCALE = 0.1
  MAXIMUM_LATITUDE = 7.359
  MINIMUM_LATITUDE = -4.29334
  POSITIVE_LONGITUDE_DIRECTION = EAST
  REFERENCE_LATITUDE = "N/A"
  REFERENCE_LONGITUDE = "N/A"
  SAMPLE_FIRST_PIXEL = 1
  SAMPLE_LAST_PIXEL = 1123
  SAMPLE_PROJECTION_OFFSET = 861.9375
  SECOND_STANDARD_PARALLEL = "N/A"
  WESTERNMOST_LONGITUDE = 288.575
END_OBJECT = IMAGE_MAP_PROJECTION
END
