PDS_VERSION_ID = PDS3
/* FILE DATA ELEMENTS */
RECORD_TYPE = UNDEFINED
/* POINTERS TO DATA OBJECTS */
^IMAGE = ("HQ154_0009_P24.TIF")
/* IDENTIFICATION DATA ELEMENTS */
DATA_SET_ID = "MEX-M-HRSC-4-REFDR-MAPPROJECT-EXT9-V4.0"
DATA_SET_NAME = "MARS EXPRESS HRSC MAP PROJECTED REFDR EXTENSION9 V4.0"
DETECTOR_ID = MEX_HRSC_P2
EVENT_TYPE = "MARS-REGIONAL-MAPPING-Vo"
INSTRUMENT_HOST_ID = MEX
INSTRUMENT_HOST_NAME = "MARS EXPRESS"
INSTRUMENT_ID = HRSC
INSTRUMENT_NAME = "HIGH RESOLUTION STEREO CAMERA"
MISSION_NAME = "MARS EXPRESS"
MISSION_PHASE_NAME = ME_Phase_50
PROCESSING_LEVEL_ID = 4
PRODUCT_CREATION_TIME = 2025-01-29T00:31:31.000Z
PRODUCT_ID = "HQ154_0009_P24.TIF"
RELEASE_ID = 0019
REVISION_ID = 0000
/* QUALITY DATA ELEMENTS */
DATA_QUALITY_ID = 1
DATA_QUALITY_DESC = "Data calculated based on original SPICE kernels"
/* TIME DATA ELEMENTS */
SPACECRAFT_CLOCK_START_COUNT = "1/0674852526.65088"
SPACECRAFT_CLOCK_STOP_COUNT = "1/0674852816.48058"
START_TIME = 2024-09-19T19:03:59.320Z
STOP_TIME = 2024-09-19T19:07:31.421Z
/* ORBITAL DATA ELEMENTS */
ASCENDING_NODE_LONGITUDE = 89.86
MAXIMUM_RESOLUTION = 0.0326
FOOTPRINT_POINT_LATITUDE = (20.4616,20.4875,20.514,20.5463,20.5472 ,20.5745,20.3062,20.0385,19.6367,19.369 ,19.1015,18.8342,18.4333,18.1664, 17.8996,17.4992,17.2327,16.8332,16.5668 ,16.1671,15.9016,15.6364,15.3708, 14.9727,14.708,14.311,14.0467,13.6503, 13.3864,12.9907,12.7272,12.464,12.2011, 11.9384,11.6759,11.0202,10.6189,10.3504 ,10.0823,9.81441,9.41333,9.01274, 8.74603,8.4798,8.20687,7.93415,7.66189, 7.3899,7.25408,7.25102,7.2164,7.17553, 7.1438,7.14283,7.14299,7.41523,7.68771, 7.96052,8.37045,8.77061,9.03762,9.43903 ,9.70704,9.9753,10.2439,10.5127,10.9147 ,11.1768,11.4392,11.702,11.9651,12.2286 ,12.4919,12.7554,13.1514,13.4153, 13.8124,14.0773,14.3425,14.607,15.0057, 15.2709,15.5365,15.935,16.2012,16.6011, 16.8677,17.1347,17.5353,17.8024,18.0698 ,18.3369,18.7384,19.1402,19.4081,19.81, 20.0784,20.3471,20.4813,20.4616)
FOOTPRINT_POINT_LONGITUDE = (134.88,134.418,133.938,133.344,133.328 ,133.279,133.283,133.286,133.291, 133.294,133.297,133.3,133.303,133.305, 133.307,133.31,133.311,133.313,133.315, 133.317,133.318,133.318,133.318,133.319 ,133.319,133.318,133.318,133.317, 133.316,133.315,133.314,133.313,133.311 ,133.31,133.308,133.304,133.3,133.298, 133.296,133.293,133.289,133.284,133.281 ,133.277,133.273,133.27,133.265,133.261 ,133.259,133.259,133.755,134.355,134.83 ,134.844,134.849,134.85,134.85,134.851, 134.852,134.853,134.853,134.854,134.854 ,134.855,134.855,134.855,134.856, 134.857,134.857,134.858,134.858,134.858 ,134.859,134.859,134.86,134.86,134.861, 134.861,134.861,134.862,134.862,134.863 ,134.863,134.864,134.864,134.864, 134.865,134.865,134.865,134.865,134.865 ,134.866,134.866,134.866,134.866, 134.866,134.866,134.865,134.865,134.88)
ORBIT_NUMBER = 26154
ORBITAL_ECCENTRICITY = 0.572
ORBITAL_INCLINATION = 87.09
ORBITAL_SEMIMAJOR_AXIS = 8841.89
PERIAPSIS_ALTITUDE = 388.43
PERIAPSIS_ARGUMENT_ANGLE = 162.11
PERIAPSIS_TIME = 2024-09-19T19:04:16.000Z
SPACECRAFT_ORIENTATION = (0.0,-1.0,0.0)
^MEX_ORIENTATION_DESC = "MEX_ORIENTATION_DESC.TXT"
SPACECRAFT_POINTING_MODE = ACROSSTRACK
^MEX_POINTING_DESC = "MEX_POINTING_DESC.TXT"
RIGHT_ASCENSION = -1e+32
DECLINATION = -1e+32
OFFSET_ANGLE = -1.603
SPACECRAFT_SOLAR_DISTANCE = 2.2264e+08
TARGET_NAME = MARS
/* CAMERA DATA ELEMENTS */
DETECTOR_TEMPERATURE = 18.9822
FOCAL_PLANE_TEMPERATURE = 9.3989
INST_CMPRS_NAME = "DISCRETE COSINE TRANSFORMATION (DCT)"
INST_CMPRS_RATIO = 9.08214
INST_CMPRS_QUALITY = 0
INST_CMPRS_QUANTZ_TBL_ID = 0
INSTRUMENT_TEMPERATURE = 11.6418
LENS_TEMPERATURE = 9.3989
MACROPIXEL_SIZE = 2
MISSING_FRAMES = 0
PIXEL_SUBSAMPLING_FLAG = N
SIGNAL_CHAIN_ID = 3
/* RADIOMETRIC DATA ELEMENTS */
BANDWIDTH = 177.0
CENTER_FILTER_WAVELENGTH = 676.5
RADIANCE_OFFSET = 3.11877
RADIANCE_SCALING_FACTOR = 0.00711365
REFLECTANCE_SCALING_FACTOR = 0.000186963
MEX:REFLECTANCE_OFFSET = 0.0819686
/* IMAGE OBJECT DEFINITIONS */
OBJECT = IMAGE
  INTERCHANGE_FORMAT = BINARY
  LINES = 31641
  LINE_SAMPLES = 3857
  SAMPLE_TYPE = UNSIGNED_INTEGER
  SAMPLE_BITS = 8
  BANDS = 1
  BAND_STORAGE_TYPE = BAND_SEQUENTIAL
  MAXIMUM = 255
  MEAN = 107.898
  MINIMUM = 1
  STANDARD_DEVIATION = 32.7665
END_OBJECT = IMAGE
/* MAP OBJECT DEFINITIONS */
OBJECT = IMAGE_MAP_PROJECTION
  ^DATA_SET_MAP_PROJECTION_CATALOG= "DSMAP.CAT"
  A_AXIS_RADIUS = 3396.0
  B_AXIS_RADIUS = 3396.0
  C_AXIS_RADIUS = 3396.0
  CENTER_LATITUDE = 0.0
  CENTER_LONGITUDE = 134.0
  COORDINATE_SYSTEM_NAME = PLANETOGRAPHIC
  COORDINATE_SYSTEM_TYPE = "BODY-FIXED ROTATING"
  EASTERNMOST_LONGITUDE = 134.88
  FIRST_STANDARD_PARALLEL = "N/A"
  LINE_FIRST_PIXEL = 1
  LINE_LAST_PIXEL = 31641
  LINE_PROJECTION_OFFSET = 48636.25
  MAP_PROJECTION_ROTATION = 0.0
  MAP_PROJECTION_TYPE = SINUSOIDAL
  MAP_RESOLUTION = 2370.85521546667
  MAP_SCALE = 0.025
  MAXIMUM_LATITUDE = 20.5745
  MINIMUM_LATITUDE = 7.14283
  POSITIVE_LONGITUDE_DIRECTION = EAST
  REFERENCE_LATITUDE = "N/A"
  REFERENCE_LONGITUDE = "N/A"
  SAMPLE_FIRST_PIXEL = 1
  SAMPLE_LAST_PIXEL = 3857
  SAMPLE_PROJECTION_OFFSET = 1854.75
  SECOND_STANDARD_PARALLEL = "N/A"
  WESTERNMOST_LONGITUDE = 133.259
END_OBJECT = IMAGE_MAP_PROJECTION
END
