PDS_VERSION_ID = PDS3
/* FILE DATA ELEMENTS */
RECORD_TYPE = UNDEFINED
/* POINTERS TO DATA OBJECTS */
^IMAGE = ("HQ147_0000_S14.TIF")
/* IDENTIFICATION DATA ELEMENTS */
DATA_SET_ID = "MEX-M-HRSC-4-REFDR-MAPPROJECT-EXT9-V4.0"
DATA_SET_NAME = "MARS EXPRESS HRSC MAP PROJECTED REFDR EXTENSION9 V4.0"
DETECTOR_ID = MEX_HRSC_S1
EVENT_TYPE = "MARS-REGIONAL-MAPPING-Vo"
INSTRUMENT_HOST_ID = MEX
INSTRUMENT_HOST_NAME = "MARS EXPRESS"
INSTRUMENT_ID = HRSC
INSTRUMENT_NAME = "HIGH RESOLUTION STEREO CAMERA"
MISSION_NAME = "MARS EXPRESS"
MISSION_PHASE_NAME = ME_Phase_50
PROCESSING_LEVEL_ID = 4
PRODUCT_CREATION_TIME = 2025-01-29T00:31:31.000Z
PRODUCT_ID = "HQ147_0000_S14.TIF"
RELEASE_ID = 0019
REVISION_ID = 0000
/* QUALITY DATA ELEMENTS */
DATA_QUALITY_ID = 1
DATA_QUALITY_DESC = "Data calculated based on original SPICE kernels"
/* TIME DATA ELEMENTS */
SPACECRAFT_CLOCK_START_COUNT = "1/0674676525.65302"
SPACECRAFT_CLOCK_STOP_COUNT = "1/0674676818.47077"
START_TIME = 2024-09-17T18:09:36.922Z
STOP_TIME = 2024-09-17T18:13:07.296Z
/* ORBITAL DATA ELEMENTS */
ASCENDING_NODE_LONGITUDE = 89.98
MAXIMUM_RESOLUTION = 0.0338
FOOTPRINT_POINT_LATITUDE = (18.3998,18.4756,18.5335,18.5866, 18.5882,18.5521,18.0245,17.4955,17.0981 ,16.5677,16.3024,16.0369,15.7708, 15.2401,14.9739,14.7073,14.4406,14.1741 ,13.9069,13.6394,13.3719,13.1044, 12.7031,12.4353,12.1672,11.8989,11.4965 ,11.2296,10.9607,10.6927,10.4258, 10.1551,9.88566,9.61591,9.21148,8.94216 ,8.67278,8.40312,8.134,7.86397,7.59427, 7.32101,7.05558,6.78322,6.50615,6.22857 ,5.95132,5.53476,5.25655,5.11804, 5.08766,5.02645,4.96846,4.90042,4.89836 ,4.89814,5.17582,5.59149,6.14604, 6.42326,6.69993,6.97006,7.23961,7.50953 ,7.9142,8.18382,8.45342,8.72317,8.99267 ,9.26187,9.53077,9.80017,10.0685, 10.3374,10.6061,10.8745,11.1432,11.4122 ,11.8138,12.0818,12.4839,12.7517, 13.0191,13.2869,13.5542,13.9545,14.2215 ,14.6216,14.8883,15.1546,15.554,15.8197 ,16.0855,16.3511,16.6162,16.8813, 17.4099,18.2023,18.3344,18.3998)
FOOTPRINT_POINT_LONGITUDE = (133.738,133.127,132.637,132.167, 132.153,132.168,132.161,132.154,132.149 ,132.141,132.137,132.133,132.129,132.12 ,132.116,132.112,132.108,132.103, 132.099,132.094,132.09,132.085,132.078, 132.073,132.069,132.064,132.057,132.051 ,132.046,132.04,132.034,132.03,132.025, 132.02,132.013,132.007,132.002,131.996, 131.991,131.985,131.98,131.976,131.968, 131.962,131.956,131.951,131.945,131.936 ,131.93,131.927,131.926,132.463,132.935 ,133.477,133.493,133.499,133.502, 133.508,133.516,133.52,133.524,133.528, 133.532,133.536,133.542,133.547,133.551 ,133.556,133.56,133.565,133.57,133.575, 133.58,133.586,133.591,133.596,133.602, 133.606,133.616,133.622,133.63,133.636, 133.642,133.648,133.654,133.664,133.67, 133.68,133.686,133.692,133.702,133.709, 133.716,133.723,133.73,133.737,133.753, 133.775,133.779,133.738)
ORBIT_NUMBER = 26147
ORBITAL_ECCENTRICITY = 0.572
ORBITAL_INCLINATION = 87.09
ORBITAL_SEMIMAJOR_AXIS = 8843.44
PERIAPSIS_ALTITUDE = 387.54
PERIAPSIS_ARGUMENT_ANGLE = 163.3
PERIAPSIS_TIME = 2024-09-17T18:10:42.000Z
SPACECRAFT_ORIENTATION = (0.0,-1.0,0.0)
^MEX_ORIENTATION_DESC = "MEX_ORIENTATION_DESC.TXT"
SPACECRAFT_POINTING_MODE = ACROSSTRACK
^MEX_POINTING_DESC = "MEX_POINTING_DESC.TXT"
RIGHT_ASCENSION = -1e+32
DECLINATION = -1e+32
OFFSET_ANGLE = 1.913
SPACECRAFT_SOLAR_DISTANCE = 2.22248e+08
TARGET_NAME = MARS
/* CAMERA DATA ELEMENTS */
DETECTOR_TEMPERATURE = 17.5549
FOCAL_PLANE_TEMPERATURE = 8.5833
INST_CMPRS_NAME = "DISCRETE COSINE TRANSFORMATION (DCT)"
INST_CMPRS_RATIO = 9.93483
INST_CMPRS_QUALITY = 0
INST_CMPRS_QUANTZ_TBL_ID = 0
INSTRUMENT_TEMPERATURE = 11.234
LENS_TEMPERATURE = 8.7872
MACROPIXEL_SIZE = 2
MISSING_FRAMES = 0
PIXEL_SUBSAMPLING_FLAG = N
SIGNAL_CHAIN_ID = 1
/* RADIOMETRIC DATA ELEMENTS */
BANDWIDTH = 180.0
CENTER_FILTER_WAVELENGTH = 677.0
RADIANCE_OFFSET = 2.65048
RADIANCE_SCALING_FACTOR = 0.00625763
REFLECTANCE_SCALING_FACTOR = 0.000161259
MEX:REFLECTANCE_OFFSET = 0.068303
/* IMAGE OBJECT DEFINITIONS */
OBJECT = IMAGE
  INTERCHANGE_FORMAT = BINARY
  LINES = 32004
  LINE_SAMPLES = 4519
  SAMPLE_TYPE = UNSIGNED_INTEGER
  SAMPLE_BITS = 8
  BANDS = 1
  BAND_STORAGE_TYPE = BAND_SEQUENTIAL
  MAXIMUM = 255
  MEAN = 84.3487
  MINIMUM = 1
  STANDARD_DEVIATION = 32.952
END_OBJECT = IMAGE
/* MAP OBJECT DEFINITIONS */
OBJECT = IMAGE_MAP_PROJECTION
  ^DATA_SET_MAP_PROJECTION_CATALOG= "DSMAP.CAT"
  A_AXIS_RADIUS = 3396.0
  B_AXIS_RADIUS = 3396.0
  C_AXIS_RADIUS = 3396.0
  CENTER_LATITUDE = 0.0
  CENTER_LONGITUDE = 133.0
  COORDINATE_SYSTEM_NAME = PLANETOGRAPHIC
  COORDINATE_SYSTEM_TYPE = "BODY-FIXED ROTATING"
  EASTERNMOST_LONGITUDE = 133.779
  FIRST_STANDARD_PARALLEL = "N/A"
  LINE_FIRST_PIXEL = 1
  LINE_LAST_PIXEL = 32004
  LINE_PROJECTION_OFFSET = 43874.25
  MAP_PROJECTION_ROTATION = 0.0
  MAP_PROJECTION_TYPE = SINUSOIDAL
  MAP_RESOLUTION = 2370.85521546667
  MAP_SCALE = 0.025
  MAXIMUM_LATITUDE = 18.5882
  MINIMUM_LATITUDE = 4.89814
  POSITIVE_LONGITUDE_DIRECTION = EAST
  REFERENCE_LATITUDE = "N/A"
  REFERENCE_LONGITUDE = "N/A"
  SAMPLE_FIRST_PIXEL = 1
  SAMPLE_LAST_PIXEL = 4519
  SAMPLE_PROJECTION_OFFSET = 2624.75
  SECOND_STANDARD_PARALLEL = "N/A"
  WESTERNMOST_LONGITUDE = 131.926
END_OBJECT = IMAGE_MAP_PROJECTION
END
