PDS_VERSION_ID = PDS3
/* FILE DATA ELEMENTS */
RECORD_TYPE = UNDEFINED
/* POINTERS TO DATA OBJECTS */
^IMAGE = ("HQ145_0000_BL4.TIF")
/* IDENTIFICATION DATA ELEMENTS */
DATA_SET_ID = "MEX-M-HRSC-4-REFDR-MAPPROJECT-EXT9-V4.0"
DATA_SET_NAME = "MARS EXPRESS HRSC MAP PROJECTED REFDR EXTENSION9 V4.0"
DETECTOR_ID = MEX_HRSC_BLUE
EVENT_TYPE = "MARS-LOCAL-COLOR-Eb-La-Tc"
INSTRUMENT_HOST_ID = MEX
INSTRUMENT_HOST_NAME = "MARS EXPRESS"
INSTRUMENT_ID = HRSC
INSTRUMENT_NAME = "HIGH RESOLUTION STEREO CAMERA"
MISSION_NAME = "MARS EXPRESS"
MISSION_PHASE_NAME = ME_Phase_50
PROCESSING_LEVEL_ID = 4
PRODUCT_CREATION_TIME = 2025-01-29T00:31:31.000Z
PRODUCT_ID = "HQ145_0000_BL4.TIF"
RELEASE_ID = 0019
REVISION_ID = 0000
/* QUALITY DATA ELEMENTS */
DATA_QUALITY_ID = 1
DATA_QUALITY_DESC = "Data calculated based on original SPICE kernels"
/* TIME DATA ELEMENTS */
SPACECRAFT_CLOCK_START_COUNT = "1/0674626226.65121"
SPACECRAFT_CLOCK_STOP_COUNT = "1/0674626378.37614"
START_TIME = 2024-09-17T04:11:59.603Z
STOP_TIME = 2024-09-17T04:13:17.640Z
/* ORBITAL DATA ELEMENTS */
ASCENDING_NODE_LONGITUDE = 90.02
MAXIMUM_RESOLUTION = 0.0626
FOOTPRINT_POINT_LATITUDE = (18.7076,18.7088,18.7097,18.7108, 18.7116,18.7123,18.713,18.7136,18.7142, 18.7147,18.7152,18.7159,18.7162,18.7163 ,18.7219,18.5737,18.3762,18.2774, 18.1787,18.0305,17.9317,17.8329,17.7341 ,17.6353,17.5365,17.4377,17.339,17.1908 ,16.9934,16.8452,16.7464,16.6477, 16.4997,16.3514,16.2032,16.1044,15.907, 15.7588,15.5615,15.4135,15.167,15.0188, 14.8216,14.6244,14.4765,14.2301,13.9837 ,13.8359,13.7866,13.7444,13.743,13.7421 ,13.7413,13.7403,13.7386,13.7372, 13.7353,13.7323,13.7321,13.7331,13.9302 ,14.1768,14.3248,14.4235,14.5715, 14.7196,14.917,15.0158,15.2623,15.4595, 15.6081,15.7072,15.8059,16.0028,16.1016 ,16.2004,16.2992,16.398,16.4968,16.5957 ,16.744,16.8429,16.9417,17.0899,17.1888 ,17.337,17.4359,17.5349,17.6337,17.7326 ,17.8809,17.9797,18.0785,18.1774, 18.2762,18.375,18.4738,18.622,18.6715, 18.7076)
FOOTPRINT_POINT_LONGITUDE = (336.152,336.018,335.912,335.779, 335.672,335.566,335.46,335.354,335.248, 335.143,335.037,334.853,334.747,334.734 ,334.724,334.723,334.723,334.722, 334.722,334.721,334.721,334.72,334.72, 334.72,334.719,334.719,334.718,334.717, 334.716,334.715,334.715,334.714,334.713 ,334.712,334.711,334.711,334.709, 334.708,334.707,334.706,334.704,334.702 ,334.701,334.699,334.698,334.695, 334.693,334.691,334.691,334.69,334.911, 335.041,335.146,335.25,335.434,335.578, 335.802,336.079,336.092,336.096,336.099 ,336.102,336.104,336.105,336.108,336.11 ,336.112,336.114,336.116,336.118, 336.122,336.124,336.125,336.126,336.128 ,336.129,336.131,336.132,336.134, 336.135,336.137,336.139,336.14,336.142, 336.144,336.146,336.148,336.149,336.151 ,336.152,336.155,336.156,336.157, 336.159,336.16,336.162,336.163,336.165, 336.166,336.152)
ORBIT_NUMBER = 26145
ORBITAL_ECCENTRICITY = 0.572
ORBITAL_INCLINATION = 87.1
ORBITAL_SEMIMAJOR_AXIS = 8837.63
PERIAPSIS_ALTITUDE = 387.55
PERIAPSIS_ARGUMENT_ANGLE = 163.63
PERIAPSIS_TIME = 2024-09-17T04:12:30.000Z
SPACECRAFT_ORIENTATION = (0.0,-1.0,0.0)
^MEX_ORIENTATION_DESC = "MEX_ORIENTATION_DESC.TXT"
SPACECRAFT_POINTING_MODE = ACROSSTRACK
^MEX_POINTING_DESC = "MEX_POINTING_DESC.TXT"
RIGHT_ASCENSION = -1e+32
DECLINATION = -1e+32
OFFSET_ANGLE = 0.229
SPACECRAFT_SOLAR_DISTANCE = 2.22136e+08
TARGET_NAME = MARS
/* CAMERA DATA ELEMENTS */
DETECTOR_TEMPERATURE = 17.7588
FOCAL_PLANE_TEMPERATURE = 8.7872
INST_CMPRS_NAME = "DISCRETE COSINE TRANSFORMATION (DCT)"
INST_CMPRS_RATIO = 4.09086
INST_CMPRS_QUALITY = 0
INST_CMPRS_QUANTZ_TBL_ID = 0
INSTRUMENT_TEMPERATURE = 10.8262
LENS_TEMPERATURE = 9.195
MACROPIXEL_SIZE = 4
MISSING_FRAMES = 0
PIXEL_SUBSAMPLING_FLAG = N
SIGNAL_CHAIN_ID = 2
/* RADIOMETRIC DATA ELEMENTS */
BANDWIDTH = 76.0
CENTER_FILTER_WAVELENGTH = 444.0
RADIANCE_OFFSET = 0.361322
RADIANCE_SCALING_FACTOR = 0.000800884
REFLECTANCE_SCALING_FACTOR = 4.06034e-05
MEX:REFLECTANCE_OFFSET = 0.0183184
/* IMAGE OBJECT DEFINITIONS */
OBJECT = IMAGE
  INTERCHANGE_FORMAT = BINARY
  LINES = 5918
  LINE_SAMPLES = 1731
  SAMPLE_TYPE = UNSIGNED_INTEGER
  SAMPLE_BITS = 8
  BANDS = 1
  BAND_STORAGE_TYPE = BAND_SEQUENTIAL
  MAXIMUM = 251
  MEAN = 126.038
  MINIMUM = 4
  STANDARD_DEVIATION = 34.7291
END_OBJECT = IMAGE
/* MAP OBJECT DEFINITIONS */
OBJECT = IMAGE_MAP_PROJECTION
  ^DATA_SET_MAP_PROJECTION_CATALOG= "DSMAP.CAT"
  A_AXIS_RADIUS = 3396.0
  B_AXIS_RADIUS = 3396.0
  C_AXIS_RADIUS = 3396.0
  CENTER_LATITUDE = 0.0
  CENTER_LONGITUDE = 335.0
  COORDINATE_SYSTEM_NAME = PLANETOGRAPHIC
  COORDINATE_SYSTEM_TYPE = "BODY-FIXED ROTATING"
  EASTERNMOST_LONGITUDE = 336.166
  FIRST_STANDARD_PARALLEL = "N/A"
  LINE_FIRST_PIXEL = 1
  LINE_LAST_PIXEL = 5918
  LINE_PROJECTION_OFFSET = 22184.875
  MAP_PROJECTION_ROTATION = 0.0
  MAP_PROJECTION_TYPE = SINUSOIDAL
  MAP_RESOLUTION = 1185.42760773333
  MAP_SCALE = 0.05
  MAXIMUM_LATITUDE = 18.7219
  MINIMUM_LATITUDE = 13.7321
  POSITIVE_LONGITUDE_DIRECTION = EAST
  REFERENCE_LATITUDE = "N/A"
  REFERENCE_LONGITUDE = "N/A"
  SAMPLE_FIRST_PIXEL = 1
  SAMPLE_LAST_PIXEL = 1731
  SAMPLE_PROJECTION_OFFSET = 383.875
  SECOND_STANDARD_PARALLEL = "N/A"
  WESTERNMOST_LONGITUDE = 334.69
END_OBJECT = IMAGE_MAP_PROJECTION
END
