PDS_VERSION_ID = PDS3
/* FILE DATA ELEMENTS */
RECORD_TYPE = UNDEFINED
/* POINTERS TO DATA OBJECTS */
^IMAGE = ("HQ143_0000_IR4.TIF")
/* IDENTIFICATION DATA ELEMENTS */
DATA_SET_ID = "MEX-M-HRSC-4-REFDR-MAPPROJECT-EXT9-V4.0"
DATA_SET_NAME = "MARS EXPRESS HRSC MAP PROJECTED REFDR EXTENSION9 V4.0"
DETECTOR_ID = MEX_HRSC_IR
EVENT_TYPE = "MARS-REGIONAL-MAPPING-Vo"
INSTRUMENT_HOST_ID = MEX
INSTRUMENT_HOST_NAME = "MARS EXPRESS"
INSTRUMENT_ID = HRSC
INSTRUMENT_NAME = "HIGH RESOLUTION STEREO CAMERA"
MISSION_NAME = "MARS EXPRESS"
MISSION_PHASE_NAME = ME_Phase_50
PROCESSING_LEVEL_ID = 4
PRODUCT_CREATION_TIME = 2025-01-29T00:31:31.000Z
PRODUCT_ID = "HQ143_0000_IR4.TIF"
RELEASE_ID = 0019
REVISION_ID = 0000
/* QUALITY DATA ELEMENTS */
DATA_QUALITY_ID = 1
DATA_QUALITY_DESC = "Data calculated based on original SPICE kernels"
/* TIME DATA ELEMENTS */
SPACECRAFT_CLOCK_START_COUNT = "1/0674576070.65135"
SPACECRAFT_CLOCK_STOP_COUNT = "1/0674576273.49697"
START_TIME = 2024-09-16T14:15:27.718Z
STOP_TIME = 2024-09-16T14:17:29.504Z
/* ORBITAL DATA ELEMENTS */
ASCENDING_NODE_LONGITUDE = 90.05
MAXIMUM_RESOLUTION = 0.0659
FOOTPRINT_POINT_LATITUDE = (10.2046,10.2125,10.2181,10.2234, 10.2283,10.2329,10.2384,10.2387,10.2133 ,9.82407,9.51187,9.19957,8.96524, 8.65279,8.34033,8.18402,8.02771,7.87133 ,7.71498,7.55861,7.40224,7.16763, 7.01123,6.85478,6.62009,6.46363,6.30717 ,6.07246,5.91598,5.75948,5.60299, 5.44651,5.21176,5.05526,4.82052,4.664, 4.42924,4.27274,4.11624,3.95974,3.80323 ,3.64674,3.41202,3.17736,3.02091, 2.86451,2.70817,2.4725,2.39212,2.38172, 2.37661,2.37037,2.36517,2.35898,2.3543, 2.34859,2.34273,2.34231,2.34321,2.50296 ,2.65947,2.816,3.05088,3.20763,3.36406, 3.52055,3.67724,3.83368,4.06887,4.38192 ,4.6167,4.7733,4.93001,5.16475,5.32135, 5.478,5.63644,5.79306,6.10427,6.26084, 6.41741,6.57507,6.8093,7.1219,7.27838, 7.43493,7.59174,7.82615,7.98253,8.21727 ,8.37375,8.68629,8.84262,9.1551,9.31132 ,9.46801,9.78007,10.0923,10.1704, 10.2046)
FOOTPRINT_POINT_LONGITUDE = (180.348,180.074,179.867,179.66,179.454 ,179.248,178.979,178.966,178.957, 178.952,178.948,178.943,178.94,178.935, 178.93,178.928,178.925,178.923,178.92, 178.918,178.915,178.911,178.908,178.906 ,178.901,178.899,178.896,178.892, 178.889,178.886,178.883,178.88,178.875, 178.872,178.868,178.864,178.86,178.857, 178.853,178.85,178.847,178.843,178.838, 178.833,178.83,178.827,178.823,178.818, 178.816,178.816,179.032,179.291,179.495 ,179.715,179.879,180.072,180.265, 180.279,180.284,180.285,180.286,180.287 ,180.289,180.29,180.291,180.292,180.293 ,180.295,180.297,180.299,180.301, 180.303,180.304,180.306,180.307,180.309 ,180.309,180.311,180.315,180.316, 180.318,180.319,180.322,180.325,180.327 ,180.328,180.33,180.332,180.334,180.337 ,180.338,180.342,180.344,180.347, 180.349,180.351,180.355,180.359,180.36, 180.348)
ORBIT_NUMBER = 26143
ORBITAL_ECCENTRICITY = 0.572
ORBITAL_INCLINATION = 87.1
ORBITAL_SEMIMAJOR_AXIS = 8836.71
PERIAPSIS_ALTITUDE = 387.4
PERIAPSIS_ARGUMENT_ANGLE = 163.98
PERIAPSIS_TIME = 2024-09-16T14:14:26.000Z
SPACECRAFT_ORIENTATION = (0.0,-1.0,0.0)
^MEX_ORIENTATION_DESC = "MEX_ORIENTATION_DESC.TXT"
SPACECRAFT_POINTING_MODE = ACROSSTRACK
^MEX_POINTING_DESC = "MEX_POINTING_DESC.TXT"
RIGHT_ASCENSION = -1e+32
DECLINATION = -1e+32
OFFSET_ANGLE = 0.269
SPACECRAFT_SOLAR_DISTANCE = 2.22024e+08
TARGET_NAME = MARS
/* CAMERA DATA ELEMENTS */
DETECTOR_TEMPERATURE = 16.7393
FOCAL_PLANE_TEMPERATURE = 10.2145
INST_CMPRS_NAME = "DISCRETE COSINE TRANSFORMATION (DCT)"
INST_CMPRS_RATIO = 7.40312
INST_CMPRS_QUALITY = 0
INST_CMPRS_QUANTZ_TBL_ID = 0
INSTRUMENT_TEMPERATURE = 10.6223
LENS_TEMPERATURE = 8.9911
MACROPIXEL_SIZE = 4
MISSING_FRAMES = 0
PIXEL_SUBSAMPLING_FLAG = N
SIGNAL_CHAIN_ID = 2
/* RADIOMETRIC DATA ELEMENTS */
BANDWIDTH = 81.0
CENTER_FILTER_WAVELENGTH = 955.5
RADIANCE_OFFSET = 0.68837
RADIANCE_SCALING_FACTOR = 0.00210898
REFLECTANCE_SCALING_FACTOR = 0.000224285
MEX:REFLECTANCE_OFFSET = 0.0732066
/* IMAGE OBJECT DEFINITIONS */
OBJECT = IMAGE
  INTERCHANGE_FORMAT = BINARY
  LINES = 9300
  LINE_SAMPLES = 1902
  SAMPLE_TYPE = UNSIGNED_INTEGER
  SAMPLE_BITS = 8
  BANDS = 1
  BAND_STORAGE_TYPE = BAND_SEQUENTIAL
  MAXIMUM = 255
  MEAN = 112.625
  MINIMUM = 1
  STANDARD_DEVIATION = 26.9055
END_OBJECT = IMAGE
/* MAP OBJECT DEFINITIONS */
OBJECT = IMAGE_MAP_PROJECTION
  ^DATA_SET_MAP_PROJECTION_CATALOG= "DSMAP.CAT"
  A_AXIS_RADIUS = 3396.0
  B_AXIS_RADIUS = 3396.0
  C_AXIS_RADIUS = 3396.0
  CENTER_LATITUDE = 0.0
  CENTER_LONGITUDE = 180.0
  COORDINATE_SYSTEM_NAME = PLANETOGRAPHIC
  COORDINATE_SYSTEM_TYPE = "BODY-FIXED ROTATING"
  EASTERNMOST_LONGITUDE = 180.36
  FIRST_STANDARD_PARALLEL = "N/A"
  LINE_FIRST_PIXEL = 1
  LINE_LAST_PIXEL = 9300
  LINE_PROJECTION_OFFSET = 12124.875
  MAP_PROJECTION_ROTATION = 0.0
  MAP_PROJECTION_TYPE = SINUSOIDAL
  MAP_RESOLUTION = 1185.42760773333
  MAP_SCALE = 0.05
  MAXIMUM_LATITUDE = 10.2387
  MINIMUM_LATITUDE = 2.34231
  POSITIVE_LONGITUDE_DIRECTION = EAST
  REFERENCE_LATITUDE = "N/A"
  REFERENCE_LONGITUDE = "N/A"
  SAMPLE_FIRST_PIXEL = 1
  SAMPLE_LAST_PIXEL = 1902
  SAMPLE_PROJECTION_OFFSET = 1443.625
  SECOND_STANDARD_PARALLEL = "N/A"
  WESTERNMOST_LONGITUDE = 178.816
END_OBJECT = IMAGE_MAP_PROJECTION
END
