PDS_VERSION_ID = PDS3
/* FILE DATA ELEMENTS */
RECORD_TYPE = UNDEFINED
/* POINTERS TO DATA OBJECTS */
^IMAGE = ("HQ142_0000_P24.TIF")
/* IDENTIFICATION DATA ELEMENTS */
DATA_SET_ID = "MEX-M-HRSC-4-REFDR-MAPPROJECT-EXT9-V4.0"
DATA_SET_NAME = "MARS EXPRESS HRSC MAP PROJECTED REFDR EXTENSION9 V4.0"
DETECTOR_ID = MEX_HRSC_P2
EVENT_TYPE = "MARS-REGIONAL-STEREO-Vo-Te-La"
INSTRUMENT_HOST_ID = MEX
INSTRUMENT_HOST_NAME = "MARS EXPRESS"
INSTRUMENT_ID = HRSC
INSTRUMENT_NAME = "HIGH RESOLUTION STEREO CAMERA"
MISSION_NAME = "MARS EXPRESS"
MISSION_PHASE_NAME = ME_Phase_50
PROCESSING_LEVEL_ID = 4
PRODUCT_CREATION_TIME = 2025-01-29T00:31:31.000Z
PRODUCT_ID = "HQ142_0000_P24.TIF"
RELEASE_ID = 0019
REVISION_ID = 0000
/* QUALITY DATA ELEMENTS */
DATA_QUALITY_ID = 1
DATA_QUALITY_DESC = "Data calculated based on original SPICE kernels"
/* TIME DATA ELEMENTS */
SPACECRAFT_CLOCK_START_COUNT = "1/0674551035.64183"
SPACECRAFT_CLOCK_STOP_COUNT = "1/0674551400.06996"
START_TIME = 2024-09-16T07:19:11.120Z
STOP_TIME = 2024-09-16T07:23:46.260Z
/* ORBITAL DATA ELEMENTS */
ASCENDING_NODE_LONGITUDE = 90.07
MAXIMUM_RESOLUTION = 0.1414
FOOTPRINT_POINT_LATITUDE = (3.15703,3.14486,3.13653,3.12909, 3.12887,3.1229,2.51795,2.20897,1.90246, 1.5951,1.12846,0.81378,0.500917, 0.188061,-0.123322,-0.439842,-0.911605, -1.22857,-1.7108,-2.033,-2.35483, -2.67855,-3.00692,-3.33509,-3.66043, -3.98535,-4.30984,-4.63315,-4.9554, -5.27779,-5.59897,-5.9112,-6.23892, -6.5577,-6.87491,-7.1858,-7.64221, -7.9488,-8.26065,-8.88235,-9.21484, -9.52425,-9.84431,-10.3139,-10.6225, -10.9303,-11.2367,-11.9996,-12.6048, -12.7553,-12.7961,-12.7849,-12.7757, -12.7651,-12.7646,-12.7623,-12.158, -11.7029,-11.3981,-11.0928,-10.6324, -10.1637,-9.83895,-9.53065,-9.20934, -8.89727,-8.42909,-8.11593,-7.51633, -7.20314,-6.88499,-6.55239,-6.23649, -5.76332,-5.43609,-4.95089,-4.62846, -4.32319,-3.9999,-3.67505,-3.34921, -3.02286,-2.69541,-2.36839,-1.87157, -1.54516,-1.23982,-0.918374,-0.431068, 0.0216369,0.331423,0.800588,1.11334, 1.42313,1.72937,2.19099,2.49861,2.95622 ,3.10645,3.15703)
FOOTPRINT_POINT_LONGITUDE = (283.12,282.522,282.066,281.618,281.604 ,281.597,281.581,281.573,281.565, 281.557,281.544,281.535,281.527,281.518 ,281.509,281.5,281.487,281.478,281.464, 281.454,281.444,281.434,281.424,281.414 ,281.404,281.393,281.383,281.372, 281.362,281.351,281.34,281.33,281.318, 281.307,281.296,281.285,281.268,281.257 ,281.246,281.222,281.21,281.198,281.186 ,281.168,281.156,281.143,281.131,281.1, 281.074,281.068,281.066,282.067,282.568 ,283.155,283.176,283.189,283.178, 283.171,283.166,283.161,283.154,283.154 ,283.164,283.158,283.164,283.161, 283.155,283.152,283.118,283.113,283.112 ,283.123,283.118,283.109,283.114, 283.114,283.112,283.094,283.092,283.091 ,283.091,283.09,283.09,283.09,283.105, 283.109,283.093,283.099,283.112,283.091 ,283.091,283.094,283.096,283.097, 283.099,283.103,283.106,283.109,283.11, 283.12)
ORBIT_NUMBER = 26142
ORBITAL_ECCENTRICITY = 0.573
ORBITAL_INCLINATION = 87.09
ORBITAL_SEMIMAJOR_AXIS = 8848.41
PERIAPSIS_ALTITUDE = 386.75
PERIAPSIS_ARGUMENT_ANGLE = 164.17
PERIAPSIS_TIME = 2024-09-16T07:15:24.000Z
SPACECRAFT_ORIENTATION = (0.0,-1.0,0.0)
^MEX_ORIENTATION_DESC = "MEX_ORIENTATION_DESC.TXT"
SPACECRAFT_POINTING_MODE = ACROSSTRACK
^MEX_POINTING_DESC = "MEX_POINTING_DESC.TXT"
RIGHT_ASCENSION = -1e+32
DECLINATION = -1e+32
OFFSET_ANGLE = 0.916
SPACECRAFT_SOLAR_DISTANCE = 2.21968e+08
TARGET_NAME = MARS
/* CAMERA DATA ELEMENTS */
DETECTOR_TEMPERATURE = 18.3705
FOCAL_PLANE_TEMPERATURE = 8.7872
INST_CMPRS_NAME = "DISCRETE COSINE TRANSFORMATION (DCT)"
INST_CMPRS_RATIO = 6.33852
INST_CMPRS_QUALITY = 0
INST_CMPRS_QUANTZ_TBL_ID = 0
INSTRUMENT_TEMPERATURE = 10.2145
LENS_TEMPERATURE = 9.6028
MACROPIXEL_SIZE = 8
MISSING_FRAMES = 0
PIXEL_SUBSAMPLING_FLAG = N
SIGNAL_CHAIN_ID = 3
/* RADIOMETRIC DATA ELEMENTS */
BANDWIDTH = 177.0
CENTER_FILTER_WAVELENGTH = 676.5
RADIANCE_OFFSET = 1.63359
RADIANCE_SCALING_FACTOR = 0.0139197
REFLECTANCE_SCALING_FACTOR = 0.000363639
MEX:REFLECTANCE_OFFSET = 0.042676
/* IMAGE OBJECT DEFINITIONS */
OBJECT = IMAGE
  INTERCHANGE_FORMAT = BINARY
  LINES = 9439
  LINE_SAMPLES = 1193
  SAMPLE_TYPE = UNSIGNED_INTEGER
  SAMPLE_BITS = 8
  BANDS = 1
  BAND_STORAGE_TYPE = BAND_SEQUENTIAL
  MAXIMUM = 255
  MEAN = 92.593
  MINIMUM = 1
  STANDARD_DEVIATION = 30.6204
END_OBJECT = IMAGE
/* MAP OBJECT DEFINITIONS */
OBJECT = IMAGE_MAP_PROJECTION
  ^DATA_SET_MAP_PROJECTION_CATALOG= "DSMAP.CAT"
  A_AXIS_RADIUS = 3396.0
  B_AXIS_RADIUS = 3396.0
  C_AXIS_RADIUS = 3396.0
  CENTER_LATITUDE = 0.0
  CENTER_LONGITUDE = 282.0
  COORDINATE_SYSTEM_NAME = PLANETOGRAPHIC
  COORDINATE_SYSTEM_TYPE = "BODY-FIXED ROTATING"
  EASTERNMOST_LONGITUDE = 283.189
  FIRST_STANDARD_PARALLEL = "N/A"
  LINE_FIRST_PIXEL = 1
  LINE_LAST_PIXEL = 9439
  LINE_PROJECTION_OFFSET = 1861.0625
  MAP_PROJECTION_ROTATION = 0.0
  MAP_PROJECTION_TYPE = SINUSOIDAL
  MAP_RESOLUTION = 592.713803866667
  MAP_SCALE = 0.1
  MAXIMUM_LATITUDE = 3.15703
  MINIMUM_LATITUDE = -12.7961
  POSITIVE_LONGITUDE_DIRECTION = EAST
  REFERENCE_LATITUDE = "N/A"
  REFERENCE_LONGITUDE = "N/A"
  SAMPLE_FIRST_PIXEL = 1
  SAMPLE_LAST_PIXEL = 1193
  SAMPLE_PROJECTION_OFFSET = 518.8125
  SECOND_STANDARD_PARALLEL = "N/A"
  WESTERNMOST_LONGITUDE = 281.066
END_OBJECT = IMAGE_MAP_PROJECTION
END
