PDS_VERSION_ID = PDS3
/* FILE DATA ELEMENTS */
RECORD_TYPE = UNDEFINED
/* POINTERS TO DATA OBJECTS */
^IMAGE = ("HQ142_0000_IR4.TIF")
/* IDENTIFICATION DATA ELEMENTS */
DATA_SET_ID = "MEX-M-HRSC-4-REFDR-MAPPROJECT-EXT9-V4.0"
DATA_SET_NAME = "MARS EXPRESS HRSC MAP PROJECTED REFDR EXTENSION9 V4.0"
DETECTOR_ID = MEX_HRSC_IR
EVENT_TYPE = "MARS-REGIONAL-STEREO-Vo-Te-La"
INSTRUMENT_HOST_ID = MEX
INSTRUMENT_HOST_NAME = "MARS EXPRESS"
INSTRUMENT_ID = HRSC
INSTRUMENT_NAME = "HIGH RESOLUTION STEREO CAMERA"
MISSION_NAME = "MARS EXPRESS"
MISSION_PHASE_NAME = ME_Phase_50
PROCESSING_LEVEL_ID = 4
PRODUCT_CREATION_TIME = 2025-01-29T00:31:31.000Z
PRODUCT_ID = "HQ142_0000_IR4.TIF"
RELEASE_ID = 0019
REVISION_ID = 0000
/* QUALITY DATA ELEMENTS */
DATA_QUALITY_ID = 1
DATA_QUALITY_DESC = "Data calculated based on original SPICE kernels"
/* TIME DATA ELEMENTS */
SPACECRAFT_CLOCK_START_COUNT = "1/0674551035.64183"
SPACECRAFT_CLOCK_STOP_COUNT = "1/0674551400.06996"
START_TIME = 2024-09-16T07:18:13.077Z
STOP_TIME = 2024-09-16T07:22:22.755Z
/* ORBITAL DATA ELEMENTS */
ASCENDING_NODE_LONGITUDE = 90.07
MAXIMUM_RESOLUTION = 0.1368
FOOTPRINT_POINT_LATITUDE = (3.08138,3.11535,3.13998,3.16303, 3.16373,3.16673,2.58611,2.00695,1.71647 ,1.14001,0.701348,0.404795,0.106838, -0.192882,-0.660268,-1.10582,-1.55819, -2.01489,-2.31999,-2.62999,-2.94435, -3.25375,-3.56723,-3.88049,-4.19954, -4.51948,-4.99931,-5.32087,-5.64786, -6.13804,-6.46463,-6.79856,-7.32361, -7.66434,-8.17462,-8.50145,-8.8429, -9.16199,-9.48495,-9.80643,-10.2948, -10.6251,-10.9544,-11.4481,-11.7776, -12.1073,-12.4368,-12.6015,-12.7096, -12.7454,-12.7649,-12.7831,-12.8002, -12.801,-12.7985,-12.4678,-12.1391, -11.81,-11.4803,-11.1499,-10.6543, -10.3236,-10.0154,-9.68881,-9.201, -8.8695,-8.53606,-8.20405,-7.85382, -7.49911,-7.16154,-6.82954,-6.34875, -6.0202,-5.67934,-5.36748,-5.04645, -4.55764,-4.22638,-3.90841,-3.59588, -3.28264,-2.96984,-2.50176,-2.19655, -1.60907,-1.28302,-0.703882,-0.390104, 0.07609,0.376314,0.674093,0.967085, 1.40396,1.98453,2.2761,2.56663,2.85805, 3.00004,3.08138)
FOOTPRINT_POINT_LONGITUDE = (283.088,282.517,282.081,281.654, 281.641,281.633,281.621,281.607,281.6, 281.586,281.575,281.568,281.56,281.553, 281.543,281.531,281.519,281.507,281.499 ,281.491,281.482,281.474,281.465, 281.456,281.447,281.438,281.425,281.415 ,281.406,281.391,281.382,281.372, 281.357,281.347,281.332,281.321,281.311 ,281.3,281.289,281.278,281.261,281.25, 281.239,281.222,281.211,281.199,281.188 ,281.182,281.178,281.932,282.325, 282.687,283.053,283.071,283.083,283.078 ,283.074,283.071,283.068,283.065, 283.061,283.059,283.073,283.075,283.079 ,283.078,283.076,283.075,283.061, 283.043,283.039,283.04,283.05,283.048, 283.037,283.049,283.048,283.042,283.033 ,283.034,283.035,283.035,283.036, 283.038,283.039,283.061,283.047,283.07, 283.06,283.049,283.05,283.053,283.056, 283.06,283.067,283.069,283.073,283.076, 283.077,283.088)
ORBIT_NUMBER = 26142
ORBITAL_ECCENTRICITY = 0.573
ORBITAL_INCLINATION = 87.09
ORBITAL_SEMIMAJOR_AXIS = 8848.41
PERIAPSIS_ALTITUDE = 386.75
PERIAPSIS_ARGUMENT_ANGLE = 164.17
PERIAPSIS_TIME = 2024-09-16T07:15:24.000Z
SPACECRAFT_ORIENTATION = (0.0,-1.0,0.0)
^MEX_ORIENTATION_DESC = "MEX_ORIENTATION_DESC.TXT"
SPACECRAFT_POINTING_MODE = ACROSSTRACK
^MEX_POINTING_DESC = "MEX_POINTING_DESC.TXT"
RIGHT_ASCENSION = -1e+32
DECLINATION = -1e+32
OFFSET_ANGLE = 0.916
SPACECRAFT_SOLAR_DISTANCE = 2.21968e+08
TARGET_NAME = MARS
/* CAMERA DATA ELEMENTS */
DETECTOR_TEMPERATURE = 17.5549
FOCAL_PLANE_TEMPERATURE = 8.7872
INST_CMPRS_NAME = "DISCRETE COSINE TRANSFORMATION (DCT)"
INST_CMPRS_RATIO = 7.55091
INST_CMPRS_QUALITY = 0
INST_CMPRS_QUANTZ_TBL_ID = 0
INSTRUMENT_TEMPERATURE = 10.2145
LENS_TEMPERATURE = 9.6028
MACROPIXEL_SIZE = 8
MISSING_FRAMES = 0
PIXEL_SUBSAMPLING_FLAG = N
SIGNAL_CHAIN_ID = 3
/* RADIOMETRIC DATA ELEMENTS */
BANDWIDTH = 81.0
CENTER_FILTER_WAVELENGTH = 955.5
RADIANCE_OFFSET = 0.351136
RADIANCE_SCALING_FACTOR = 0.00410806
REFLECTANCE_SCALING_FACTOR = 0.000436665
MEX:REFLECTANCE_OFFSET = 0.0373238
/* IMAGE OBJECT DEFINITIONS */
OBJECT = IMAGE
  INTERCHANGE_FORMAT = BINARY
  LINES = 9439
  LINE_SAMPLES = 1193
  SAMPLE_TYPE = UNSIGNED_INTEGER
  SAMPLE_BITS = 8
  BANDS = 1
  BAND_STORAGE_TYPE = BAND_SEQUENTIAL
  MAXIMUM = 255
  MEAN = 85.9885
  MINIMUM = 1
  STANDARD_DEVIATION = 33.2653
END_OBJECT = IMAGE
/* MAP OBJECT DEFINITIONS */
OBJECT = IMAGE_MAP_PROJECTION
  ^DATA_SET_MAP_PROJECTION_CATALOG= "DSMAP.CAT"
  A_AXIS_RADIUS = 3396.0
  B_AXIS_RADIUS = 3396.0
  C_AXIS_RADIUS = 3396.0
  CENTER_LATITUDE = 0.0
  CENTER_LONGITUDE = 282.0
  COORDINATE_SYSTEM_NAME = PLANETOGRAPHIC
  COORDINATE_SYSTEM_TYPE = "BODY-FIXED ROTATING"
  EASTERNMOST_LONGITUDE = 283.088
  FIRST_STANDARD_PARALLEL = "N/A"
  LINE_FIRST_PIXEL = 1
  LINE_LAST_PIXEL = 9439
  LINE_PROJECTION_OFFSET = 1861.0625
  MAP_PROJECTION_ROTATION = 0.0
  MAP_PROJECTION_TYPE = SINUSOIDAL
  MAP_RESOLUTION = 592.713803866667
  MAP_SCALE = 0.1
  MAXIMUM_LATITUDE = 3.16673
  MINIMUM_LATITUDE = -12.801
  POSITIVE_LONGITUDE_DIRECTION = EAST
  REFERENCE_LATITUDE = "N/A"
  REFERENCE_LONGITUDE = "N/A"
  SAMPLE_FIRST_PIXEL = 1
  SAMPLE_LAST_PIXEL = 1193
  SAMPLE_PROJECTION_OFFSET = 518.8125
  SECOND_STANDARD_PARALLEL = "N/A"
  WESTERNMOST_LONGITUDE = 281.178
END_OBJECT = IMAGE_MAP_PROJECTION
END
