PDS_VERSION_ID = PDS3
/* FILE DATA ELEMENTS */
RECORD_TYPE = UNDEFINED
/* POINTERS TO DATA OBJECTS */
^IMAGE = ("HQ142_0000_BL4.TIF")
/* IDENTIFICATION DATA ELEMENTS */
DATA_SET_ID = "MEX-M-HRSC-4-REFDR-MAPPROJECT-EXT9-V4.0"
DATA_SET_NAME = "MARS EXPRESS HRSC MAP PROJECTED REFDR EXTENSION9 V4.0"
DETECTOR_ID = MEX_HRSC_BLUE
EVENT_TYPE = "MARS-REGIONAL-STEREO-Vo-Te-La"
INSTRUMENT_HOST_ID = MEX
INSTRUMENT_HOST_NAME = "MARS EXPRESS"
INSTRUMENT_ID = HRSC
INSTRUMENT_NAME = "HIGH RESOLUTION STEREO CAMERA"
MISSION_NAME = "MARS EXPRESS"
MISSION_PHASE_NAME = ME_Phase_50
PROCESSING_LEVEL_ID = 4
PRODUCT_CREATION_TIME = 2025-01-29T00:31:31.000Z
PRODUCT_ID = "HQ142_0000_BL4.TIF"
RELEASE_ID = 0019
REVISION_ID = 0000
/* QUALITY DATA ELEMENTS */
DATA_QUALITY_ID = 1
DATA_QUALITY_DESC = "Data calculated based on original SPICE kernels"
/* TIME DATA ELEMENTS */
SPACECRAFT_CLOCK_START_COUNT = "1/0674551035.64183"
SPACECRAFT_CLOCK_STOP_COUNT = "1/0674551400.06996"
START_TIME = 2024-09-16T07:18:51.417Z
STOP_TIME = 2024-09-16T07:23:16.222Z
/* ORBITAL DATA ELEMENTS */
ASCENDING_NODE_LONGITUDE = 90.07
MAXIMUM_RESOLUTION = 0.1349
FOOTPRINT_POINT_LATITUDE = (3.12777,3.13122,3.13386,3.1364,3.13649 ,3.13336,2.68665,2.23889,1.64404, 1.03636,0.125027,-0.182506,-0.492063, -0.954922,-1.26394,-1.57733,-1.89312, -2.20815,-2.52256,-3.00218,-3.32357, -3.6436,-3.96736,-4.29395,-4.61987, -4.94528,-5.27009,-5.59435,-6.07965, -6.40245,-6.72456,-7.04588,-7.52097, -7.83862,-8.1569,-8.4776,-8.79324, -9.11369,-9.5919,-10.0691,-10.3842, -10.6987,-11.0125,-11.3257,-11.6382, -11.9499,-12.2607,-12.5709,-12.7257, -12.7558,-12.7592,-12.7617,-12.7633, -12.7646,-12.7653,-12.7653,-12.7632, -12.4538,-12.1431,-11.832,-11.5201, -11.2075,-10.8942,-10.5803,-10.1046, -9.78631,-9.30992,-8.83334,-8.51552, -8.19665,-7.88034,-7.56517,-7.24569, -6.92452,-6.59832,-6.27643,-5.95384, -5.46773,-4.97992,-4.65457,-4.33342, -4.00718,-3.68266,-3.36249,-3.04179, -2.56107,-2.24643,-1.92852,-1.45408, -1.14674,-0.833916,-0.369672,-0.0646346 ,0.39131,0.999011,1.60608,2.05238, 2.94686,3.0961,3.12777)
FOOTPRINT_POINT_LONGITUDE = (283.102,282.518,282.073,281.635, 281.621,281.614,281.604,281.592,281.577 ,281.561,281.537,281.529,281.521, 281.508,281.5,281.491,281.482,281.473, 281.464,281.45,281.44,281.431,281.421, 281.411,281.401,281.391,281.381,281.37, 281.355,281.344,281.334,281.323,281.308 ,281.297,281.286,281.275,281.264, 281.252,281.235,281.218,281.206,281.195 ,281.183,281.171,281.16,281.148,281.136 ,281.124,281.117,281.116,281.523, 281.899,282.241,282.76,283.108,283.128, 283.141,283.135,283.131,283.126,283.122 ,283.118,283.114,283.111,283.117, 283.123,283.124,283.122,283.118,283.116 ,283.103,283.085,283.078,283.076, 283.089,283.086,283.083,283.082,283.084 ,283.083,283.065,283.064,283.063, 283.063,283.063,283.064,283.065,283.076 ,283.082,283.069,283.084,283.086, 283.069,283.069,283.074,283.079,283.083 ,283.091,283.092,283.102)
ORBIT_NUMBER = 26142
ORBITAL_ECCENTRICITY = 0.573
ORBITAL_INCLINATION = 87.09
ORBITAL_SEMIMAJOR_AXIS = 8848.41
PERIAPSIS_ALTITUDE = 386.75
PERIAPSIS_ARGUMENT_ANGLE = 164.17
PERIAPSIS_TIME = 2024-09-16T07:15:24.000Z
SPACECRAFT_ORIENTATION = (0.0,-1.0,0.0)
^MEX_ORIENTATION_DESC = "MEX_ORIENTATION_DESC.TXT"
SPACECRAFT_POINTING_MODE = ACROSSTRACK
^MEX_POINTING_DESC = "MEX_POINTING_DESC.TXT"
RIGHT_ASCENSION = -1e+32
DECLINATION = -1e+32
OFFSET_ANGLE = 0.916
SPACECRAFT_SOLAR_DISTANCE = 2.21968e+08
TARGET_NAME = MARS
/* CAMERA DATA ELEMENTS */
DETECTOR_TEMPERATURE = 17.9627
FOCAL_PLANE_TEMPERATURE = 8.7872
INST_CMPRS_NAME = "DISCRETE COSINE TRANSFORMATION (DCT)"
INST_CMPRS_RATIO = 6.92961
INST_CMPRS_QUALITY = 0
INST_CMPRS_QUANTZ_TBL_ID = 0
INSTRUMENT_TEMPERATURE = 10.2145
LENS_TEMPERATURE = 9.6028
MACROPIXEL_SIZE = 8
MISSING_FRAMES = 0
PIXEL_SUBSAMPLING_FLAG = N
SIGNAL_CHAIN_ID = 3
/* RADIOMETRIC DATA ELEMENTS */
BANDWIDTH = 76.0
CENTER_FILTER_WAVELENGTH = 444.0
RADIANCE_OFFSET = 0.287207
RADIANCE_SCALING_FACTOR = 0.00118751
REFLECTANCE_SCALING_FACTOR = 6.01141e-05
MEX:REFLECTANCE_OFFSET = 0.0145389
/* IMAGE OBJECT DEFINITIONS */
OBJECT = IMAGE
  INTERCHANGE_FORMAT = BINARY
  LINES = 9439
  LINE_SAMPLES = 1193
  SAMPLE_TYPE = UNSIGNED_INTEGER
  SAMPLE_BITS = 8
  BANDS = 1
  BAND_STORAGE_TYPE = BAND_SEQUENTIAL
  MAXIMUM = 255
  MEAN = 106.865
  MINIMUM = 1
  STANDARD_DEVIATION = 29.1064
END_OBJECT = IMAGE
/* MAP OBJECT DEFINITIONS */
OBJECT = IMAGE_MAP_PROJECTION
  ^DATA_SET_MAP_PROJECTION_CATALOG= "DSMAP.CAT"
  A_AXIS_RADIUS = 3396.0
  B_AXIS_RADIUS = 3396.0
  C_AXIS_RADIUS = 3396.0
  CENTER_LATITUDE = 0.0
  CENTER_LONGITUDE = 282.0
  COORDINATE_SYSTEM_NAME = PLANETOGRAPHIC
  COORDINATE_SYSTEM_TYPE = "BODY-FIXED ROTATING"
  EASTERNMOST_LONGITUDE = 283.141
  FIRST_STANDARD_PARALLEL = "N/A"
  LINE_FIRST_PIXEL = 1
  LINE_LAST_PIXEL = 9439
  LINE_PROJECTION_OFFSET = 1861.0625
  MAP_PROJECTION_ROTATION = 0.0
  MAP_PROJECTION_TYPE = SINUSOIDAL
  MAP_RESOLUTION = 592.713803866667
  MAP_SCALE = 0.1
  MAXIMUM_LATITUDE = 3.13649
  MINIMUM_LATITUDE = -12.7653
  POSITIVE_LONGITUDE_DIRECTION = EAST
  REFERENCE_LATITUDE = "N/A"
  REFERENCE_LONGITUDE = "N/A"
  SAMPLE_FIRST_PIXEL = 1
  SAMPLE_LAST_PIXEL = 1193
  SAMPLE_PROJECTION_OFFSET = 518.8125
  SECOND_STANDARD_PARALLEL = "N/A"
  WESTERNMOST_LONGITUDE = 281.116
END_OBJECT = IMAGE_MAP_PROJECTION
END
