PDS_VERSION_ID = PDS3
/* FILE DATA ELEMENTS */
RECORD_TYPE = UNDEFINED
/* POINTERS TO DATA OBJECTS */
^IMAGE = ("HQ137_0000_IR4.TIF")
/* IDENTIFICATION DATA ELEMENTS */
DATA_SET_ID = "MEX-M-HRSC-4-REFDR-MAPPROJECT-EXT9-V4.0"
DATA_SET_NAME = "MARS EXPRESS HRSC MAP PROJECTED REFDR EXTENSION9 V4.0"
DETECTOR_ID = MEX_HRSC_IR
EVENT_TYPE = "MARS-REGIONAL-MAPPING-Im-Fl"
INSTRUMENT_HOST_ID = MEX
INSTRUMENT_HOST_NAME = "MARS EXPRESS"
INSTRUMENT_ID = HRSC
INSTRUMENT_NAME = "HIGH RESOLUTION STEREO CAMERA"
MISSION_NAME = "MARS EXPRESS"
MISSION_PHASE_NAME = ME_Phase_50
PROCESSING_LEVEL_ID = 4
PRODUCT_CREATION_TIME = 2025-01-29T00:31:31.000Z
PRODUCT_ID = "HQ137_0000_IR4.TIF"
RELEASE_ID = 0019
REVISION_ID = 0000
/* QUALITY DATA ELEMENTS */
DATA_QUALITY_ID = 1
DATA_QUALITY_DESC = "Data calculated based on original SPICE kernels"
/* TIME DATA ELEMENTS */
SPACECRAFT_CLOCK_START_COUNT = "1/0674425510.65089"
SPACECRAFT_CLOCK_STOP_COUNT = "1/0674425997.64053"
START_TIME = 2024-09-14T20:26:09.965Z
STOP_TIME = 2024-09-14T20:31:05.266Z
/* ORBITAL DATA ELEMENTS */
ASCENDING_NODE_LONGITUDE = 90.16
MAXIMUM_RESOLUTION = 0.084
FOOTPRINT_POINT_LATITUDE = (-10.9398,-10.8927,-10.8584,-10.8255, -10.8245,-10.8205,-11.4258,-12.1919, -12.9721,-13.6042,-13.921,-14.2423, -14.5698,-14.8893,-15.2186,-15.5464, -16.0446,-16.3775,-16.8841,-17.2221, -17.5653,-17.9077,-18.2553,-18.6031, -18.9548,-19.3074,-19.6678,-20.0278, -20.3946,-20.7585,-21.1273,-21.4954, -21.8687,-22.2506,-22.8232,-23.21, -23.5987,-24.1857,-24.777,-25.1722, -25.5635,-25.9538,-26.3391,-26.7286, -27.1706,-27.6122,-28.0519,-28.4913, -28.7098,-28.7852,-28.8164,-28.855, -28.8673,-28.8955,-28.8964,-28.8949, -28.4597,-27.7992,-27.355,-26.912, -26.509,-26.1169,-25.5282,-25.1422, -24.5529,-24.1597,-23.5696,-23.1931, -22.8033,-22.4231,-22.0523,-21.6796, -21.3064,-20.7446,-20.3825,-19.842, -19.4811,-19.1294,-18.7755,-18.428, -18.0803,-17.7375,-17.224,-16.8874, -16.5491,-16.0505,-15.718,-15.3905, -15.0622,-14.7368,-14.4147,-14.0921, -13.776,-13.4583,-12.8295,-12.2122, -11.7471,-11.1373,-10.9868,-10.9398)
FOOTPRINT_POINT_LONGITUDE = (74.2858,73.5452,72.9974,72.4622, 72.4457,72.4406,72.4215,72.397,72.3717, 72.3506,72.34,72.329,72.3188,72.3072, 72.296,72.2847,72.2671,72.2553,72.2372, 72.225,72.2125,72.1998,72.1869,72.1738, 72.1605,72.147,72.1337,72.12,72.1063, 72.0921,72.0776,72.0627,72.0477,72.033, 72.0099,71.9943,71.9782,71.9536,71.9285 ,71.9118,71.8947,71.8776,71.8602, 71.8429,71.8232,71.8031,71.7829,71.7626 ,71.7524,71.7487,72.5543,73.4631, 73.8367,74.7689,74.7984,74.8082,74.7869 ,74.7511,74.726,74.7034,74.6787,74.6588 ,74.6307,74.6191,74.5949,74.5799, 74.5535,74.5477,74.5291,74.515,74.5083, 74.4975,74.4841,74.4588,74.45,74.4356, 74.4242,74.4168,74.4079,74.4003,74.3933 ,74.3861,74.3753,74.3697,74.363,74.3541 ,74.3482,74.3425,74.3366,74.3304, 74.3256,74.3208,74.3168,74.3119,74.3028 ,74.2997,74.289,74.2823,74.2806, 74.2858)
ORBIT_NUMBER = 26137
ORBITAL_ECCENTRICITY = 0.573
ORBITAL_INCLINATION = 87.11
ORBITAL_SEMIMAJOR_AXIS = 8848.12
PERIAPSIS_ALTITUDE = 386.0
PERIAPSIS_ARGUMENT_ANGLE = 165.01
PERIAPSIS_TIME = 2024-09-14T20:19:55.000Z
SPACECRAFT_ORIENTATION = (0.0,-1.0,0.0)
^MEX_ORIENTATION_DESC = "MEX_ORIENTATION_DESC.TXT"
SPACECRAFT_POINTING_MODE = ACROSSTRACK
^MEX_POINTING_DESC = "MEX_POINTING_DESC.TXT"
RIGHT_ASCENSION = -1e+32
DECLINATION = -1e+32
OFFSET_ANGLE = 1.346
SPACECRAFT_SOLAR_DISTANCE = 2.2169e+08
TARGET_NAME = MARS
/* CAMERA DATA ELEMENTS */
DETECTOR_TEMPERATURE = 17.1471
FOCAL_PLANE_TEMPERATURE = 8.7872
INST_CMPRS_NAME = "DISCRETE COSINE TRANSFORMATION (DCT)"
INST_CMPRS_RATIO = 5.17508
INST_CMPRS_QUALITY = 0
INST_CMPRS_QUANTZ_TBL_ID = 0
INSTRUMENT_TEMPERATURE = 11.0301
LENS_TEMPERATURE = 8.9911
MACROPIXEL_SIZE = 4
MISSING_FRAMES = 0
PIXEL_SUBSAMPLING_FLAG = N
SIGNAL_CHAIN_ID = 2
/* RADIOMETRIC DATA ELEMENTS */
BANDWIDTH = 81.0
CENTER_FILTER_WAVELENGTH = 955.5
RADIANCE_OFFSET = 0.429616
RADIANCE_SCALING_FACTOR = 0.00175216
REFLECTANCE_SCALING_FACTOR = 0.000185778
MEX:REFLECTANCE_OFFSET = 0.0455514
/* IMAGE OBJECT DEFINITIONS */
OBJECT = IMAGE
  INTERCHANGE_FORMAT = BINARY
  LINES = 10651
  LINE_SAMPLES = 1723
  SAMPLE_TYPE = UNSIGNED_INTEGER
  SAMPLE_BITS = 8
  BANDS = 1
  BAND_STORAGE_TYPE = BAND_SEQUENTIAL
  MAXIMUM = 255
  MEAN = 101.611
  MINIMUM = 1
  STANDARD_DEVIATION = 43.7961
END_OBJECT = IMAGE
/* MAP OBJECT DEFINITIONS */
OBJECT = IMAGE_MAP_PROJECTION
  ^DATA_SET_MAP_PROJECTION_CATALOG= "DSMAP.CAT"
  A_AXIS_RADIUS = 3396.0
  B_AXIS_RADIUS = 3396.0
  C_AXIS_RADIUS = 3396.0
  CENTER_LATITUDE = 0.0
  CENTER_LONGITUDE = 73.0
  COORDINATE_SYSTEM_NAME = PLANETOGRAPHIC
  COORDINATE_SYSTEM_TYPE = "BODY-FIXED ROTATING"
  EASTERNMOST_LONGITUDE = 74.8082
  FIRST_STANDARD_PARALLEL = "N/A"
  LINE_FIRST_PIXEL = 1
  LINE_LAST_PIXEL = 10651
  LINE_PROJECTION_OFFSET = -6438.625
  MAP_PROJECTION_ROTATION = 0.0
  MAP_PROJECTION_TYPE = SINUSOIDAL
  MAP_RESOLUTION = 592.713803866667
  MAP_SCALE = 0.1
  MAXIMUM_LATITUDE = -10.8205
  MINIMUM_LATITUDE = -28.8964
  POSITIVE_LONGITUDE_DIRECTION = EAST
  REFERENCE_LATITUDE = "N/A"
  REFERENCE_LONGITUDE = "N/A"
  SAMPLE_FIRST_PIXEL = 1
  SAMPLE_LAST_PIXEL = 1723
  SAMPLE_PROJECTION_OFFSET = 728.375
  SECOND_STANDARD_PARALLEL = "N/A"
  WESTERNMOST_LONGITUDE = 71.7487
END_OBJECT = IMAGE_MAP_PROJECTION
END
