PDS_VERSION_ID = PDS3
/* FILE DATA ELEMENTS */
RECORD_TYPE = UNDEFINED
/* POINTERS TO DATA OBJECTS */
^IMAGE = ("HQ133_0000_RE4.TIF")
/* IDENTIFICATION DATA ELEMENTS */
DATA_SET_ID = "MEX-M-HRSC-4-REFDR-MAPPROJECT-EXT9-V4.0"
DATA_SET_NAME = "MARS EXPRESS HRSC MAP PROJECTED REFDR EXTENSION9 V4.0"
DETECTOR_ID = MEX_HRSC_RED
EVENT_TYPE = "MARS-REGIONAL-MAPPING-Vo-Te"
INSTRUMENT_HOST_ID = MEX
INSTRUMENT_HOST_NAME = "MARS EXPRESS"
INSTRUMENT_ID = HRSC
INSTRUMENT_NAME = "HIGH RESOLUTION STEREO CAMERA"
MISSION_NAME = "MARS EXPRESS"
MISSION_PHASE_NAME = ME_Phase_50
PROCESSING_LEVEL_ID = 4
PRODUCT_CREATION_TIME = 2025-01-29T00:31:31.000Z
PRODUCT_ID = "HQ133_0000_RE4.TIF"
RELEASE_ID = 0019
REVISION_ID = 0000
/* QUALITY DATA ELEMENTS */
DATA_QUALITY_ID = 1
DATA_QUALITY_DESC = "Data calculated based on original SPICE kernels"
/* TIME DATA ELEMENTS */
SPACECRAFT_CLOCK_START_COUNT = "1/0674324393.00341"
SPACECRAFT_CLOCK_STOP_COUNT = "1/0674324591.08382"
START_TIME = 2024-09-13T16:21:52.891Z
STOP_TIME = 2024-09-13T16:23:53.869Z
/* ORBITAL DATA ELEMENTS */
ASCENDING_NODE_LONGITUDE = 90.23
MAXIMUM_RESOLUTION = 0.0654
FOOTPRINT_POINT_LATITUDE = (22.7967,22.7841,22.7763,22.7685, 22.7608,22.7531,22.7454,22.7449,22.78, 22.5476,22.3154,22.1606,22.006,21.8511, 21.6962,21.5414,21.3867,21.232,21.0776, 20.923,20.7683,20.6137,20.459,20.3046, 20.15,19.9182,19.7638,19.6094,19.455, 19.2237,19.0695,18.9153,18.761,18.6067, 18.3756,18.2215,17.9903,17.8362,17.6822 ,17.5284,17.3746,17.1439,16.9899, 16.6827,16.5289,16.3751,16.0676,15.8377 ,15.4543,15.1482,15.0717,15.0091, 15.0163,15.0284,15.0343,15.0421,15.0498 ,15.0597,15.0602,15.0614,15.3675, 15.6739,15.9812,16.2112,16.5182,16.9024 ,17.133,17.2868,17.5176,17.7485,17.9032 ,18.057,18.2883,18.4424,18.5964,18.7506 ,18.9046,19.0589,19.2134,19.3677, 19.5217,19.6761,19.8308,19.9852,20.14, 20.2944,20.449,20.6809,20.9132,21.0679, 21.2226,21.3772,21.6095,21.8416,21.9965 ,22.2287,22.4611,22.6934,22.7707, 22.7967)
FOOTPRINT_POINT_LONGITUDE = (122.849,122.465,122.232,122.002, 121.775,121.55,121.327,121.313,121.316, 121.316,121.315,121.314,121.314,121.313 ,121.313,121.312,121.311,121.311,121.31 ,121.309,121.309,121.308,121.307, 121.306,121.305,121.304,121.303,121.302 ,121.301,121.299,121.298,121.297, 121.296,121.294,121.293,121.291,121.289 ,121.288,121.286,121.285,121.284, 121.281,121.28,121.277,121.275,121.273, 121.27,121.268,121.263,121.26,121.259, 121.258,121.468,121.815,121.99,122.196, 122.417,122.698,122.712,122.717,122.722 ,122.727,122.734,122.738,122.744, 122.751,122.756,122.759,122.764,122.768 ,122.772,122.775,122.78,122.783,122.786 ,122.79,122.793,122.796,122.8,122.803, 122.806,122.81,122.813,122.817,122.82, 122.824,122.827,122.833,122.838,122.842 ,122.846,122.849,122.855,122.861, 122.864,122.87,122.876,122.882,122.883, 122.849)
ORBIT_NUMBER = 26133
ORBITAL_ECCENTRICITY = 0.573
ORBITAL_INCLINATION = 87.08
ORBITAL_SEMIMAJOR_AXIS = 8846.88
PERIAPSIS_ALTITUDE = 385.97
PERIAPSIS_ARGUMENT_ANGLE = 165.7
PERIAPSIS_TIME = 2024-09-13T16:23:35.000Z
SPACECRAFT_ORIENTATION = (0.0,-1.0,0.0)
^MEX_ORIENTATION_DESC = "MEX_ORIENTATION_DESC.TXT"
SPACECRAFT_POINTING_MODE = ACROSSTRACK
^MEX_POINTING_DESC = "MEX_POINTING_DESC.TXT"
RIGHT_ASCENSION = -1e+32
DECLINATION = -1e+32
OFFSET_ANGLE = 1.0
SPACECRAFT_SOLAR_DISTANCE = 2.21467e+08
TARGET_NAME = MARS
/* CAMERA DATA ELEMENTS */
DETECTOR_TEMPERATURE = 18.3705
FOCAL_PLANE_TEMPERATURE = 8.1755
INST_CMPRS_NAME = "DISCRETE COSINE TRANSFORMATION (DCT)"
INST_CMPRS_RATIO = 11.0258
INST_CMPRS_QUALITY = 0
INST_CMPRS_QUANTZ_TBL_ID = 0
INSTRUMENT_TEMPERATURE = 11.0301
LENS_TEMPERATURE = 9.195
MACROPIXEL_SIZE = 4
MISSING_FRAMES = 0
PIXEL_SUBSAMPLING_FLAG = N
SIGNAL_CHAIN_ID = 2
/* RADIOMETRIC DATA ELEMENTS */
BANDWIDTH = 48.0
CENTER_FILTER_WAVELENGTH = 748.0
RADIANCE_OFFSET = 0.418031
RADIANCE_SCALING_FACTOR = 0.0012527
REFLECTANCE_SCALING_FACTOR = 0.000140214
MEX:REFLECTANCE_OFFSET = 0.0467899
/* IMAGE OBJECT DEFINITIONS */
OBJECT = IMAGE
  INTERCHANGE_FORMAT = BINARY
  LINES = 9235
  LINE_SAMPLES = 1883
  SAMPLE_TYPE = UNSIGNED_INTEGER
  SAMPLE_BITS = 8
  BANDS = 1
  BAND_STORAGE_TYPE = BAND_SEQUENTIAL
  MAXIMUM = 255
  MEAN = 139.341
  MINIMUM = 1
  STANDARD_DEVIATION = 39.9577
END_OBJECT = IMAGE
/* MAP OBJECT DEFINITIONS */
OBJECT = IMAGE_MAP_PROJECTION
  ^DATA_SET_MAP_PROJECTION_CATALOG= "DSMAP.CAT"
  A_AXIS_RADIUS = 3396.0
  B_AXIS_RADIUS = 3396.0
  C_AXIS_RADIUS = 3396.0
  CENTER_LATITUDE = 0.0
  CENTER_LONGITUDE = 122.0
  COORDINATE_SYSTEM_NAME = PLANETOGRAPHIC
  COORDINATE_SYSTEM_TYPE = "BODY-FIXED ROTATING"
  EASTERNMOST_LONGITUDE = 122.883
  FIRST_STANDARD_PARALLEL = "N/A"
  LINE_FIRST_PIXEL = 1
  LINE_LAST_PIXEL = 9235
  LINE_PROJECTION_OFFSET = 27018.625
  MAP_PROJECTION_ROTATION = 0.0
  MAP_PROJECTION_TYPE = SINUSOIDAL
  MAP_RESOLUTION = 1185.42760773333
  MAP_SCALE = 0.05
  MAXIMUM_LATITUDE = 22.7967
  MINIMUM_LATITUDE = 15.0091
  POSITIVE_LONGITUDE_DIRECTION = EAST
  REFERENCE_LATITUDE = "N/A"
  REFERENCE_LONGITUDE = "N/A"
  SAMPLE_FIRST_PIXEL = 1
  SAMPLE_LAST_PIXEL = 1883
  SAMPLE_PROJECTION_OFFSET = 858.375
  SECOND_STANDARD_PARALLEL = "N/A"
  WESTERNMOST_LONGITUDE = 121.258
END_OBJECT = IMAGE_MAP_PROJECTION
END
