PDS_VERSION_ID = PDS3
/* FILE DATA ELEMENTS */
RECORD_TYPE = UNDEFINED
/* POINTERS TO DATA OBJECTS */
^IMAGE = ("HQ133_0000_GR4.TIF")
/* IDENTIFICATION DATA ELEMENTS */
DATA_SET_ID = "MEX-M-HRSC-4-REFDR-MAPPROJECT-EXT9-V4.0"
DATA_SET_NAME = "MARS EXPRESS HRSC MAP PROJECTED REFDR EXTENSION9 V4.0"
DETECTOR_ID = MEX_HRSC_GREEN
EVENT_TYPE = "MARS-REGIONAL-MAPPING-Vo-Te"
INSTRUMENT_HOST_ID = MEX
INSTRUMENT_HOST_NAME = "MARS EXPRESS"
INSTRUMENT_ID = HRSC
INSTRUMENT_NAME = "HIGH RESOLUTION STEREO CAMERA"
MISSION_NAME = "MARS EXPRESS"
MISSION_PHASE_NAME = ME_Phase_50
PROCESSING_LEVEL_ID = 4
PRODUCT_CREATION_TIME = 2025-01-29T00:31:31.000Z
PRODUCT_ID = "HQ133_0000_GR4.TIF"
RELEASE_ID = 0019
REVISION_ID = 0000
/* QUALITY DATA ELEMENTS */
DATA_QUALITY_ID = 1
DATA_QUALITY_DESC = "Data calculated based on original SPICE kernels"
/* TIME DATA ELEMENTS */
SPACECRAFT_CLOCK_START_COUNT = "1/0674324393.00341"
SPACECRAFT_CLOCK_STOP_COUNT = "1/0674324591.08382"
START_TIME = 2024-09-13T16:21:15.760Z
STOP_TIME = 2024-09-13T16:23:18.127Z
/* ORBITAL DATA ELEMENTS */
ASCENDING_NODE_LONGITUDE = 90.23
MAXIMUM_RESOLUTION = 0.0625
FOOTPRINT_POINT_LATITUDE = (22.7811,22.7902,22.7952,22.7997, 22.8039,22.8076,22.8109,22.8111,22.8038 ,22.4967,22.2665,21.9593,21.6518, 21.3441,21.0362,20.8052,20.497,20.3428, 20.1886,19.9572,19.8029,19.5713,19.4169 ,19.2624,19.1079,18.9533,18.7987, 18.6441,18.4895,18.3349,18.1028,17.948, 17.7933,17.6385,17.4836,17.3287,17.1738 ,16.9415,16.709,16.554,16.399,16.1665, 15.9339,15.7788,15.6237,15.4686,15.3134 ,15.1582,15.0806,15.0302,15.0231, 15.0159,15.0105,15.0062,14.9977,14.9973 ,14.9982,15.1534,15.3863,15.5415, 15.7742,15.9293,16.0844,16.3171,16.4722 ,16.6272,16.8597,17.0147,17.1697, 17.3246,17.4795,17.6344,17.7892,17.944, 18.0988,18.2535,18.4082,18.5629,18.7176 ,18.8723,19.0269,19.1814,19.3359, 19.4905,19.6449,19.7993,19.9536,20.1079 ,20.2622,20.4164,20.5706,20.7248, 21.0329,21.4178,21.7256,22.0331,22.3404 ,22.6475,22.7242,22.7811)
FOOTPRINT_POINT_LONGITUDE = (122.852,122.465,122.23,121.998,121.769 ,121.542,121.316,121.302,121.305, 121.305,121.305,121.304,121.304,121.303 ,121.302,121.302,121.301,121.3,121.299, 121.298,121.298,121.297,121.296,121.295 ,121.294,121.293,121.292,121.292, 121.291,121.29,121.288,121.287,121.286, 121.285,121.284,121.282,121.281,121.279 ,121.277,121.276,121.275,121.272,121.27 ,121.269,121.267,121.266,121.264, 121.263,121.262,121.261,121.614,121.947 ,122.177,122.355,122.687,122.701, 122.706,122.709,122.713,122.716,122.721 ,122.724,122.727,122.732,122.735, 122.739,122.744,122.747,122.75,122.754, 122.757,122.76,122.764,122.768,122.771, 122.775,122.778,122.782,122.785,122.789 ,122.792,122.796,122.8,122.803,122.807, 122.81,122.814,122.818,122.822,122.826, 122.829,122.833,122.841,122.851,122.859 ,122.867,122.875,122.883,122.885, 122.852)
ORBIT_NUMBER = 26133
ORBITAL_ECCENTRICITY = 0.573
ORBITAL_INCLINATION = 87.08
ORBITAL_SEMIMAJOR_AXIS = 8846.88
PERIAPSIS_ALTITUDE = 385.97
PERIAPSIS_ARGUMENT_ANGLE = 165.7
PERIAPSIS_TIME = 2024-09-13T16:23:35.000Z
SPACECRAFT_ORIENTATION = (0.0,-1.0,0.0)
^MEX_ORIENTATION_DESC = "MEX_ORIENTATION_DESC.TXT"
SPACECRAFT_POINTING_MODE = ACROSSTRACK
^MEX_POINTING_DESC = "MEX_POINTING_DESC.TXT"
RIGHT_ASCENSION = -1e+32
DECLINATION = -1e+32
OFFSET_ANGLE = 1.0
SPACECRAFT_SOLAR_DISTANCE = 2.21467e+08
TARGET_NAME = MARS
/* CAMERA DATA ELEMENTS */
DETECTOR_TEMPERATURE = 18.1666
FOCAL_PLANE_TEMPERATURE = 8.1755
INST_CMPRS_NAME = "DISCRETE COSINE TRANSFORMATION (DCT)"
INST_CMPRS_RATIO = 7.72076
INST_CMPRS_QUALITY = 0
INST_CMPRS_QUANTZ_TBL_ID = 0
INSTRUMENT_TEMPERATURE = 11.0301
LENS_TEMPERATURE = 9.195
MACROPIXEL_SIZE = 4
MISSING_FRAMES = 0
PIXEL_SUBSAMPLING_FLAG = N
SIGNAL_CHAIN_ID = 2
/* RADIOMETRIC DATA ELEMENTS */
BANDWIDTH = 88.0
CENTER_FILTER_WAVELENGTH = 538.0
RADIANCE_OFFSET = 0.648933
RADIANCE_SCALING_FACTOR = 0.00123083
REFLECTANCE_SCALING_FACTOR = 5.19764e-05
MEX:REFLECTANCE_OFFSET = 0.0274035
/* IMAGE OBJECT DEFINITIONS */
OBJECT = IMAGE
  INTERCHANGE_FORMAT = BINARY
  LINES = 9235
  LINE_SAMPLES = 1883
  SAMPLE_TYPE = UNSIGNED_INTEGER
  SAMPLE_BITS = 8
  BANDS = 1
  BAND_STORAGE_TYPE = BAND_SEQUENTIAL
  MAXIMUM = 255
  MEAN = 129.538
  MINIMUM = 1
  STANDARD_DEVIATION = 46.5901
END_OBJECT = IMAGE
/* MAP OBJECT DEFINITIONS */
OBJECT = IMAGE_MAP_PROJECTION
  ^DATA_SET_MAP_PROJECTION_CATALOG= "DSMAP.CAT"
  A_AXIS_RADIUS = 3396.0
  B_AXIS_RADIUS = 3396.0
  C_AXIS_RADIUS = 3396.0
  CENTER_LATITUDE = 0.0
  CENTER_LONGITUDE = 122.0
  COORDINATE_SYSTEM_NAME = PLANETOGRAPHIC
  COORDINATE_SYSTEM_TYPE = "BODY-FIXED ROTATING"
  EASTERNMOST_LONGITUDE = 122.885
  FIRST_STANDARD_PARALLEL = "N/A"
  LINE_FIRST_PIXEL = 1
  LINE_LAST_PIXEL = 9235
  LINE_PROJECTION_OFFSET = 27018.625
  MAP_PROJECTION_ROTATION = 0.0
  MAP_PROJECTION_TYPE = SINUSOIDAL
  MAP_RESOLUTION = 1185.42760773333
  MAP_SCALE = 0.05
  MAXIMUM_LATITUDE = 22.8111
  MINIMUM_LATITUDE = 14.9973
  POSITIVE_LONGITUDE_DIRECTION = EAST
  REFERENCE_LATITUDE = "N/A"
  REFERENCE_LONGITUDE = "N/A"
  SAMPLE_FIRST_PIXEL = 1
  SAMPLE_LAST_PIXEL = 1883
  SAMPLE_PROJECTION_OFFSET = 858.375
  SECOND_STANDARD_PARALLEL = "N/A"
  WESTERNMOST_LONGITUDE = 121.261
END_OBJECT = IMAGE_MAP_PROJECTION
END
