PDS_VERSION_ID = PDS3
/* FILE DATA ELEMENTS */
RECORD_TYPE = UNDEFINED
/* POINTERS TO DATA OBJECTS */
^IMAGE = ("HQ129_0000_BL4.TIF")
/* IDENTIFICATION DATA ELEMENTS */
DATA_SET_ID = "MEX-M-HRSC-4-REFDR-MAPPROJECT-EXT9-V4.0"
DATA_SET_NAME = "MARS EXPRESS HRSC MAP PROJECTED REFDR EXTENSION9 V4.0"
DETECTOR_ID = MEX_HRSC_BLUE
EVENT_TYPE = "MARS-REGIONAL-MAPPING-Vo-Te-Im"
INSTRUMENT_HOST_ID = MEX
INSTRUMENT_HOST_NAME = "MARS EXPRESS"
INSTRUMENT_ID = HRSC
INSTRUMENT_NAME = "HIGH RESOLUTION STEREO CAMERA"
MISSION_NAME = "MARS EXPRESS"
MISSION_PHASE_NAME = ME_Phase_50
PROCESSING_LEVEL_ID = 4
PRODUCT_CREATION_TIME = 2025-01-29T00:31:31.000Z
PRODUCT_ID = "HQ129_0000_BL4.TIF"
RELEASE_ID = 0019
REVISION_ID = 0000
/* QUALITY DATA ELEMENTS */
DATA_QUALITY_ID = 1
DATA_QUALITY_DESC = "Data calculated based on original SPICE kernels"
/* TIME DATA ELEMENTS */
SPACECRAFT_CLOCK_START_COUNT = "1/0674223930.65093"
SPACECRAFT_CLOCK_STOP_COUNT = "1/0674224112.16297"
START_TIME = 2024-09-12T12:27:04.391Z
STOP_TIME = 2024-09-12T12:28:49.707Z
/* ORBITAL DATA ELEMENTS */
ASCENDING_NODE_LONGITUDE = 90.29
MAXIMUM_RESOLUTION = 0.0631
FOOTPRINT_POINT_LATITUDE = (15.181,15.1854,15.1897,15.194,15.1981, 15.2021,15.206,15.2084,15.2087,15.2136, 15.0142,14.8151,14.6823,14.5494,14.4166 ,14.2837,14.151,14.0182,13.8852,13.7525 ,13.5533,13.4205,13.2213,13.0885, 12.9556,12.7567,12.624,12.4913,12.3586, 12.1596,12.0269,11.8942,11.6953,11.5627 ,11.4301,11.2976,11.165,10.9661,10.7674 ,10.5687,10.3038,9.90665,9.50986, 9.24533,8.98097,8.58451,8.51848,8.51448 ,8.50649,8.50083,8.49422,8.48865,8.4831 ,8.47754,8.4772,8.47809,8.74265,9.00733 ,9.27212,9.47077,9.73564,9.93433, 10.1331,10.2656,10.3983,10.531,10.6637, 10.7963,10.9953,11.1279,11.3271,11.4599 ,11.5928,11.7256,11.8584,11.9913, 12.1242,12.257,12.3899,12.5228,12.6557, 12.7886,12.9215,13.121,13.2539,13.3869, 13.5199,13.6529,13.7859,13.9189,14.0519 ,14.1849,14.3844,14.584,14.7171,14.8501 ,14.9832,15.1162,15.1828,15.181)
FOOTPRINT_POINT_LONGITUDE = (168.535,168.324,168.109,167.891, 167.668,167.442,167.211,167.064,167.05, 167.014,167.015,167.015,167.016,167.016 ,167.016,167.017,167.017,167.017, 167.018,167.017,167.018,167.018,167.018 ,167.018,167.019,167.018,167.017, 167.017,167.017,167.016,167.016,167.016 ,167.015,167.015,167.014,167.014, 167.013,167.013,167.012,167.011,167.009 ,167.007,167.003,167.002,166.999, 166.996,166.996,166.995,167.329,167.557 ,167.822,168.041,168.256,168.468, 168.481,168.485,168.487,168.488,168.49, 168.491,168.493,168.494,168.495,168.496 ,168.497,168.497,168.498,168.499,168.5, 168.501,168.502,168.502,168.503,168.504 ,168.504,168.505,168.506,168.507, 168.507,168.508,168.509,168.51,168.51, 168.511,168.512,168.513,168.514,168.514 ,168.515,168.516,168.516,168.517, 168.518,168.519,168.52,168.521,168.521, 168.522,168.522,168.535)
ORBIT_NUMBER = 26129
ORBITAL_ECCENTRICITY = 0.572
ORBITAL_INCLINATION = 87.1
ORBITAL_SEMIMAJOR_AXIS = 8839.26
PERIAPSIS_ALTITUDE = 386.17
PERIAPSIS_ARGUMENT_ANGLE = 166.39
PERIAPSIS_TIME = 2024-09-12T12:27:22.000Z
SPACECRAFT_ORIENTATION = (0.0,-1.0,0.0)
^MEX_ORIENTATION_DESC = "MEX_ORIENTATION_DESC.TXT"
SPACECRAFT_POINTING_MODE = ACROSSTRACK
^MEX_POINTING_DESC = "MEX_POINTING_DESC.TXT"
RIGHT_ASCENSION = -1e+32
DECLINATION = -1e+32
OFFSET_ANGLE = -1.603
SPACECRAFT_SOLAR_DISTANCE = 2.21245e+08
TARGET_NAME = MARS
/* CAMERA DATA ELEMENTS */
DETECTOR_TEMPERATURE = 17.5549
FOCAL_PLANE_TEMPERATURE = 8.5833
INST_CMPRS_NAME = "DISCRETE COSINE TRANSFORMATION (DCT)"
INST_CMPRS_RATIO = 4.02104
INST_CMPRS_QUALITY = 0
INST_CMPRS_QUANTZ_TBL_ID = 0
INSTRUMENT_TEMPERATURE = 11.0301
LENS_TEMPERATURE = 9.195
MACROPIXEL_SIZE = 4
MISSING_FRAMES = 0
PIXEL_SUBSAMPLING_FLAG = N
SIGNAL_CHAIN_ID = 2
/* RADIOMETRIC DATA ELEMENTS */
BANDWIDTH = 76.0
CENTER_FILTER_WAVELENGTH = 444.0
RADIANCE_OFFSET = 0.396668
RADIANCE_SCALING_FACTOR = 0.00113972
REFLECTANCE_SCALING_FACTOR = 5.73195e-05
MEX:REFLECTANCE_OFFSET = 0.0199495
/* IMAGE OBJECT DEFINITIONS */
OBJECT = IMAGE
  INTERCHANGE_FORMAT = BINARY
  LINES = 7946
  LINE_SAMPLES = 1885
  SAMPLE_TYPE = UNSIGNED_INTEGER
  SAMPLE_BITS = 8
  BANDS = 1
  BAND_STORAGE_TYPE = BAND_SEQUENTIAL
  MAXIMUM = 254
  MEAN = 114.468
  MINIMUM = 4
  STANDARD_DEVIATION = 38.7243
END_OBJECT = IMAGE
/* MAP OBJECT DEFINITIONS */
OBJECT = IMAGE_MAP_PROJECTION
  ^DATA_SET_MAP_PROJECTION_CATALOG= "DSMAP.CAT"
  A_AXIS_RADIUS = 3396.0
  B_AXIS_RADIUS = 3396.0
  C_AXIS_RADIUS = 3396.0
  CENTER_LATITUDE = 0.0
  CENTER_LONGITUDE = 168.0
  COORDINATE_SYSTEM_NAME = PLANETOGRAPHIC
  COORDINATE_SYSTEM_TYPE = "BODY-FIXED ROTATING"
  EASTERNMOST_LONGITUDE = 168.535
  FIRST_STANDARD_PARALLEL = "N/A"
  LINE_FIRST_PIXEL = 1
  LINE_LAST_PIXEL = 7946
  LINE_PROJECTION_OFFSET = 17999.375
  MAP_PROJECTION_ROTATION = 0.0
  MAP_PROJECTION_TYPE = SINUSOIDAL
  MAP_RESOLUTION = 1185.42760773333
  MAP_SCALE = 0.05
  MAXIMUM_LATITUDE = 15.2136
  MINIMUM_LATITUDE = 8.4772
  POSITIVE_LONGITUDE_DIRECTION = EAST
  REFERENCE_LATITUDE = "N/A"
  REFERENCE_LONGITUDE = "N/A"
  SAMPLE_FIRST_PIXEL = 1
  SAMPLE_LAST_PIXEL = 1885
  SAMPLE_PROJECTION_OFFSET = 1271.625
  SECOND_STANDARD_PARALLEL = "N/A"
  WESTERNMOST_LONGITUDE = 166.995
END_OBJECT = IMAGE_MAP_PROJECTION
END
